BEGIN:VCALENDAR
VERSION:2.0
PRODID:-//Buggybuddys guide for families in Perth - ECPv6.15.11//NONSGML v1.0//EN
CALSCALE:GREGORIAN
METHOD:PUBLISH
X-WR-CALNAME:Buggybuddys guide for families in Perth
X-ORIGINAL-URL:https://buggybuddys.com.au
X-WR-CALDESC:Events for Buggybuddys guide for families in Perth
REFRESH-INTERVAL;VALUE=DURATION:PT1H
X-Robots-Tag:noindex
X-PUBLISHED-TTL:PT1H
BEGIN:VTIMEZONE
TZID:Australia/Perth
BEGIN:STANDARD
TZOFFSETFROM:+0800
TZOFFSETTO:+0800
TZNAME:AWST
DTSTART:20250101T000000
END:STANDARD
END:VTIMEZONE
BEGIN:VEVENT
DTSTART;TZID=Australia/Perth:20260408T093000
DTEND;TZID=Australia/Perth:20260408T120000
DTSTAMP:20260422T101954
CREATED:20260304T141747Z
LAST-MODIFIED:20260304T141747Z
UID:10075119-1775640600-1775649600@buggybuddys.com.au
SUMMARY:Mini-Mini-beasts
DESCRIPTION:Mini-Minibeasts Up Close! \nGet hands-on with the wonderful world of invertebrates in this interactive workshop. Meet a range of insects and arachnids\, learn about their habitats and adaptations\, and discover the important roles mini-beasts play in our ecosystems. Everyone will have the chance to safely handle fascinating creatures such as stick insects\, beetles\, caterpillars\, giant burrowing cockroaches and more. \n  \nThe workshop is suitable for children aged 2-6 years \nFor kids aged 7+ years\, please see our Mini-Beasts event at AH Bracks Library here \n  \nPlease be advised that children under the age of 13 years are to be accompanied by an adult at this activity. \nIf you are unwell or cannot attend\, please contact the library as soon as you are able to allow someone else to take your place. \nBook this event
URL:https://buggybuddys.com.au/perth-event/mini-mini-beasts/
LOCATION:Wilgi Kaartdijin Mia Willagee Library\, Winnacott Street\, Willagee\, WA\, 6156\, Australia
CATEGORIES:Festivals,Library Events,School Holiday Events,Workshop
ATTACH;FMTTYPE=image/jpeg:https://buggybuddys.com.au/wp-content/uploads/2026/03/Mini-Mini-beasts.jpg
GEO:-32.0532649;115.8055057
X-APPLE-STRUCTURED-LOCATION;VALUE=URI;X-ADDRESS=Wilgi Kaartdijin Mia Willagee Library Winnacott Street Willagee WA 6156 Australia;X-APPLE-RADIUS=500;X-TITLE=Winnacott Street:geo:115.8055057,-32.0532649
END:VEVENT
END:VCALENDAR