BEGIN:VCALENDAR
VERSION:2.0
PRODID:-//Buggybuddys guide for families in Perth - ECPv6.15.11//NONSGML v1.0//EN
CALSCALE:GREGORIAN
METHOD:PUBLISH
X-WR-CALNAME:Buggybuddys guide for families in Perth
X-ORIGINAL-URL:https://buggybuddys.com.au
X-WR-CALDESC:Events for Buggybuddys guide for families in Perth
REFRESH-INTERVAL;VALUE=DURATION:PT1H
X-Robots-Tag:noindex
X-PUBLISHED-TTL:PT1H
BEGIN:VTIMEZONE
TZID:Australia/Perth
BEGIN:STANDARD
TZOFFSETFROM:+0800
TZOFFSETTO:+0800
TZNAME:AWST
DTSTART:20240101T000000
END:STANDARD
END:VTIMEZONE
BEGIN:VEVENT
DTSTART;VALUE=DATE:20260406
DTEND;VALUE=DATE:20260407
DTSTAMP:20260423T215512
CREATED:20260305T050559Z
LAST-MODIFIED:20260305T050559Z
UID:10075125-1775433600-1775519999@buggybuddys.com.au
SUMMARY:The Kids Big Carnival
DESCRIPTION:Kids Big Carnival is back these school holidays with unlimited rides and family entertainment all included in one ticket price. \nRunning from 3rd to 6th April at Wanneroo Showgrounds\, this exciting event features smaller capped 2 hour sessions designed to reduce queues and create a safer\, more enjoyable atmosphere. Families can experience more ride time and less waiting. \nWith entertainment\, showbags and carnival favourites\, it is the perfect day out for children! \nkidsbigcarnival.com.au \nwww.facebook.com/kidsbigcarnival
URL:https://buggybuddys.com.au/perth-event/the-kids-big-carnival/2026-04-06/
LOCATION:Wanneroo Showgrounds\, Ariti Avenue\, Wanneroo\, WA\, 6065\, Australia
CATEGORIES:Easter,Fair,School Holiday Events
ATTACH;FMTTYPE=image/jpeg:https://buggybuddys.com.au/wp-content/uploads/2026/03/KBC-EventListing.jpg
GEO:-31.7460273;115.8225997
X-APPLE-STRUCTURED-LOCATION;VALUE=URI;X-ADDRESS=Wanneroo Showgrounds Ariti Avenue Wanneroo WA 6065 Australia;X-APPLE-RADIUS=500;X-TITLE=Ariti Avenue:geo:115.8225997,-31.7460273
END:VEVENT
BEGIN:VEVENT
DTSTART;VALUE=DATE:20260405
DTEND;VALUE=DATE:20260406
DTSTAMP:20260423T215512
CREATED:20260305T050559Z
LAST-MODIFIED:20260305T050559Z
UID:10075124-1775347200-1775433599@buggybuddys.com.au
SUMMARY:The Kids Big Carnival
DESCRIPTION:Kids Big Carnival is back these school holidays with unlimited rides and family entertainment all included in one ticket price. \nRunning from 3rd to 6th April at Wanneroo Showgrounds\, this exciting event features smaller capped 2 hour sessions designed to reduce queues and create a safer\, more enjoyable atmosphere. Families can experience more ride time and less waiting. \nWith entertainment\, showbags and carnival favourites\, it is the perfect day out for children! \nkidsbigcarnival.com.au \nwww.facebook.com/kidsbigcarnival
URL:https://buggybuddys.com.au/perth-event/the-kids-big-carnival/2026-04-05/
LOCATION:Wanneroo Showgrounds\, Ariti Avenue\, Wanneroo\, WA\, 6065\, Australia
CATEGORIES:Easter,Fair,School Holiday Events
ATTACH;FMTTYPE=image/jpeg:https://buggybuddys.com.au/wp-content/uploads/2026/03/KBC-EventListing.jpg
GEO:-31.7460273;115.8225997
X-APPLE-STRUCTURED-LOCATION;VALUE=URI;X-ADDRESS=Wanneroo Showgrounds Ariti Avenue Wanneroo WA 6065 Australia;X-APPLE-RADIUS=500;X-TITLE=Ariti Avenue:geo:115.8225997,-31.7460273
END:VEVENT
BEGIN:VEVENT
DTSTART;VALUE=DATE:20260404
DTEND;VALUE=DATE:20260405
DTSTAMP:20260423T215512
CREATED:20260305T050559Z
LAST-MODIFIED:20260305T050559Z
UID:10075123-1775260800-1775347199@buggybuddys.com.au
SUMMARY:The Kids Big Carnival
DESCRIPTION:Kids Big Carnival is back these school holidays with unlimited rides and family entertainment all included in one ticket price. \nRunning from 3rd to 6th April at Wanneroo Showgrounds\, this exciting event features smaller capped 2 hour sessions designed to reduce queues and create a safer\, more enjoyable atmosphere. Families can experience more ride time and less waiting. \nWith entertainment\, showbags and carnival favourites\, it is the perfect day out for children! \nkidsbigcarnival.com.au \nwww.facebook.com/kidsbigcarnival
URL:https://buggybuddys.com.au/perth-event/the-kids-big-carnival/2026-04-04/
LOCATION:Wanneroo Showgrounds\, Ariti Avenue\, Wanneroo\, WA\, 6065\, Australia
CATEGORIES:Easter,Fair,School Holiday Events
ATTACH;FMTTYPE=image/jpeg:https://buggybuddys.com.au/wp-content/uploads/2026/03/KBC-EventListing.jpg
GEO:-31.7460273;115.8225997
X-APPLE-STRUCTURED-LOCATION;VALUE=URI;X-ADDRESS=Wanneroo Showgrounds Ariti Avenue Wanneroo WA 6065 Australia;X-APPLE-RADIUS=500;X-TITLE=Ariti Avenue:geo:115.8225997,-31.7460273
END:VEVENT
BEGIN:VEVENT
DTSTART;VALUE=DATE:20260403
DTEND;VALUE=DATE:20260404
DTSTAMP:20260423T215512
CREATED:20260305T050559Z
LAST-MODIFIED:20260305T050559Z
UID:10075122-1775174400-1775260799@buggybuddys.com.au
SUMMARY:The Kids Big Carnival
DESCRIPTION:Kids Big Carnival is back these school holidays with unlimited rides and family entertainment all included in one ticket price. \nRunning from 3rd to 6th April at Wanneroo Showgrounds\, this exciting event features smaller capped 2 hour sessions designed to reduce queues and create a safer\, more enjoyable atmosphere. Families can experience more ride time and less waiting. \nWith entertainment\, showbags and carnival favourites\, it is the perfect day out for children! \nkidsbigcarnival.com.au \nwww.facebook.com/kidsbigcarnival
URL:https://buggybuddys.com.au/perth-event/the-kids-big-carnival/2026-04-03/
LOCATION:Wanneroo Showgrounds\, Ariti Avenue\, Wanneroo\, WA\, 6065\, Australia
CATEGORIES:Easter,Fair,School Holiday Events
ATTACH;FMTTYPE=image/jpeg:https://buggybuddys.com.au/wp-content/uploads/2026/03/KBC-EventListing.jpg
GEO:-31.7460273;115.8225997
X-APPLE-STRUCTURED-LOCATION;VALUE=URI;X-ADDRESS=Wanneroo Showgrounds Ariti Avenue Wanneroo WA 6065 Australia;X-APPLE-RADIUS=500;X-TITLE=Ariti Avenue:geo:115.8225997,-31.7460273
END:VEVENT
BEGIN:VEVENT
DTSTART;TZID=Australia/Perth:20260207T170000
DTEND;TZID=Australia/Perth:20260207T210000
DTSTAMP:20260423T215512
CREATED:20260117T140843Z
LAST-MODIFIED:20260117T140843Z
UID:10072903-1770483600-1770498000@buggybuddys.com.au
SUMMARY:Wanneroo Festival
DESCRIPTION:Celebrate culture with food\, music\, rides and a dazzling drone show. \n\n  \nWanneroo Festival brings the world to Wanneroo! Enjoy food\, art and performances from diverse cultures\, plus exciting carnival rides\, games for all ages and a spectacular drone display after dark not to be missed. \nTo stay informed of all the latest updates and any event changes\, follow this event on our Facebook page.
URL:https://buggybuddys.com.au/perth-event/wanneroo-festival/
LOCATION:Wanneroo Showgrounds\, Ariti Avenue\, Wanneroo\, WA\, 6065\, Australia
CATEGORIES:Community Event,Family Event,Festivals,Free
ATTACH;FMTTYPE=image/png:https://buggybuddys.com.au/wp-content/uploads/2026/01/Wanneroo-Festival.png
GEO:-31.7460273;115.8225997
X-APPLE-STRUCTURED-LOCATION;VALUE=URI;X-ADDRESS=Wanneroo Showgrounds Ariti Avenue Wanneroo WA 6065 Australia;X-APPLE-RADIUS=500;X-TITLE=Ariti Avenue:geo:115.8225997,-31.7460273
END:VEVENT
BEGIN:VEVENT
DTSTART;TZID=Australia/Perth:20251221T060000
DTEND;TZID=Australia/Perth:20251221T110000
DTSTAMP:20260423T215512
CREATED:20250131T054416Z
LAST-MODIFIED:20250131T054416Z
UID:10059280-1766296800-1766314800@buggybuddys.com.au
SUMMARY:Wanneroo Swapmeet
DESCRIPTION:A second hand\, craft\, micro and small business market stall event.Proudly supported by Wanneroo Business Association. \nWanneroo Swapmeet at Wannerroo Showgrounds is the place to be on Sunday mornings from 6 am – 11am. \n\nWe have heaps of space for sellers\, not just the width of your car boot in our open air swapmeet. \n\nLike the Facebook page for regular updates. \n\nBargains galore\, hot coffee\, ice-cream and sausage sizzle\, something for the whole family whilst you stroll in the fresh air.\n 
URL:https://buggybuddys.com.au/perth-event/wanneroo-swapmeet/2025-12-21/
LOCATION:Wanneroo Showgrounds\, Ariti Avenue\, Wanneroo\, WA\, 6065\, Australia
CATEGORIES:Club,Craft,Markets,Swap Meet
ATTACH;FMTTYPE=image/png:https://buggybuddys.com.au/wp-content/uploads/2025/01/Wanneroo-Swapmeet.png
GEO:-31.7460273;115.8225997
X-APPLE-STRUCTURED-LOCATION;VALUE=URI;X-ADDRESS=Wanneroo Showgrounds Ariti Avenue Wanneroo WA 6065 Australia;X-APPLE-RADIUS=500;X-TITLE=Ariti Avenue:geo:115.8225997,-31.7460273
END:VEVENT
END:VCALENDAR