BEGIN:VCALENDAR
VERSION:2.0
PRODID:-//Buggybuddys guide for families in Perth - ECPv6.15.11//NONSGML v1.0//EN
CALSCALE:GREGORIAN
METHOD:PUBLISH
X-WR-CALNAME:Buggybuddys guide for families in Perth
X-ORIGINAL-URL:https://buggybuddys.com.au
X-WR-CALDESC:Events for Buggybuddys guide for families in Perth
REFRESH-INTERVAL;VALUE=DURATION:PT1H
X-Robots-Tag:noindex
X-PUBLISHED-TTL:PT1H
BEGIN:VTIMEZONE
TZID:Australia/Perth
BEGIN:STANDARD
TZOFFSETFROM:+0800
TZOFFSETTO:+0800
TZNAME:AWST
DTSTART:20250101T000000
END:STANDARD
END:VTIMEZONE
BEGIN:VEVENT
DTSTART;TZID=Australia/Perth:20260321T093000
DTEND;TZID=Australia/Perth:20260321T113000
DTSTAMP:20260426T101253
CREATED:20260311T133706Z
LAST-MODIFIED:20260311T133706Z
UID:10075221-1774085400-1774092600@buggybuddys.com.au
SUMMARY:DIY Olla Making Workshop
DESCRIPTION:A relaxed\, hands-on workshop in our beautiful garden. \nCome join us to learn all about ollas. \nOllas are a simple\, water-wise irrigation method used since ancient times. \nMake your own olla to take home. \nSuitable for beginners\, with all materials provided.  \nCost: $10 ($5 for VPCG members) \n 
URL:https://buggybuddys.com.au/perth-event/diy-olla-making-workshop/
LOCATION:Victoria Park Community Garden\, Read Park\, 484 Albany Hwy\, Victoria Park\, WA\, 6100\, Australia
CATEGORIES:Craft,Workshop
ATTACH;FMTTYPE=image/jpeg:https://buggybuddys.com.au/wp-content/uploads/2026/03/DIY-Olla-Making-Workshop.jpg
END:VEVENT
END:VCALENDAR