BEGIN:VCALENDAR
VERSION:2.0
PRODID:-//Buggybuddys guide for families in Perth - ECPv6.15.11//NONSGML v1.0//EN
CALSCALE:GREGORIAN
METHOD:PUBLISH
X-ORIGINAL-URL:https://buggybuddys.com.au
X-WR-CALDESC:Events for Buggybuddys guide for families in Perth
REFRESH-INTERVAL;VALUE=DURATION:PT1H
X-Robots-Tag:noindex
X-PUBLISHED-TTL:PT1H
BEGIN:VTIMEZONE
TZID:Australia/Perth
BEGIN:STANDARD
TZOFFSETFROM:+0800
TZOFFSETTO:+0800
TZNAME:AWST
DTSTART:20240101T000000
END:STANDARD
END:VTIMEZONE
BEGIN:VEVENT
DTSTART;TZID=Australia/Perth:20251219T173000
DTEND;TZID=Australia/Perth:20251219T213000
DTSTAMP:20260422T135017
CREATED:20251206T135938Z
LAST-MODIFIED:20251206T140101Z
UID:10068481-1766165400-1766179800@buggybuddys.com.au
SUMMARY:Bah-humbug!
DESCRIPTION:Join Integrity Initiative for a heartwarming (and slightly grouchy) evening that celebrates the real side of the holidays… that is the messy\, meaningful\, and human parts we don’t always talk about.You can expect: \n\nA pay-what-you-feel sausage sizzle and festive networking.\nA panel discussion with Rahul Seth\, Kieran Silvie\, Alessia Maio and Zoe Diakoloukas.\nA screening of the 2018 animated film The Grinch.\nGrouchy craft stations to make your own DIY Christmas gifts.\nYour chance to write a letter to the mean green one (to be delivered back to you via email on Christmas Day).\nGive and receive meaningful gifts through our community Grouchy Gifts Station.\n\n  \n\n\n\n\n\nRegister now
URL:https://buggybuddys.com.au/perth-event/bah-humbug/
LOCATION:Vic Park Community Centre\, 248 Gloucester Street\, East Victoria Park\, WA\, 6101\, Australia
CATEGORIES:Christmas,Community Event,Movies
END:VEVENT
END:VCALENDAR