BEGIN:VCALENDAR
VERSION:2.0
PRODID:-//Buggybuddys guide for families in Perth - ECPv6.15.11//NONSGML v1.0//EN
CALSCALE:GREGORIAN
METHOD:PUBLISH
X-WR-CALNAME:Buggybuddys guide for families in Perth
X-ORIGINAL-URL:https://buggybuddys.com.au
X-WR-CALDESC:Events for Buggybuddys guide for families in Perth
REFRESH-INTERVAL;VALUE=DURATION:PT1H
X-Robots-Tag:noindex
X-PUBLISHED-TTL:PT1H
BEGIN:VTIMEZONE
TZID:Australia/Perth
BEGIN:STANDARD
TZOFFSETFROM:+0800
TZOFFSETTO:+0800
TZNAME:AWST
DTSTART:20250101T000000
END:STANDARD
END:VTIMEZONE
BEGIN:VEVENT
DTSTART;TZID=Australia/Perth:20260119T120000
DTEND;TZID=Australia/Perth:20260119T160000
DTSTAMP:20260426T094654
CREATED:20260102T074102Z
LAST-MODIFIED:20260102T074102Z
UID:10070710-1768824000-1768838400@buggybuddys.com.au
SUMMARY:Sunny's Kid Day Out!
DESCRIPTION:Sunny’s Kids Day Out: Three Mondays of fun this January! Free family event with activities\, characters & play on the Tuart Estate lawn!
URL:https://buggybuddys.com.au/perth-event/sunnys-kid-day-out-3/
LOCATION:Tuart Estate\, 102 Marmion Avenue\, Karrinyup\, WA\, 6018\, Australia
CATEGORIES:Free
ATTACH;FMTTYPE=image/jpeg:https://buggybuddys.com.au/wp-content/uploads/2026/01/2dc8cb1cd6b0aa57b6320432c61a0ff3.jpg
END:VEVENT
BEGIN:VEVENT
DTSTART;TZID=Australia/Perth:20260112T120000
DTEND;TZID=Australia/Perth:20260112T160000
DTSTAMP:20260426T094654
CREATED:20260102T074101Z
LAST-MODIFIED:20260102T074101Z
UID:10070709-1768219200-1768233600@buggybuddys.com.au
SUMMARY:Sunny's Kid Day Out!
DESCRIPTION:Sunny’s Kids Day Out: Three Mondays of fun this January! Free family event with activities\, characters & play on the Tuart Estate lawn!
URL:https://buggybuddys.com.au/perth-event/sunnys-kid-day-out-2/
LOCATION:Tuart Estate\, 102 Marmion Avenue\, Karrinyup\, WA\, 6018\, Australia
CATEGORIES:Free
ATTACH;FMTTYPE=image/jpeg:https://buggybuddys.com.au/wp-content/uploads/2026/01/2dc8cb1cd6b0aa57b6320432c61a0ff3.jpg
END:VEVENT
BEGIN:VEVENT
DTSTART;TZID=Australia/Perth:20260105T120000
DTEND;TZID=Australia/Perth:20260105T160000
DTSTAMP:20260426T094654
CREATED:20260102T074057Z
LAST-MODIFIED:20260102T074057Z
UID:10070708-1767614400-1767628800@buggybuddys.com.au
SUMMARY:Sunny's Kid Day Out!
DESCRIPTION:Sunny’s Kids Day Out: Three Mondays of fun this January! Free family event with activities\, characters & play on the Tuart Estate lawn!
URL:https://buggybuddys.com.au/perth-event/sunnys-kid-day-out/
LOCATION:Tuart Estate\, 102 Marmion Avenue\, Karrinyup\, WA\, 6018\, Australia
CATEGORIES:Free
ATTACH;FMTTYPE=image/jpeg:https://buggybuddys.com.au/wp-content/uploads/2026/01/2dc8cb1cd6b0aa57b6320432c61a0ff3.jpg
END:VEVENT
END:VCALENDAR