BEGIN:VCALENDAR
VERSION:2.0
PRODID:-//Buggybuddys guide for families in Perth - ECPv6.15.11//NONSGML v1.0//EN
CALSCALE:GREGORIAN
METHOD:PUBLISH
X-ORIGINAL-URL:https://buggybuddys.com.au
X-WR-CALDESC:Events for Buggybuddys guide for families in Perth
REFRESH-INTERVAL;VALUE=DURATION:PT1H
X-Robots-Tag:noindex
X-PUBLISHED-TTL:PT1H
BEGIN:VTIMEZONE
TZID:Australia/Perth
BEGIN:STANDARD
TZOFFSETFROM:+0800
TZOFFSETTO:+0800
TZNAME:AWST
DTSTART:20240101T000000
END:STANDARD
END:VTIMEZONE
BEGIN:VEVENT
DTSTART;TZID=Australia/Perth:20251225T113000
DTEND;TZID=Australia/Perth:20251225T143000
DTSTAMP:20260421T142357
CREATED:20250907T114914Z
LAST-MODIFIED:20250907T114914Z
UID:10065507-1766662200-1766673000@buggybuddys.com.au
SUMMARY:Christmas Day Lunch at The Vines Resort
DESCRIPTION:Leave the cooking to us this Christmas and spend quality time with family and friends over lunch at the resort!  \nIndulge with a delicious six course lunch on Christmas Day with a three hour free flowing premium beverage package including wine\, selected tap beers and soft drinks. \nAdults $255pp | Teens 13-17 yrs $185pp | Kids 4-12 yrs $99 | 3 and under are free \nClick here to view the menu \nPlease note tables are min 8 pax to max 10 pax. Bookings with fewer than 8 guests will be seated at a shared table. \nBookings are essential – phone our events team on 9297 3000 or email events@vines.com.au  \n*Fully pre paid and non refundable. No further discounts apply
URL:https://buggybuddys.com.au/perth-event/christmas-day-lunch-at-the-vines-resort/
LOCATION:The Vines Resort and Country Club\, 51 Verdelho Drive\, The Vines\, WA\, Australia
CATEGORIES:Christmas
ATTACH;FMTTYPE=image/jpeg:https://buggybuddys.com.au/wp-content/uploads/2025/09/Christmas-Day-Lunch-at-The-Vines-Resort.jpg
GEO:-31.7638773;116.0074244
X-APPLE-STRUCTURED-LOCATION;VALUE=URI;X-ADDRESS=The Vines Resort and Country Club 51 Verdelho Drive The Vines WA Australia;X-APPLE-RADIUS=500;X-TITLE=51 Verdelho Drive:geo:116.0074244,-31.7638773
END:VEVENT
END:VCALENDAR