BEGIN:VCALENDAR
VERSION:2.0
PRODID:-//Buggybuddys guide for families in Perth - ECPv6.15.11//NONSGML v1.0//EN
CALSCALE:GREGORIAN
METHOD:PUBLISH
X-WR-CALNAME:Buggybuddys guide for families in Perth
X-ORIGINAL-URL:https://buggybuddys.com.au
X-WR-CALDESC:Events for Buggybuddys guide for families in Perth
REFRESH-INTERVAL;VALUE=DURATION:PT1H
X-Robots-Tag:noindex
X-PUBLISHED-TTL:PT1H
BEGIN:VTIMEZONE
TZID:Australia/Perth
BEGIN:STANDARD
TZOFFSETFROM:+0800
TZOFFSETTO:+0800
TZNAME:AWST
DTSTART:20250101T000000
END:STANDARD
END:VTIMEZONE
BEGIN:VEVENT
DTSTART;TZID=Australia/Perth:20260510T113000
DTEND;TZID=Australia/Perth:20260510T150000
DTSTAMP:20260425T214537
CREATED:20260422T115151Z
LAST-MODIFIED:20260422T115151Z
UID:10077732-1778412600-1778425200@buggybuddys.com.au
SUMMARY:Mother's Day Buffet Luncheon at The Maali
DESCRIPTION:Celebrate Mother’s Day with a buffet selection of flavour\, finesse\, and a touch of indulgence at The Maali at Perth Zoo!\n\n\nAbout this event \nCelebrate Mother’s Day with a buffet selection of flavour\, finesse\, and a touch of indulgence at The Maali at Perth Zoo! Enjoy a carefully crafted buffet menu\, selection of non-alcoholic beverages and a complimentary glass of bubbles on arrival for Mum. \n \nEntry to The Maali will be available from 11:30am through the glass sliding door entrance located directly across the road from Richardson Reserve carpark. \nBuffet service to commence 12:00pm | Buffet service to conclude 2:00pm \nEvent to conclude 3:00pm \n \nAdult Tickets (10+): $120 inc. GST \nChildren’s Ticket (4 – 10 years): $65 inc. GST \nUnder 4 Years: Free \n \nZoo Members: 10% discount \nIf you are a Perth Zoo member\, please use your unique code delivered by email direct from Perth Zoo to access special ticket prices. Perth Zoo members please ensure you input your unique member code when purchasing tickets. Special ticket prices are available at the time of checkout only. All ticket sales are final and non-refundable. \n \nEntry to Perth Zoo is free for mums on Mother’s Day\, should you wish to gain entry to Perth Zoo following the event please make your way to the zoo main gates to purchase entry tickets. Mother’s Day Buffet tickets does not include access to Perth Zoo. \n \nMENU \nTo Start \nRosemary focaccia\, squid ink grissini & sourdough crostini with whipped feta\, preserved lemon hummus & burnt onion labneh \nCharcuterie & artisan cheese boards featuring truffle honey\, smoked tomato relish\, candied walnuts\, grainy mustard & WA bush honeycomb \nGrilled Mediterranean vegetables\, beetroot carpaccio & house-pickled condiments \nCharred pear\, rocket & blue cheese salad toasted hazelnuts\, aged balsamic pearls\, roasted shallot petals \nClassic Caesar salad\, crisp baby gem\, pancetta shards\, parmesan snow & black garlic Caesar dressing \n \nSignature Mains & Seasonal Sides \nSauteed Mount Barker chicken breast with wild mushroom & fennel cream sauce \nSeared Beef skewers with Za’atar spices & saffron yogurt \nWhole roasted sides of salmon with preserved lemon beurre blanc & charred lemon \nTraditional baked lasagne with crispy parmesan & basil topping \nHerbed Royal blue potatoes rosemary ash & garlic chips \nCreamed pumpkin polenta with chard\, nutmeg & toasted walnuts \nRoasted heirloom carrots with orange blossom honey & carrot-top gremolata \nSteamed greens with spiced sea salt & extra virgin olive oil \n \nSweet Things \nTraditional baked Biscoff cheesecake\, served clotted cream & sugared red currants \nVanilla panna cotta with caramel & shortbread crunch \nFresh sliced fruits and honey pressed yoghurt \nSelection of flavoured lamingtons \nPavlova bar ; Build-your-own with tropical fruit\, lemon curd\, elderflower whipped cream & candied macadamia \n \nBeverage List \nFresh juice\, soft drinks\, still & sparkling water \nCoffee & teas on request \n \nAlcoholic Beverages Available to be Purchased from the Bar \nSommeliers selection of fine wines \nSparkling\, white\, rose and red wines \nSelection of non-alcoholic wines \nSelection of local beers and ciders including no alcohol beers
URL:https://buggybuddys.com.au/perth-event/mothers-day-buffet-luncheon-at-the-maali/
LOCATION:The Maali\, 16 Labouchere Road\, South Perth\, WA\, 6151\, Australia
CATEGORIES:Mother's Day
ATTACH;FMTTYPE=image/jpeg:https://buggybuddys.com.au/wp-content/uploads/2025/11/dab5effc6d1897265ac6f16078fc478b.jpg
END:VEVENT
END:VCALENDAR