BEGIN:VCALENDAR
VERSION:2.0
PRODID:-//Buggybuddys guide for families in Perth - ECPv6.15.11//NONSGML v1.0//EN
CALSCALE:GREGORIAN
METHOD:PUBLISH
X-WR-CALNAME:Buggybuddys guide for families in Perth
X-ORIGINAL-URL:https://buggybuddys.com.au
X-WR-CALDESC:Events for Buggybuddys guide for families in Perth
REFRESH-INTERVAL;VALUE=DURATION:PT1H
X-Robots-Tag:noindex
X-PUBLISHED-TTL:PT1H
BEGIN:VTIMEZONE
TZID:Australia/Perth
BEGIN:STANDARD
TZOFFSETFROM:+0800
TZOFFSETTO:+0800
TZNAME:AWST
DTSTART:20250101T000000
END:STANDARD
END:VTIMEZONE
BEGIN:VEVENT
DTSTART;TZID=Australia/Perth:20260418T133000
DTEND;TZID=Australia/Perth:20260418T153000
DTSTAMP:20260424T060933
CREATED:20260401T143254Z
LAST-MODIFIED:20260401T143254Z
UID:10076117-1776519000-1776526200@buggybuddys.com.au
SUMMARY:Make New & Mend Craft Group
DESCRIPTION:Make New & Mend  meets Sat 1:30-3:30pm\, Grove Library. Drop in any time to learn or share crochet\, knitting\, sewing. Inclusive & welcoming.
URL:https://buggybuddys.com.au/perth-event/make-new-mend-craft-group-3/
LOCATION:The Grove Library\, 1 Leake Street\, Peppermint Grove\, WA\, 6011\, Australia
CATEGORIES:Business and Workshops
END:VEVENT
BEGIN:VEVENT
DTSTART;TZID=Australia/Perth:20260411T133000
DTEND;TZID=Australia/Perth:20260411T153000
DTSTAMP:20260424T060933
CREATED:20260401T143253Z
LAST-MODIFIED:20260401T143253Z
UID:10076116-1775914200-1775921400@buggybuddys.com.au
SUMMARY:Make New & Mend Craft Group
DESCRIPTION:Make New & Mend  meets Sat 1:30-3:30pm\, Grove Library. Drop in any time to learn or share crochet\, knitting\, sewing. Inclusive & welcoming.
URL:https://buggybuddys.com.au/perth-event/make-new-mend-craft-group-2/
LOCATION:The Grove Library\, 1 Leake Street\, Peppermint Grove\, WA\, 6011\, Australia
CATEGORIES:Business and Workshops
END:VEVENT
BEGIN:VEVENT
DTSTART;TZID=Australia/Perth:20260404T133000
DTEND;TZID=Australia/Perth:20260404T153000
DTSTAMP:20260424T060933
CREATED:20260401T143253Z
LAST-MODIFIED:20260401T143253Z
UID:10076115-1775309400-1775316600@buggybuddys.com.au
SUMMARY:Make New & Mend Craft Group
DESCRIPTION:Make New & Mend  meets Sat 1:30-3:30pm\, Grove Library. Drop in any time to learn or share crochet\, knitting\, sewing. Inclusive & welcoming.
URL:https://buggybuddys.com.au/perth-event/make-new-mend-craft-group/
LOCATION:The Grove Library\, 1 Leake Street\, Peppermint Grove\, WA\, 6011\, Australia
CATEGORIES:Business and Workshops
END:VEVENT
END:VCALENDAR