BEGIN:VCALENDAR
VERSION:2.0
PRODID:-//Buggybuddys guide for families in Perth - ECPv6.15.11//NONSGML v1.0//EN
CALSCALE:GREGORIAN
METHOD:PUBLISH
X-ORIGINAL-URL:https://buggybuddys.com.au
X-WR-CALDESC:Events for Buggybuddys guide for families in Perth
REFRESH-INTERVAL;VALUE=DURATION:PT1H
X-Robots-Tag:noindex
X-PUBLISHED-TTL:PT1H
BEGIN:VTIMEZONE
TZID:Australia/Perth
BEGIN:STANDARD
TZOFFSETFROM:+0800
TZOFFSETTO:+0800
TZNAME:AWST
DTSTART:20250101T000000
END:STANDARD
END:VTIMEZONE
BEGIN:VEVENT
DTSTART;TZID=Australia/Perth:20261119T093000
DTEND;TZID=Australia/Perth:20261119T103000
DTSTAMP:20260422T051449
CREATED:20260417T042559Z
LAST-MODIFIED:20260417T042559Z
UID:10077274-1795080600-1795084200@buggybuddys.com.au
SUMMARY:Story Time | Fremantle Library
DESCRIPTION:Story Time is aimed at children aged two to four years. Celebrate the joy of language\, books and libraries while helping your child to develop their interest in reading and learning. \nJoin fun\, interactive sessions of stories\, songs and nursery rhymes. \nNo bookings required. Every Thursday | During school term
URL:https://buggybuddys.com.au/perth-event/story-time-fremantle-library/2026-11-19/
LOCATION:The Fremantle Library at Walyalup Civic Centre\, 151 High St\, Fremantle WA 6160\, Fremantle\, WA\, 6160\, Australia
CATEGORIES:Free,Kids Term Activities,Library Events
ATTACH;FMTTYPE=image/jpeg:https://buggybuddys.com.au/wp-content/uploads/2026/04/Story-Time-Fremantle-Library.jpg
END:VEVENT
BEGIN:VEVENT
DTSTART;TZID=Australia/Perth:20261120T093000
DTEND;TZID=Australia/Perth:20261120T113000
DTSTAMP:20260422T051449
CREATED:20260417T040920Z
LAST-MODIFIED:20260417T040920Z
UID:10077240-1795167000-1795174200@buggybuddys.com.au
SUMMARY:Buster | Fridays
DESCRIPTION:Join our Buster program every Friday of the school term in the courtyard at the Fremantle Library. \nOur program: \n\ncaters for ages 0-5\noffers a multi-sensory\, hands-on\, active and child-centred program\noffers creative and fun opportunities for families to learn and play together\nincorporates the five key areas of development and the childhood principles of Belong\, Being and Become!\n\nEvery Friday during school term | 9.30–11.30am | Free
URL:https://buggybuddys.com.au/perth-event/buster-fridays-2/2026-11-20/
LOCATION:The Fremantle Library at Walyalup Civic Centre\, 151 High St\, Fremantle WA 6160\, Fremantle\, WA\, 6160\, Australia
CATEGORIES:Free,Kids Term Activities,Library Events
ATTACH;FMTTYPE=image/jpeg:https://buggybuddys.com.au/wp-content/uploads/2026/04/Buster-Fridays.jpg
END:VEVENT
BEGIN:VEVENT
DTSTART;TZID=Australia/Perth:20261126T093000
DTEND;TZID=Australia/Perth:20261126T103000
DTSTAMP:20260422T051449
CREATED:20260417T042559Z
LAST-MODIFIED:20260417T042559Z
UID:10077275-1795685400-1795689000@buggybuddys.com.au
SUMMARY:Story Time | Fremantle Library
DESCRIPTION:Story Time is aimed at children aged two to four years. Celebrate the joy of language\, books and libraries while helping your child to develop their interest in reading and learning. \nJoin fun\, interactive sessions of stories\, songs and nursery rhymes. \nNo bookings required. Every Thursday | During school term
URL:https://buggybuddys.com.au/perth-event/story-time-fremantle-library/2026-11-26/
LOCATION:The Fremantle Library at Walyalup Civic Centre\, 151 High St\, Fremantle WA 6160\, Fremantle\, WA\, 6160\, Australia
CATEGORIES:Free,Kids Term Activities,Library Events
ATTACH;FMTTYPE=image/jpeg:https://buggybuddys.com.au/wp-content/uploads/2026/04/Story-Time-Fremantle-Library.jpg
END:VEVENT
BEGIN:VEVENT
DTSTART;TZID=Australia/Perth:20261127T093000
DTEND;TZID=Australia/Perth:20261127T113000
DTSTAMP:20260422T051449
CREATED:20260417T040920Z
LAST-MODIFIED:20260417T040920Z
UID:10077241-1795771800-1795779000@buggybuddys.com.au
SUMMARY:Buster | Fridays
DESCRIPTION:Join our Buster program every Friday of the school term in the courtyard at the Fremantle Library. \nOur program: \n\ncaters for ages 0-5\noffers a multi-sensory\, hands-on\, active and child-centred program\noffers creative and fun opportunities for families to learn and play together\nincorporates the five key areas of development and the childhood principles of Belong\, Being and Become!\n\nEvery Friday during school term | 9.30–11.30am | Free
URL:https://buggybuddys.com.au/perth-event/buster-fridays-2/2026-11-27/
LOCATION:The Fremantle Library at Walyalup Civic Centre\, 151 High St\, Fremantle WA 6160\, Fremantle\, WA\, 6160\, Australia
CATEGORIES:Free,Kids Term Activities,Library Events
ATTACH;FMTTYPE=image/jpeg:https://buggybuddys.com.au/wp-content/uploads/2026/04/Buster-Fridays.jpg
END:VEVENT
BEGIN:VEVENT
DTSTART;TZID=Australia/Perth:20261203T093000
DTEND;TZID=Australia/Perth:20261203T103000
DTSTAMP:20260422T051449
CREATED:20260417T042559Z
LAST-MODIFIED:20260417T042559Z
UID:10077276-1796290200-1796293800@buggybuddys.com.au
SUMMARY:Story Time | Fremantle Library
DESCRIPTION:Story Time is aimed at children aged two to four years. Celebrate the joy of language\, books and libraries while helping your child to develop their interest in reading and learning. \nJoin fun\, interactive sessions of stories\, songs and nursery rhymes. \nNo bookings required. Every Thursday | During school term
URL:https://buggybuddys.com.au/perth-event/story-time-fremantle-library/2026-12-03/
LOCATION:The Fremantle Library at Walyalup Civic Centre\, 151 High St\, Fremantle WA 6160\, Fremantle\, WA\, 6160\, Australia
CATEGORIES:Free,Kids Term Activities,Library Events
ATTACH;FMTTYPE=image/jpeg:https://buggybuddys.com.au/wp-content/uploads/2026/04/Story-Time-Fremantle-Library.jpg
END:VEVENT
BEGIN:VEVENT
DTSTART;TZID=Australia/Perth:20261204T093000
DTEND;TZID=Australia/Perth:20261204T113000
DTSTAMP:20260422T051449
CREATED:20260417T040920Z
LAST-MODIFIED:20260417T040920Z
UID:10077242-1796376600-1796383800@buggybuddys.com.au
SUMMARY:Buster | Fridays
DESCRIPTION:Join our Buster program every Friday of the school term in the courtyard at the Fremantle Library. \nOur program: \n\ncaters for ages 0-5\noffers a multi-sensory\, hands-on\, active and child-centred program\noffers creative and fun opportunities for families to learn and play together\nincorporates the five key areas of development and the childhood principles of Belong\, Being and Become!\n\nEvery Friday during school term | 9.30–11.30am | Free
URL:https://buggybuddys.com.au/perth-event/buster-fridays-2/2026-12-04/
LOCATION:The Fremantle Library at Walyalup Civic Centre\, 151 High St\, Fremantle WA 6160\, Fremantle\, WA\, 6160\, Australia
CATEGORIES:Free,Kids Term Activities,Library Events
ATTACH;FMTTYPE=image/jpeg:https://buggybuddys.com.au/wp-content/uploads/2026/04/Buster-Fridays.jpg
END:VEVENT
BEGIN:VEVENT
DTSTART;TZID=Australia/Perth:20261210T093000
DTEND;TZID=Australia/Perth:20261210T103000
DTSTAMP:20260422T051449
CREATED:20260417T042559Z
LAST-MODIFIED:20260417T042559Z
UID:10077277-1796895000-1796898600@buggybuddys.com.au
SUMMARY:Story Time | Fremantle Library
DESCRIPTION:Story Time is aimed at children aged two to four years. Celebrate the joy of language\, books and libraries while helping your child to develop their interest in reading and learning. \nJoin fun\, interactive sessions of stories\, songs and nursery rhymes. \nNo bookings required. Every Thursday | During school term
URL:https://buggybuddys.com.au/perth-event/story-time-fremantle-library/2026-12-10/
LOCATION:The Fremantle Library at Walyalup Civic Centre\, 151 High St\, Fremantle WA 6160\, Fremantle\, WA\, 6160\, Australia
CATEGORIES:Free,Kids Term Activities,Library Events
ATTACH;FMTTYPE=image/jpeg:https://buggybuddys.com.au/wp-content/uploads/2026/04/Story-Time-Fremantle-Library.jpg
END:VEVENT
BEGIN:VEVENT
DTSTART;TZID=Australia/Perth:20261211T093000
DTEND;TZID=Australia/Perth:20261211T113000
DTSTAMP:20260422T051449
CREATED:20260417T040920Z
LAST-MODIFIED:20260417T040920Z
UID:10077243-1796981400-1796988600@buggybuddys.com.au
SUMMARY:Buster | Fridays
DESCRIPTION:Join our Buster program every Friday of the school term in the courtyard at the Fremantle Library. \nOur program: \n\ncaters for ages 0-5\noffers a multi-sensory\, hands-on\, active and child-centred program\noffers creative and fun opportunities for families to learn and play together\nincorporates the five key areas of development and the childhood principles of Belong\, Being and Become!\n\nEvery Friday during school term | 9.30–11.30am | Free
URL:https://buggybuddys.com.au/perth-event/buster-fridays-2/2026-12-11/
LOCATION:The Fremantle Library at Walyalup Civic Centre\, 151 High St\, Fremantle WA 6160\, Fremantle\, WA\, 6160\, Australia
CATEGORIES:Free,Kids Term Activities,Library Events
ATTACH;FMTTYPE=image/jpeg:https://buggybuddys.com.au/wp-content/uploads/2026/04/Buster-Fridays.jpg
END:VEVENT
END:VCALENDAR