BEGIN:VCALENDAR
VERSION:2.0
PRODID:-//Buggybuddys guide for families in Perth - ECPv6.15.11//NONSGML v1.0//EN
CALSCALE:GREGORIAN
METHOD:PUBLISH
X-ORIGINAL-URL:https://buggybuddys.com.au
X-WR-CALDESC:Events for Buggybuddys guide for families in Perth
REFRESH-INTERVAL;VALUE=DURATION:PT1H
X-Robots-Tag:noindex
X-PUBLISHED-TTL:PT1H
BEGIN:VTIMEZONE
TZID:Australia/Perth
BEGIN:STANDARD
TZOFFSETFROM:+0800
TZOFFSETTO:+0800
TZNAME:AWST
DTSTART:20250101T000000
END:STANDARD
END:VTIMEZONE
BEGIN:VEVENT
DTSTART;TZID=Australia/Perth:20260425T100000
DTEND;TZID=Australia/Perth:20260425T160000
DTSTAMP:20260421T072422
CREATED:20260302T143258Z
LAST-MODIFIED:20260302T143258Z
UID:10074979-1777111200-1777132800@buggybuddys.com.au
SUMMARY:Smokin’ In The Valley – Swan Valley’s Best BBQ Comp
DESCRIPTION: Smokin’ In The Valley – Swan Valley’s Best BBQ Comp 25 & 26 April | Swan Settlers Market | Free Entry\n \nThe smoke is rolling in\, and the pitmasters are ready.\n \nJoin us for a full weekend as top BBQ teams go head-to-head in a KCBS-sanctioned competition\, battling it out for the title of Swan Valley’s Best BBQ Comp. This is your chance to witness the skill\, the fire\, and the passion as the best of the best compete for BBQ glory.\n \nExpect incredible smoky aromas\, serious competition\, and an unbeatable atmosphere.\n \nWhat else is happening: Live music Axe throwing Amazing food\, drinks\, and shopping A hot dog competition!\n \nIn place of Tips for Treats this time\, we’re firing things up with guest pitmaster Uncle Diesel’s Smoke n Grill – Central Texas–inspired\, wood-fired BBQ specialists serving authentic American-style smoked meats\, with a range of mouth-watering menu options you won’t want to miss.\n \nPlus\, the Smokin’ Chilli Fair is on the same weekend from 10am to 4pm both days. Explore chilli stalls\, taste fiery creations\, and turn up the heat while you’re here \n \nSwan Settlers Market124 Lennard St\, Herne HillFree entry\n \nBring your friends\, bring your appetite\, and come witness the smoke\, the sizzle\, and the showdown.\n \nClick Going\, and we’ll see you there. 
URL:https://buggybuddys.com.au/perth-event/smokin-in-the-valley-swan-valleys-best-bbq-comp/2026-04-25/
LOCATION:Swan Settlers Market\, 124 Lennard St\, Herne Hill\, WA\, 6056\, Australia
CATEGORIES:Family Event,Foodie Events,Markets
ATTACH;FMTTYPE=image/jpeg:https://buggybuddys.com.au/wp-content/uploads/2026/03/Smokin-In-The-Valley-–-Swan-Valleys-Best-BBQ-Comp.jpg
END:VEVENT
BEGIN:VEVENT
DTSTART;TZID=Australia/Perth:20260426T100000
DTEND;TZID=Australia/Perth:20260426T160000
DTSTAMP:20260421T072422
CREATED:20260302T143258Z
LAST-MODIFIED:20260302T143258Z
UID:10074980-1777197600-1777219200@buggybuddys.com.au
SUMMARY:Smokin’ In The Valley – Swan Valley’s Best BBQ Comp
DESCRIPTION: Smokin’ In The Valley – Swan Valley’s Best BBQ Comp 25 & 26 April | Swan Settlers Market | Free Entry\n \nThe smoke is rolling in\, and the pitmasters are ready.\n \nJoin us for a full weekend as top BBQ teams go head-to-head in a KCBS-sanctioned competition\, battling it out for the title of Swan Valley’s Best BBQ Comp. This is your chance to witness the skill\, the fire\, and the passion as the best of the best compete for BBQ glory.\n \nExpect incredible smoky aromas\, serious competition\, and an unbeatable atmosphere.\n \nWhat else is happening: Live music Axe throwing Amazing food\, drinks\, and shopping A hot dog competition!\n \nIn place of Tips for Treats this time\, we’re firing things up with guest pitmaster Uncle Diesel’s Smoke n Grill – Central Texas–inspired\, wood-fired BBQ specialists serving authentic American-style smoked meats\, with a range of mouth-watering menu options you won’t want to miss.\n \nPlus\, the Smokin’ Chilli Fair is on the same weekend from 10am to 4pm both days. Explore chilli stalls\, taste fiery creations\, and turn up the heat while you’re here \n \nSwan Settlers Market124 Lennard St\, Herne HillFree entry\n \nBring your friends\, bring your appetite\, and come witness the smoke\, the sizzle\, and the showdown.\n \nClick Going\, and we’ll see you there. 
URL:https://buggybuddys.com.au/perth-event/smokin-in-the-valley-swan-valleys-best-bbq-comp/2026-04-26/
LOCATION:Swan Settlers Market\, 124 Lennard St\, Herne Hill\, WA\, 6056\, Australia
CATEGORIES:Family Event,Foodie Events,Markets
ATTACH;FMTTYPE=image/jpeg:https://buggybuddys.com.au/wp-content/uploads/2026/03/Smokin-In-The-Valley-–-Swan-Valleys-Best-BBQ-Comp.jpg
END:VEVENT
END:VCALENDAR