BEGIN:VCALENDAR
VERSION:2.0
PRODID:-//Buggybuddys guide for families in Perth - ECPv6.15.11//NONSGML v1.0//EN
CALSCALE:GREGORIAN
METHOD:PUBLISH
X-ORIGINAL-URL:https://buggybuddys.com.au
X-WR-CALDESC:Events for Buggybuddys guide for families in Perth
REFRESH-INTERVAL;VALUE=DURATION:PT1H
X-Robots-Tag:noindex
X-PUBLISHED-TTL:PT1H
BEGIN:VTIMEZONE
TZID:Australia/Perth
BEGIN:STANDARD
TZOFFSETFROM:+0800
TZOFFSETTO:+0800
TZNAME:AWST
DTSTART:20250101T000000
END:STANDARD
END:VTIMEZONE
BEGIN:VEVENT
DTSTART;TZID=Australia/Perth:20260114T113000
DTEND;TZID=Australia/Perth:20260114T140000
DTSTAMP:20260426T045924
CREATED:20260108T140630Z
LAST-MODIFIED:20260108T140630Z
UID:10071615-1768390200-1768399200@buggybuddys.com.au
SUMMARY:Youth Beginners Henna Holiday Workshop
DESCRIPTION:Are you wanting to learn a new skill for the new year? Join the Shire of Mundaring for a FREE henna workshop with Henna Florals. \nThis fun activity involves learning the details of henna\, it’s origins\, and the significance of using premium natural henna paste.  \nUnleash your creativity by designing your own unique patterns! Learn basic elements\, tips and tricks\, dots and teardrops\, swirls and humps\, floral design\, leaves and veins and party henna. \nRegister here: https://events.humanitix.com/beginners-henna-workshop \nAges: 12-17 \nDate: Wednesday 14th January \nTime: 11:30am-2:00pm \nLocation: Swan View Youth Centre (Salisbury Road\, Swan View) Lunch provided. \nThis workshop is funded by Shire of Mundaring youth services. \nFor more information\, contact Julia on 0436 419 628.
URL:https://buggybuddys.com.au/perth-event/youth-beginners-henna-holiday-workshop/
LOCATION:Swan City Youth Service\, 12 Padbury Terrace\, Midland\, WA\, 6056\, Australia
CATEGORIES:Free,School Holiday Events,Workshop
ATTACH;FMTTYPE=image/png:https://buggybuddys.com.au/wp-content/uploads/2026/01/Youth-Beginners-Henna-Holiday-Workshop.png
END:VEVENT
END:VCALENDAR