BEGIN:VCALENDAR
VERSION:2.0
PRODID:-//Buggybuddys guide for families in Perth - ECPv6.15.11//NONSGML v1.0//EN
CALSCALE:GREGORIAN
METHOD:PUBLISH
X-ORIGINAL-URL:https://buggybuddys.com.au
X-WR-CALDESC:Events for Buggybuddys guide for families in Perth
REFRESH-INTERVAL;VALUE=DURATION:PT1H
X-Robots-Tag:noindex
X-PUBLISHED-TTL:PT1H
BEGIN:VTIMEZONE
TZID:Australia/Perth
BEGIN:STANDARD
TZOFFSETFROM:+0800
TZOFFSETTO:+0800
TZNAME:AWST
DTSTART:20240101T000000
END:STANDARD
END:VTIMEZONE
BEGIN:VEVENT
DTSTART;TZID=Australia/Perth:20260118T170000
DTEND;TZID=Australia/Perth:20260118T230000
DTSTAMP:20260424T223828
CREATED:20260101T010732Z
LAST-MODIFIED:20260101T010733Z
UID:10070323-1768755600-1768777200@buggybuddys.com.au
SUMMARY:Supreme Court Nights
DESCRIPTION:A vibrant\, open-air festival lighting up Supreme Court Gardens from 2nd – 18th January 2026!FREE ENTRYUnlimited Rides Wristbands from $19FIREWORKS\, Food Trucks\, Light Installations\, Carnival Rides\, Sideshow Games\, Live Music\, DJs\, AND MORE! \nFind out more
URL:https://buggybuddys.com.au/perth-event/supreme-court-nights-2/2026-01-18/
LOCATION:Supreme Court Gardens\, 2 Barrack Street\, Perth\, WA\, 6000\, Australia
CATEGORIES:Festivals,School Holiday Events
ATTACH;FMTTYPE=image/jpeg:https://buggybuddys.com.au/wp-content/uploads/2026/01/604707331_122095654155187296_1487143471762512700_n.jpeg
GEO:-31.9591716;115.8599111
X-APPLE-STRUCTURED-LOCATION;VALUE=URI;X-ADDRESS=Supreme Court Gardens 2 Barrack Street Perth WA 6000 Australia;X-APPLE-RADIUS=500;X-TITLE=2 Barrack Street:geo:115.8599111,-31.9591716
END:VEVENT
BEGIN:VEVENT
DTSTART;TZID=Australia/Perth:20260117T170000
DTEND;TZID=Australia/Perth:20260117T230000
DTSTAMP:20260424T223828
CREATED:20260101T010732Z
LAST-MODIFIED:20260101T010733Z
UID:10070322-1768669200-1768690800@buggybuddys.com.au
SUMMARY:Supreme Court Nights
DESCRIPTION:A vibrant\, open-air festival lighting up Supreme Court Gardens from 2nd – 18th January 2026!FREE ENTRYUnlimited Rides Wristbands from $19FIREWORKS\, Food Trucks\, Light Installations\, Carnival Rides\, Sideshow Games\, Live Music\, DJs\, AND MORE! \nFind out more
URL:https://buggybuddys.com.au/perth-event/supreme-court-nights-2/2026-01-17/
LOCATION:Supreme Court Gardens\, 2 Barrack Street\, Perth\, WA\, 6000\, Australia
CATEGORIES:Festivals,School Holiday Events
ATTACH;FMTTYPE=image/jpeg:https://buggybuddys.com.au/wp-content/uploads/2026/01/604707331_122095654155187296_1487143471762512700_n.jpeg
GEO:-31.9591716;115.8599111
X-APPLE-STRUCTURED-LOCATION;VALUE=URI;X-ADDRESS=Supreme Court Gardens 2 Barrack Street Perth WA 6000 Australia;X-APPLE-RADIUS=500;X-TITLE=2 Barrack Street:geo:115.8599111,-31.9591716
END:VEVENT
BEGIN:VEVENT
DTSTART;TZID=Australia/Perth:20260116T170000
DTEND;TZID=Australia/Perth:20260116T230000
DTSTAMP:20260424T223828
CREATED:20260101T010732Z
LAST-MODIFIED:20260101T010733Z
UID:10070321-1768582800-1768604400@buggybuddys.com.au
SUMMARY:Supreme Court Nights
DESCRIPTION:A vibrant\, open-air festival lighting up Supreme Court Gardens from 2nd – 18th January 2026!FREE ENTRYUnlimited Rides Wristbands from $19FIREWORKS\, Food Trucks\, Light Installations\, Carnival Rides\, Sideshow Games\, Live Music\, DJs\, AND MORE! \nFind out more
URL:https://buggybuddys.com.au/perth-event/supreme-court-nights-2/2026-01-16/
LOCATION:Supreme Court Gardens\, 2 Barrack Street\, Perth\, WA\, 6000\, Australia
CATEGORIES:Festivals,School Holiday Events
ATTACH;FMTTYPE=image/jpeg:https://buggybuddys.com.au/wp-content/uploads/2026/01/604707331_122095654155187296_1487143471762512700_n.jpeg
GEO:-31.9591716;115.8599111
X-APPLE-STRUCTURED-LOCATION;VALUE=URI;X-ADDRESS=Supreme Court Gardens 2 Barrack Street Perth WA 6000 Australia;X-APPLE-RADIUS=500;X-TITLE=2 Barrack Street:geo:115.8599111,-31.9591716
END:VEVENT
BEGIN:VEVENT
DTSTART;TZID=Australia/Perth:20260115T170000
DTEND;TZID=Australia/Perth:20260115T230000
DTSTAMP:20260424T223828
CREATED:20260101T010732Z
LAST-MODIFIED:20260101T010733Z
UID:10070320-1768496400-1768518000@buggybuddys.com.au
SUMMARY:Supreme Court Nights
DESCRIPTION:A vibrant\, open-air festival lighting up Supreme Court Gardens from 2nd – 18th January 2026!FREE ENTRYUnlimited Rides Wristbands from $19FIREWORKS\, Food Trucks\, Light Installations\, Carnival Rides\, Sideshow Games\, Live Music\, DJs\, AND MORE! \nFind out more
URL:https://buggybuddys.com.au/perth-event/supreme-court-nights-2/2026-01-15/
LOCATION:Supreme Court Gardens\, 2 Barrack Street\, Perth\, WA\, 6000\, Australia
CATEGORIES:Festivals,School Holiday Events
ATTACH;FMTTYPE=image/jpeg:https://buggybuddys.com.au/wp-content/uploads/2026/01/604707331_122095654155187296_1487143471762512700_n.jpeg
GEO:-31.9591716;115.8599111
X-APPLE-STRUCTURED-LOCATION;VALUE=URI;X-ADDRESS=Supreme Court Gardens 2 Barrack Street Perth WA 6000 Australia;X-APPLE-RADIUS=500;X-TITLE=2 Barrack Street:geo:115.8599111,-31.9591716
END:VEVENT
BEGIN:VEVENT
DTSTART;TZID=Australia/Perth:20260114T170000
DTEND;TZID=Australia/Perth:20260114T230000
DTSTAMP:20260424T223828
CREATED:20260101T010732Z
LAST-MODIFIED:20260101T010733Z
UID:10070319-1768410000-1768431600@buggybuddys.com.au
SUMMARY:Supreme Court Nights
DESCRIPTION:A vibrant\, open-air festival lighting up Supreme Court Gardens from 2nd – 18th January 2026!FREE ENTRYUnlimited Rides Wristbands from $19FIREWORKS\, Food Trucks\, Light Installations\, Carnival Rides\, Sideshow Games\, Live Music\, DJs\, AND MORE! \nFind out more
URL:https://buggybuddys.com.au/perth-event/supreme-court-nights-2/2026-01-14/
LOCATION:Supreme Court Gardens\, 2 Barrack Street\, Perth\, WA\, 6000\, Australia
CATEGORIES:Festivals,School Holiday Events
ATTACH;FMTTYPE=image/jpeg:https://buggybuddys.com.au/wp-content/uploads/2026/01/604707331_122095654155187296_1487143471762512700_n.jpeg
GEO:-31.9591716;115.8599111
X-APPLE-STRUCTURED-LOCATION;VALUE=URI;X-ADDRESS=Supreme Court Gardens 2 Barrack Street Perth WA 6000 Australia;X-APPLE-RADIUS=500;X-TITLE=2 Barrack Street:geo:115.8599111,-31.9591716
END:VEVENT
BEGIN:VEVENT
DTSTART;TZID=Australia/Perth:20260113T170000
DTEND;TZID=Australia/Perth:20260113T230000
DTSTAMP:20260424T223828
CREATED:20260101T010732Z
LAST-MODIFIED:20260101T010733Z
UID:10070318-1768323600-1768345200@buggybuddys.com.au
SUMMARY:Supreme Court Nights
DESCRIPTION:A vibrant\, open-air festival lighting up Supreme Court Gardens from 2nd – 18th January 2026!FREE ENTRYUnlimited Rides Wristbands from $19FIREWORKS\, Food Trucks\, Light Installations\, Carnival Rides\, Sideshow Games\, Live Music\, DJs\, AND MORE! \nFind out more
URL:https://buggybuddys.com.au/perth-event/supreme-court-nights-2/2026-01-13/
LOCATION:Supreme Court Gardens\, 2 Barrack Street\, Perth\, WA\, 6000\, Australia
CATEGORIES:Festivals,School Holiday Events
ATTACH;FMTTYPE=image/jpeg:https://buggybuddys.com.au/wp-content/uploads/2026/01/604707331_122095654155187296_1487143471762512700_n.jpeg
GEO:-31.9591716;115.8599111
X-APPLE-STRUCTURED-LOCATION;VALUE=URI;X-ADDRESS=Supreme Court Gardens 2 Barrack Street Perth WA 6000 Australia;X-APPLE-RADIUS=500;X-TITLE=2 Barrack Street:geo:115.8599111,-31.9591716
END:VEVENT
BEGIN:VEVENT
DTSTART;TZID=Australia/Perth:20260112T170000
DTEND;TZID=Australia/Perth:20260112T230000
DTSTAMP:20260424T223828
CREATED:20260101T010732Z
LAST-MODIFIED:20260101T010733Z
UID:10070317-1768237200-1768258800@buggybuddys.com.au
SUMMARY:Supreme Court Nights
DESCRIPTION:A vibrant\, open-air festival lighting up Supreme Court Gardens from 2nd – 18th January 2026!FREE ENTRYUnlimited Rides Wristbands from $19FIREWORKS\, Food Trucks\, Light Installations\, Carnival Rides\, Sideshow Games\, Live Music\, DJs\, AND MORE! \nFind out more
URL:https://buggybuddys.com.au/perth-event/supreme-court-nights-2/2026-01-12/
LOCATION:Supreme Court Gardens\, 2 Barrack Street\, Perth\, WA\, 6000\, Australia
CATEGORIES:Festivals,School Holiday Events
ATTACH;FMTTYPE=image/jpeg:https://buggybuddys.com.au/wp-content/uploads/2026/01/604707331_122095654155187296_1487143471762512700_n.jpeg
GEO:-31.9591716;115.8599111
X-APPLE-STRUCTURED-LOCATION;VALUE=URI;X-ADDRESS=Supreme Court Gardens 2 Barrack Street Perth WA 6000 Australia;X-APPLE-RADIUS=500;X-TITLE=2 Barrack Street:geo:115.8599111,-31.9591716
END:VEVENT
BEGIN:VEVENT
DTSTART;TZID=Australia/Perth:20260111T170000
DTEND;TZID=Australia/Perth:20260111T230000
DTSTAMP:20260424T223828
CREATED:20260101T010732Z
LAST-MODIFIED:20260101T010733Z
UID:10070316-1768150800-1768172400@buggybuddys.com.au
SUMMARY:Supreme Court Nights
DESCRIPTION:A vibrant\, open-air festival lighting up Supreme Court Gardens from 2nd – 18th January 2026!FREE ENTRYUnlimited Rides Wristbands from $19FIREWORKS\, Food Trucks\, Light Installations\, Carnival Rides\, Sideshow Games\, Live Music\, DJs\, AND MORE! \nFind out more
URL:https://buggybuddys.com.au/perth-event/supreme-court-nights-2/2026-01-11/
LOCATION:Supreme Court Gardens\, 2 Barrack Street\, Perth\, WA\, 6000\, Australia
CATEGORIES:Festivals,School Holiday Events
ATTACH;FMTTYPE=image/jpeg:https://buggybuddys.com.au/wp-content/uploads/2026/01/604707331_122095654155187296_1487143471762512700_n.jpeg
GEO:-31.9591716;115.8599111
X-APPLE-STRUCTURED-LOCATION;VALUE=URI;X-ADDRESS=Supreme Court Gardens 2 Barrack Street Perth WA 6000 Australia;X-APPLE-RADIUS=500;X-TITLE=2 Barrack Street:geo:115.8599111,-31.9591716
END:VEVENT
BEGIN:VEVENT
DTSTART;TZID=Australia/Perth:20260110T170000
DTEND;TZID=Australia/Perth:20260110T230000
DTSTAMP:20260424T223828
CREATED:20260101T010732Z
LAST-MODIFIED:20260101T010733Z
UID:10070315-1768064400-1768086000@buggybuddys.com.au
SUMMARY:Supreme Court Nights
DESCRIPTION:A vibrant\, open-air festival lighting up Supreme Court Gardens from 2nd – 18th January 2026!FREE ENTRYUnlimited Rides Wristbands from $19FIREWORKS\, Food Trucks\, Light Installations\, Carnival Rides\, Sideshow Games\, Live Music\, DJs\, AND MORE! \nFind out more
URL:https://buggybuddys.com.au/perth-event/supreme-court-nights-2/2026-01-10/
LOCATION:Supreme Court Gardens\, 2 Barrack Street\, Perth\, WA\, 6000\, Australia
CATEGORIES:Festivals,School Holiday Events
ATTACH;FMTTYPE=image/jpeg:https://buggybuddys.com.au/wp-content/uploads/2026/01/604707331_122095654155187296_1487143471762512700_n.jpeg
GEO:-31.9591716;115.8599111
X-APPLE-STRUCTURED-LOCATION;VALUE=URI;X-ADDRESS=Supreme Court Gardens 2 Barrack Street Perth WA 6000 Australia;X-APPLE-RADIUS=500;X-TITLE=2 Barrack Street:geo:115.8599111,-31.9591716
END:VEVENT
BEGIN:VEVENT
DTSTART;TZID=Australia/Perth:20260109T170000
DTEND;TZID=Australia/Perth:20260109T230000
DTSTAMP:20260424T223828
CREATED:20260101T010732Z
LAST-MODIFIED:20260101T010733Z
UID:10070314-1767978000-1767999600@buggybuddys.com.au
SUMMARY:Supreme Court Nights
DESCRIPTION:A vibrant\, open-air festival lighting up Supreme Court Gardens from 2nd – 18th January 2026!FREE ENTRYUnlimited Rides Wristbands from $19FIREWORKS\, Food Trucks\, Light Installations\, Carnival Rides\, Sideshow Games\, Live Music\, DJs\, AND MORE! \nFind out more
URL:https://buggybuddys.com.au/perth-event/supreme-court-nights-2/2026-01-09/
LOCATION:Supreme Court Gardens\, 2 Barrack Street\, Perth\, WA\, 6000\, Australia
CATEGORIES:Festivals,School Holiday Events
ATTACH;FMTTYPE=image/jpeg:https://buggybuddys.com.au/wp-content/uploads/2026/01/604707331_122095654155187296_1487143471762512700_n.jpeg
GEO:-31.9591716;115.8599111
X-APPLE-STRUCTURED-LOCATION;VALUE=URI;X-ADDRESS=Supreme Court Gardens 2 Barrack Street Perth WA 6000 Australia;X-APPLE-RADIUS=500;X-TITLE=2 Barrack Street:geo:115.8599111,-31.9591716
END:VEVENT
BEGIN:VEVENT
DTSTART;TZID=Australia/Perth:20260108T170000
DTEND;TZID=Australia/Perth:20260108T230000
DTSTAMP:20260424T223828
CREATED:20260101T010732Z
LAST-MODIFIED:20260101T010733Z
UID:10070313-1767891600-1767913200@buggybuddys.com.au
SUMMARY:Supreme Court Nights
DESCRIPTION:A vibrant\, open-air festival lighting up Supreme Court Gardens from 2nd – 18th January 2026!FREE ENTRYUnlimited Rides Wristbands from $19FIREWORKS\, Food Trucks\, Light Installations\, Carnival Rides\, Sideshow Games\, Live Music\, DJs\, AND MORE! \nFind out more
URL:https://buggybuddys.com.au/perth-event/supreme-court-nights-2/2026-01-08/
LOCATION:Supreme Court Gardens\, 2 Barrack Street\, Perth\, WA\, 6000\, Australia
CATEGORIES:Festivals,School Holiday Events
ATTACH;FMTTYPE=image/jpeg:https://buggybuddys.com.au/wp-content/uploads/2026/01/604707331_122095654155187296_1487143471762512700_n.jpeg
GEO:-31.9591716;115.8599111
X-APPLE-STRUCTURED-LOCATION;VALUE=URI;X-ADDRESS=Supreme Court Gardens 2 Barrack Street Perth WA 6000 Australia;X-APPLE-RADIUS=500;X-TITLE=2 Barrack Street:geo:115.8599111,-31.9591716
END:VEVENT
BEGIN:VEVENT
DTSTART;TZID=Australia/Perth:20260107T170000
DTEND;TZID=Australia/Perth:20260107T230000
DTSTAMP:20260424T223828
CREATED:20260101T010732Z
LAST-MODIFIED:20260101T010733Z
UID:10070312-1767805200-1767826800@buggybuddys.com.au
SUMMARY:Supreme Court Nights
DESCRIPTION:A vibrant\, open-air festival lighting up Supreme Court Gardens from 2nd – 18th January 2026!FREE ENTRYUnlimited Rides Wristbands from $19FIREWORKS\, Food Trucks\, Light Installations\, Carnival Rides\, Sideshow Games\, Live Music\, DJs\, AND MORE! \nFind out more
URL:https://buggybuddys.com.au/perth-event/supreme-court-nights-2/2026-01-07/
LOCATION:Supreme Court Gardens\, 2 Barrack Street\, Perth\, WA\, 6000\, Australia
CATEGORIES:Festivals,School Holiday Events
ATTACH;FMTTYPE=image/jpeg:https://buggybuddys.com.au/wp-content/uploads/2026/01/604707331_122095654155187296_1487143471762512700_n.jpeg
GEO:-31.9591716;115.8599111
X-APPLE-STRUCTURED-LOCATION;VALUE=URI;X-ADDRESS=Supreme Court Gardens 2 Barrack Street Perth WA 6000 Australia;X-APPLE-RADIUS=500;X-TITLE=2 Barrack Street:geo:115.8599111,-31.9591716
END:VEVENT
BEGIN:VEVENT
DTSTART;TZID=Australia/Perth:20260106T170000
DTEND;TZID=Australia/Perth:20260106T230000
DTSTAMP:20260424T223828
CREATED:20260101T010732Z
LAST-MODIFIED:20260101T010733Z
UID:10070311-1767718800-1767740400@buggybuddys.com.au
SUMMARY:Supreme Court Nights
DESCRIPTION:A vibrant\, open-air festival lighting up Supreme Court Gardens from 2nd – 18th January 2026!FREE ENTRYUnlimited Rides Wristbands from $19FIREWORKS\, Food Trucks\, Light Installations\, Carnival Rides\, Sideshow Games\, Live Music\, DJs\, AND MORE! \nFind out more
URL:https://buggybuddys.com.au/perth-event/supreme-court-nights-2/2026-01-06/
LOCATION:Supreme Court Gardens\, 2 Barrack Street\, Perth\, WA\, 6000\, Australia
CATEGORIES:Festivals,School Holiday Events
ATTACH;FMTTYPE=image/jpeg:https://buggybuddys.com.au/wp-content/uploads/2026/01/604707331_122095654155187296_1487143471762512700_n.jpeg
GEO:-31.9591716;115.8599111
X-APPLE-STRUCTURED-LOCATION;VALUE=URI;X-ADDRESS=Supreme Court Gardens 2 Barrack Street Perth WA 6000 Australia;X-APPLE-RADIUS=500;X-TITLE=2 Barrack Street:geo:115.8599111,-31.9591716
END:VEVENT
BEGIN:VEVENT
DTSTART;TZID=Australia/Perth:20260105T170000
DTEND;TZID=Australia/Perth:20260105T230000
DTSTAMP:20260424T223828
CREATED:20260101T010732Z
LAST-MODIFIED:20260101T010733Z
UID:10070310-1767632400-1767654000@buggybuddys.com.au
SUMMARY:Supreme Court Nights
DESCRIPTION:A vibrant\, open-air festival lighting up Supreme Court Gardens from 2nd – 18th January 2026!FREE ENTRYUnlimited Rides Wristbands from $19FIREWORKS\, Food Trucks\, Light Installations\, Carnival Rides\, Sideshow Games\, Live Music\, DJs\, AND MORE! \nFind out more
URL:https://buggybuddys.com.au/perth-event/supreme-court-nights-2/2026-01-05/
LOCATION:Supreme Court Gardens\, 2 Barrack Street\, Perth\, WA\, 6000\, Australia
CATEGORIES:Festivals,School Holiday Events
ATTACH;FMTTYPE=image/jpeg:https://buggybuddys.com.au/wp-content/uploads/2026/01/604707331_122095654155187296_1487143471762512700_n.jpeg
GEO:-31.9591716;115.8599111
X-APPLE-STRUCTURED-LOCATION;VALUE=URI;X-ADDRESS=Supreme Court Gardens 2 Barrack Street Perth WA 6000 Australia;X-APPLE-RADIUS=500;X-TITLE=2 Barrack Street:geo:115.8599111,-31.9591716
END:VEVENT
BEGIN:VEVENT
DTSTART;TZID=Australia/Perth:20260104T170000
DTEND;TZID=Australia/Perth:20260104T230000
DTSTAMP:20260424T223828
CREATED:20260101T010732Z
LAST-MODIFIED:20260101T010733Z
UID:10070309-1767546000-1767567600@buggybuddys.com.au
SUMMARY:Supreme Court Nights
DESCRIPTION:A vibrant\, open-air festival lighting up Supreme Court Gardens from 2nd – 18th January 2026!FREE ENTRYUnlimited Rides Wristbands from $19FIREWORKS\, Food Trucks\, Light Installations\, Carnival Rides\, Sideshow Games\, Live Music\, DJs\, AND MORE! \nFind out more
URL:https://buggybuddys.com.au/perth-event/supreme-court-nights-2/2026-01-04/
LOCATION:Supreme Court Gardens\, 2 Barrack Street\, Perth\, WA\, 6000\, Australia
CATEGORIES:Festivals,School Holiday Events
ATTACH;FMTTYPE=image/jpeg:https://buggybuddys.com.au/wp-content/uploads/2026/01/604707331_122095654155187296_1487143471762512700_n.jpeg
GEO:-31.9591716;115.8599111
X-APPLE-STRUCTURED-LOCATION;VALUE=URI;X-ADDRESS=Supreme Court Gardens 2 Barrack Street Perth WA 6000 Australia;X-APPLE-RADIUS=500;X-TITLE=2 Barrack Street:geo:115.8599111,-31.9591716
END:VEVENT
BEGIN:VEVENT
DTSTART;TZID=Australia/Perth:20260103T170000
DTEND;TZID=Australia/Perth:20260103T230000
DTSTAMP:20260424T223828
CREATED:20260101T010732Z
LAST-MODIFIED:20260101T010733Z
UID:10070308-1767459600-1767481200@buggybuddys.com.au
SUMMARY:Supreme Court Nights
DESCRIPTION:A vibrant\, open-air festival lighting up Supreme Court Gardens from 2nd – 18th January 2026!FREE ENTRYUnlimited Rides Wristbands from $19FIREWORKS\, Food Trucks\, Light Installations\, Carnival Rides\, Sideshow Games\, Live Music\, DJs\, AND MORE! \nFind out more
URL:https://buggybuddys.com.au/perth-event/supreme-court-nights-2/2026-01-03/
LOCATION:Supreme Court Gardens\, 2 Barrack Street\, Perth\, WA\, 6000\, Australia
CATEGORIES:Festivals,School Holiday Events
ATTACH;FMTTYPE=image/jpeg:https://buggybuddys.com.au/wp-content/uploads/2026/01/604707331_122095654155187296_1487143471762512700_n.jpeg
GEO:-31.9591716;115.8599111
X-APPLE-STRUCTURED-LOCATION;VALUE=URI;X-ADDRESS=Supreme Court Gardens 2 Barrack Street Perth WA 6000 Australia;X-APPLE-RADIUS=500;X-TITLE=2 Barrack Street:geo:115.8599111,-31.9591716
END:VEVENT
BEGIN:VEVENT
DTSTART;TZID=Australia/Perth:20260102T170000
DTEND;TZID=Australia/Perth:20260102T230000
DTSTAMP:20260424T223828
CREATED:20260101T010732Z
LAST-MODIFIED:20260101T010733Z
UID:10070307-1767373200-1767394800@buggybuddys.com.au
SUMMARY:Supreme Court Nights
DESCRIPTION:A vibrant\, open-air festival lighting up Supreme Court Gardens from 2nd – 18th January 2026!FREE ENTRYUnlimited Rides Wristbands from $19FIREWORKS\, Food Trucks\, Light Installations\, Carnival Rides\, Sideshow Games\, Live Music\, DJs\, AND MORE! \nFind out more
URL:https://buggybuddys.com.au/perth-event/supreme-court-nights-2/2026-01-02/
LOCATION:Supreme Court Gardens\, 2 Barrack Street\, Perth\, WA\, 6000\, Australia
CATEGORIES:Festivals,School Holiday Events
ATTACH;FMTTYPE=image/jpeg:https://buggybuddys.com.au/wp-content/uploads/2026/01/604707331_122095654155187296_1487143471762512700_n.jpeg
GEO:-31.9591716;115.8599111
X-APPLE-STRUCTURED-LOCATION;VALUE=URI;X-ADDRESS=Supreme Court Gardens 2 Barrack Street Perth WA 6000 Australia;X-APPLE-RADIUS=500;X-TITLE=2 Barrack Street:geo:115.8599111,-31.9591716
END:VEVENT
BEGIN:VEVENT
DTSTART;TZID=Australia/Perth:20251220T183000
DTEND;TZID=Australia/Perth:20251220T213000
DTSTAMP:20260424T223828
CREATED:20251106T024355Z
LAST-MODIFIED:20251106T024355Z
UID:10067406-1766255400-1766266200@buggybuddys.com.au
SUMMARY:Carols in the City
DESCRIPTION:We’re so excited to be bringing back Carols to the City at Supreme Court Gardens. You’re in for a wonderful family-friendly night singing along to your favourite Christmas Carols culminating in an amazing fireworks display! \n\n\nSaturday December 20th\, 2025 @ Supreme Court Gardens\, Perth \n\n\nPre-Show Entertainment @ 630pm \n\n\nCarols @ 730pm \n\n\nFireworks @ 915pm \n\n\nCome on down from early afternoon to grab a picnic spot on the grass and enjoy the pre-show entertainment. For the Kids\, there will be a visit from Santa in Santa Land with fun activities for your kids. Vendors will be on site with a variety of amusements\, food\, drinks\, and much more! \nParking and Transport \n\n\nParking is free at all CPP carparks after 6pm on Saturday; CPP Terrace Road\, Concert Hall and Council House carparks are the closest to Supreme Court Gardens \n\n\nSupreme Court Gardens are a 3 minutes from Elizabeth Quay Station walking via Geoffrey Bolton Av
URL:https://buggybuddys.com.au/perth-event/carols-in-the-city/
LOCATION:Supreme Court Gardens\, 2 Barrack Street\, Perth\, WA\, 6000\, Australia
CATEGORIES:Christmas,Christmas Carols
ATTACH;FMTTYPE=image/webp:https://buggybuddys.com.au/wp-content/uploads/2025/11/City1copy.webp
GEO:-31.9591716;115.8599111
X-APPLE-STRUCTURED-LOCATION;VALUE=URI;X-ADDRESS=Supreme Court Gardens 2 Barrack Street Perth WA 6000 Australia;X-APPLE-RADIUS=500;X-TITLE=2 Barrack Street:geo:115.8599111,-31.9591716
END:VEVENT
END:VCALENDAR