BEGIN:VCALENDAR
VERSION:2.0
PRODID:-//Buggybuddys guide for families in Perth - ECPv6.15.11//NONSGML v1.0//EN
CALSCALE:GREGORIAN
METHOD:PUBLISH
X-WR-CALNAME:Buggybuddys guide for families in Perth
X-ORIGINAL-URL:https://buggybuddys.com.au
X-WR-CALDESC:Events for Buggybuddys guide for families in Perth
REFRESH-INTERVAL;VALUE=DURATION:PT1H
X-Robots-Tag:noindex
X-PUBLISHED-TTL:PT1H
BEGIN:VTIMEZONE
TZID:Australia/Perth
BEGIN:STANDARD
TZOFFSETFROM:+0800
TZOFFSETTO:+0800
TZNAME:AWST
DTSTART:20250101T000000
END:STANDARD
END:VTIMEZONE
BEGIN:VEVENT
DTSTART;VALUE=DATE:20260418
DTEND;VALUE=DATE:20260419
DTSTAMP:20260421T110349
CREATED:20260321T100147Z
LAST-MODIFIED:20260321T100305Z
UID:10075544-1776470400-1776556799@buggybuddys.com.au
SUMMARY:Barking Gecko Arts' presents Stellarphant by James Foley
DESCRIPTION:These school holidays\, head to Subiaco Arts Centre for Stellarphant – a Barking Gecko Arts’ new stage show based on the award-winning picture book by James Foley. Stella the elephant dreams of becoming an astronaut\, but Space Command says no. Watch her build her own spaceship and prove that heroes come in all shapes\, sizes\, and species. Catch it from 15 to 18 April. Tickets available from barkinggecko.com.au. \nDates & Times \n• Wednesday\, 15 April 2026 \n10:00 am\, 1:00 pm \n• Thursday\, 16 April 2026 \n10:00 am\, 1:00 pm \n• Friday\, 17 April 2026 \n10:00 am\, 1:00 pm \n• Saturday\, 18 April 2026 \n10:00 am1\, 1:00 pm2 \n1 Relaxed and Audio Described Perform
URL:https://buggybuddys.com.au/perth-event/barking-gecko-arts-presents-stellarphant-by-james-foley/2026-04-18/
LOCATION:Subiaco Arts Centre\, 180 Hamersley Road\, Subiaco\, WA\, 6008\, Australia
CATEGORIES:School Holiday Events,Theatre & Shows
ATTACH;FMTTYPE=image/png:https://buggybuddys.com.au/wp-content/uploads/2026/03/900x600.png
GEO:-31.9517869;115.8204539
X-APPLE-STRUCTURED-LOCATION;VALUE=URI;X-ADDRESS=Subiaco Arts Centre 180 Hamersley Road Subiaco WA 6008 Australia;X-APPLE-RADIUS=500;X-TITLE=180 Hamersley Road:geo:115.8204539,-31.9517869
END:VEVENT
BEGIN:VEVENT
DTSTART;VALUE=DATE:20260417
DTEND;VALUE=DATE:20260418
DTSTAMP:20260421T110349
CREATED:20260321T100147Z
LAST-MODIFIED:20260321T100305Z
UID:10075543-1776384000-1776470399@buggybuddys.com.au
SUMMARY:Barking Gecko Arts' presents Stellarphant by James Foley
DESCRIPTION:These school holidays\, head to Subiaco Arts Centre for Stellarphant – a Barking Gecko Arts’ new stage show based on the award-winning picture book by James Foley. Stella the elephant dreams of becoming an astronaut\, but Space Command says no. Watch her build her own spaceship and prove that heroes come in all shapes\, sizes\, and species. Catch it from 15 to 18 April. Tickets available from barkinggecko.com.au. \nDates & Times \n• Wednesday\, 15 April 2026 \n10:00 am\, 1:00 pm \n• Thursday\, 16 April 2026 \n10:00 am\, 1:00 pm \n• Friday\, 17 April 2026 \n10:00 am\, 1:00 pm \n• Saturday\, 18 April 2026 \n10:00 am1\, 1:00 pm2 \n1 Relaxed and Audio Described Perform
URL:https://buggybuddys.com.au/perth-event/barking-gecko-arts-presents-stellarphant-by-james-foley/2026-04-17/
LOCATION:Subiaco Arts Centre\, 180 Hamersley Road\, Subiaco\, WA\, 6008\, Australia
CATEGORIES:School Holiday Events,Theatre & Shows
ATTACH;FMTTYPE=image/png:https://buggybuddys.com.au/wp-content/uploads/2026/03/900x600.png
GEO:-31.9517869;115.8204539
X-APPLE-STRUCTURED-LOCATION;VALUE=URI;X-ADDRESS=Subiaco Arts Centre 180 Hamersley Road Subiaco WA 6008 Australia;X-APPLE-RADIUS=500;X-TITLE=180 Hamersley Road:geo:115.8204539,-31.9517869
END:VEVENT
BEGIN:VEVENT
DTSTART;VALUE=DATE:20260416
DTEND;VALUE=DATE:20260417
DTSTAMP:20260421T110349
CREATED:20260321T100147Z
LAST-MODIFIED:20260321T100305Z
UID:10075542-1776297600-1776383999@buggybuddys.com.au
SUMMARY:Barking Gecko Arts' presents Stellarphant by James Foley
DESCRIPTION:These school holidays\, head to Subiaco Arts Centre for Stellarphant – a Barking Gecko Arts’ new stage show based on the award-winning picture book by James Foley. Stella the elephant dreams of becoming an astronaut\, but Space Command says no. Watch her build her own spaceship and prove that heroes come in all shapes\, sizes\, and species. Catch it from 15 to 18 April. Tickets available from barkinggecko.com.au. \nDates & Times \n• Wednesday\, 15 April 2026 \n10:00 am\, 1:00 pm \n• Thursday\, 16 April 2026 \n10:00 am\, 1:00 pm \n• Friday\, 17 April 2026 \n10:00 am\, 1:00 pm \n• Saturday\, 18 April 2026 \n10:00 am1\, 1:00 pm2 \n1 Relaxed and Audio Described Perform
URL:https://buggybuddys.com.au/perth-event/barking-gecko-arts-presents-stellarphant-by-james-foley/2026-04-16/
LOCATION:Subiaco Arts Centre\, 180 Hamersley Road\, Subiaco\, WA\, 6008\, Australia
CATEGORIES:School Holiday Events,Theatre & Shows
ATTACH;FMTTYPE=image/png:https://buggybuddys.com.au/wp-content/uploads/2026/03/900x600.png
GEO:-31.9517869;115.8204539
X-APPLE-STRUCTURED-LOCATION;VALUE=URI;X-ADDRESS=Subiaco Arts Centre 180 Hamersley Road Subiaco WA 6008 Australia;X-APPLE-RADIUS=500;X-TITLE=180 Hamersley Road:geo:115.8204539,-31.9517869
END:VEVENT
BEGIN:VEVENT
DTSTART;VALUE=DATE:20260415
DTEND;VALUE=DATE:20260416
DTSTAMP:20260421T110349
CREATED:20260321T100147Z
LAST-MODIFIED:20260321T100305Z
UID:10075541-1776211200-1776297599@buggybuddys.com.au
SUMMARY:Barking Gecko Arts' presents Stellarphant by James Foley
DESCRIPTION:These school holidays\, head to Subiaco Arts Centre for Stellarphant – a Barking Gecko Arts’ new stage show based on the award-winning picture book by James Foley. Stella the elephant dreams of becoming an astronaut\, but Space Command says no. Watch her build her own spaceship and prove that heroes come in all shapes\, sizes\, and species. Catch it from 15 to 18 April. Tickets available from barkinggecko.com.au. \nDates & Times \n• Wednesday\, 15 April 2026 \n10:00 am\, 1:00 pm \n• Thursday\, 16 April 2026 \n10:00 am\, 1:00 pm \n• Friday\, 17 April 2026 \n10:00 am\, 1:00 pm \n• Saturday\, 18 April 2026 \n10:00 am1\, 1:00 pm2 \n1 Relaxed and Audio Described Perform
URL:https://buggybuddys.com.au/perth-event/barking-gecko-arts-presents-stellarphant-by-james-foley/2026-04-15/
LOCATION:Subiaco Arts Centre\, 180 Hamersley Road\, Subiaco\, WA\, 6008\, Australia
CATEGORIES:School Holiday Events,Theatre & Shows
ATTACH;FMTTYPE=image/png:https://buggybuddys.com.au/wp-content/uploads/2026/03/900x600.png
GEO:-31.9517869;115.8204539
X-APPLE-STRUCTURED-LOCATION;VALUE=URI;X-ADDRESS=Subiaco Arts Centre 180 Hamersley Road Subiaco WA 6008 Australia;X-APPLE-RADIUS=500;X-TITLE=180 Hamersley Road:geo:115.8204539,-31.9517869
END:VEVENT
END:VCALENDAR