BEGIN:VCALENDAR
VERSION:2.0
PRODID:-//Buggybuddys guide for families in Perth - ECPv6.15.11//NONSGML v1.0//EN
CALSCALE:GREGORIAN
METHOD:PUBLISH
X-ORIGINAL-URL:https://buggybuddys.com.au
X-WR-CALDESC:Events for Buggybuddys guide for families in Perth
REFRESH-INTERVAL;VALUE=DURATION:PT1H
X-Robots-Tag:noindex
X-PUBLISHED-TTL:PT1H
BEGIN:VTIMEZONE
TZID:Australia/Perth
BEGIN:STANDARD
TZOFFSETFROM:+0800
TZOFFSETTO:+0800
TZNAME:AWST
DTSTART:20240101T000000
END:STANDARD
END:VTIMEZONE
BEGIN:VEVENT
DTSTART;TZID=Australia/Perth:20260424T170000
DTEND;TZID=Australia/Perth:20260424T210000
DTSTAMP:20260426T064211
CREATED:20251112T102804Z
LAST-MODIFIED:20251112T102804Z
UID:10068137-1777050000-1777064400@buggybuddys.com.au
SUMMARY:Kalamunda Night Market
DESCRIPTION:The Kalamunda Night Market is back.\nThink delicious food trucks\, live music\, artisan stalls\, and The Cheeky Possum Market Bar serving up local drinks all night long.\nNo dinner plans needed\, no excuses required. Just round up your crew\, and get ready for good food\, good drinks and good vibes.
URL:https://buggybuddys.com.au/perth-event/kalamunda-night-market/2026-04-24/
LOCATION:Stirk Park\, Elizabeth Street\, Kalamunda\, WA\, 6076\, Australia
CATEGORIES:Food Trucks,Foodie Events,Markets
ATTACH;FMTTYPE=image/png:https://buggybuddys.com.au/wp-content/uploads/2025/11/527861866_1070594498564096_7223377856515835832_n.png
GEO:-31.974;116.058
X-APPLE-STRUCTURED-LOCATION;VALUE=URI;X-ADDRESS=Stirk Park Elizabeth Street Kalamunda WA 6076 Australia;X-APPLE-RADIUS=500;X-TITLE=Elizabeth Street:geo:116.058,-31.974
END:VEVENT
BEGIN:VEVENT
DTSTART;TZID=Australia/Perth:20260327T170000
DTEND;TZID=Australia/Perth:20260327T210000
DTSTAMP:20260426T064211
CREATED:20251112T102804Z
LAST-MODIFIED:20251112T102804Z
UID:10068136-1774630800-1774645200@buggybuddys.com.au
SUMMARY:Kalamunda Night Market
DESCRIPTION:The Kalamunda Night Market is back.\nThink delicious food trucks\, live music\, artisan stalls\, and The Cheeky Possum Market Bar serving up local drinks all night long.\nNo dinner plans needed\, no excuses required. Just round up your crew\, and get ready for good food\, good drinks and good vibes.
URL:https://buggybuddys.com.au/perth-event/kalamunda-night-market/2026-03-27/
LOCATION:Stirk Park\, Elizabeth Street\, Kalamunda\, WA\, 6076\, Australia
CATEGORIES:Food Trucks,Foodie Events,Markets
ATTACH;FMTTYPE=image/png:https://buggybuddys.com.au/wp-content/uploads/2025/11/527861866_1070594498564096_7223377856515835832_n.png
GEO:-31.974;116.058
X-APPLE-STRUCTURED-LOCATION;VALUE=URI;X-ADDRESS=Stirk Park Elizabeth Street Kalamunda WA 6076 Australia;X-APPLE-RADIUS=500;X-TITLE=Elizabeth Street:geo:116.058,-31.974
END:VEVENT
BEGIN:VEVENT
DTSTART;TZID=Australia/Perth:20260227T170000
DTEND;TZID=Australia/Perth:20260227T210000
DTSTAMP:20260426T064211
CREATED:20251112T102804Z
LAST-MODIFIED:20251112T102804Z
UID:10068135-1772211600-1772226000@buggybuddys.com.au
SUMMARY:Kalamunda Night Market
DESCRIPTION:The Kalamunda Night Market is back.\nThink delicious food trucks\, live music\, artisan stalls\, and The Cheeky Possum Market Bar serving up local drinks all night long.\nNo dinner plans needed\, no excuses required. Just round up your crew\, and get ready for good food\, good drinks and good vibes.
URL:https://buggybuddys.com.au/perth-event/kalamunda-night-market/2026-02-27/
LOCATION:Stirk Park\, Elizabeth Street\, Kalamunda\, WA\, 6076\, Australia
CATEGORIES:Food Trucks,Foodie Events,Markets
ATTACH;FMTTYPE=image/png:https://buggybuddys.com.au/wp-content/uploads/2025/11/527861866_1070594498564096_7223377856515835832_n.png
GEO:-31.974;116.058
X-APPLE-STRUCTURED-LOCATION;VALUE=URI;X-ADDRESS=Stirk Park Elizabeth Street Kalamunda WA 6076 Australia;X-APPLE-RADIUS=500;X-TITLE=Elizabeth Street:geo:116.058,-31.974
END:VEVENT
BEGIN:VEVENT
DTSTART;TZID=Australia/Perth:20260123T170000
DTEND;TZID=Australia/Perth:20260123T210000
DTSTAMP:20260426T064211
CREATED:20251112T102804Z
LAST-MODIFIED:20251112T102804Z
UID:10068134-1769187600-1769202000@buggybuddys.com.au
SUMMARY:Kalamunda Night Market
DESCRIPTION:The Kalamunda Night Market is back.\nThink delicious food trucks\, live music\, artisan stalls\, and The Cheeky Possum Market Bar serving up local drinks all night long.\nNo dinner plans needed\, no excuses required. Just round up your crew\, and get ready for good food\, good drinks and good vibes.
URL:https://buggybuddys.com.au/perth-event/kalamunda-night-market/2026-01-23/
LOCATION:Stirk Park\, Elizabeth Street\, Kalamunda\, WA\, 6076\, Australia
CATEGORIES:Food Trucks,Foodie Events,Markets
ATTACH;FMTTYPE=image/png:https://buggybuddys.com.au/wp-content/uploads/2025/11/527861866_1070594498564096_7223377856515835832_n.png
GEO:-31.974;116.058
X-APPLE-STRUCTURED-LOCATION;VALUE=URI;X-ADDRESS=Stirk Park Elizabeth Street Kalamunda WA 6076 Australia;X-APPLE-RADIUS=500;X-TITLE=Elizabeth Street:geo:116.058,-31.974
END:VEVENT
BEGIN:VEVENT
DTSTART;TZID=Australia/Perth:20251226T170000
DTEND;TZID=Australia/Perth:20251226T210000
DTSTAMP:20260426T064211
CREATED:20251112T102804Z
LAST-MODIFIED:20251112T102804Z
UID:10068133-1766768400-1766782800@buggybuddys.com.au
SUMMARY:Kalamunda Night Market
DESCRIPTION:The Kalamunda Night Market is back.\nThink delicious food trucks\, live music\, artisan stalls\, and The Cheeky Possum Market Bar serving up local drinks all night long.\nNo dinner plans needed\, no excuses required. Just round up your crew\, and get ready for good food\, good drinks and good vibes.
URL:https://buggybuddys.com.au/perth-event/kalamunda-night-market/2025-12-26/
LOCATION:Stirk Park\, Elizabeth Street\, Kalamunda\, WA\, 6076\, Australia
CATEGORIES:Food Trucks,Foodie Events,Markets
ATTACH;FMTTYPE=image/png:https://buggybuddys.com.au/wp-content/uploads/2025/11/527861866_1070594498564096_7223377856515835832_n.png
GEO:-31.974;116.058
X-APPLE-STRUCTURED-LOCATION;VALUE=URI;X-ADDRESS=Stirk Park Elizabeth Street Kalamunda WA 6076 Australia;X-APPLE-RADIUS=500;X-TITLE=Elizabeth Street:geo:116.058,-31.974
END:VEVENT
END:VCALENDAR