BEGIN:VCALENDAR
VERSION:2.0
PRODID:-//Buggybuddys guide for families in Perth - ECPv6.15.11//NONSGML v1.0//EN
CALSCALE:GREGORIAN
METHOD:PUBLISH
X-ORIGINAL-URL:https://buggybuddys.com.au
X-WR-CALDESC:Events for Buggybuddys guide for families in Perth
REFRESH-INTERVAL;VALUE=DURATION:PT1H
X-Robots-Tag:noindex
X-PUBLISHED-TTL:PT1H
BEGIN:VTIMEZONE
TZID:Australia/Perth
BEGIN:STANDARD
TZOFFSETFROM:+0800
TZOFFSETTO:+0800
TZNAME:AWST
DTSTART:20250101T000000
END:STANDARD
END:VTIMEZONE
BEGIN:VEVENT
DTSTART;TZID=Australia/Perth:20260214T100000
DTEND;TZID=Australia/Perth:20260214T150000
DTSTAMP:20260423T070839
CREATED:20260211T125547Z
LAST-MODIFIED:20260211T125547Z
UID:10073602-1771063200-1771081200@buggybuddys.com.au
SUMMARY:Library Lovers Day
DESCRIPTION:Ruth Faulkner Library invites you to ‘share the love’ by visiting and telling us in a few words what you love the most about the library. \nLibrary Lovers Day is celebrated around the world\, honouring libraries\, librarians and the love of reading. Promoting the importance of literacy\, learning and community connection. \nJoin us in celebrating everything you love about your Library on Saturday\, 14 February. We will be giving out free cupcakes (while stocks last). You can also go in the draw to win a $50 QBD Books gift voucher by telling us what you love the most about your library! \nAdults can enjoy a cosy afternoon craft session\, facilitated by Library staff in a beginner friendly and welcoming environment. Take home your own unique piece of art at Crafternoon: String Art from 12:30pm to 2pm. Bookings essentail via Humanitix. 
URL:https://buggybuddys.com.au/perth-event/library-lovers-day/
LOCATION:Ruth Faulkner Library\, Belmont Hub\, 213 Wright Street\, Cloverdale\, WA\, 6105\, Australia
CATEGORIES:Free,Library Events
ATTACH;FMTTYPE=image/png:https://buggybuddys.com.au/wp-content/uploads/2026/02/Library-Lovers-Day.png
END:VEVENT
END:VCALENDAR