BEGIN:VCALENDAR
VERSION:2.0
PRODID:-//Buggybuddys guide for families in Perth - ECPv6.15.11//NONSGML v1.0//EN
CALSCALE:GREGORIAN
METHOD:PUBLISH
X-WR-CALNAME:Buggybuddys guide for families in Perth
X-ORIGINAL-URL:https://buggybuddys.com.au
X-WR-CALDESC:Events for Buggybuddys guide for families in Perth
REFRESH-INTERVAL;VALUE=DURATION:PT1H
X-Robots-Tag:noindex
X-PUBLISHED-TTL:PT1H
BEGIN:VTIMEZONE
TZID:Australia/Perth
BEGIN:STANDARD
TZOFFSETFROM:+0800
TZOFFSETTO:+0800
TZNAME:AWST
DTSTART:20240101T000000
END:STANDARD
END:VTIMEZONE
BEGIN:VEVENT
DTSTART;TZID=Australia/Perth:20251225T180000
DTEND;TZID=Australia/Perth:20251225T210000
DTSTAMP:20260426T011046
CREATED:20250907T050637Z
LAST-MODIFIED:20250907T050637Z
UID:10065504-1766685600-1766696400@buggybuddys.com.au
SUMMARY:Christmas Day Dinner Buffet at Rendezvous Scarborough
DESCRIPTION:Celebrate Christmas in style with our indulgent festive buffet. Feast on fresh local seafood including whole tiger prawns\, alongside Christmas classics like honey-glazed ham and roast turkey. Finish with a selection of quality cheeses\, Christmas desserts and a chocolate fountain. \nOur Christmas dinner package includes a 3-hour beverage package with sparkling\, white and red wines\, a selection of domestic beers\, soft drink and juices. \n  \nTiming:\n6PM – 9PM \nPricing:\nAdults (18+) $189PP\nTeen (13-17) $129PP\nChild (6-12) $99PP\nChild (5 under) Free \n  \n  \nBook your table today by contacting one of our experienced team members:\nE: meet.scarborough@rendezvoushotels.com\nP:  +61 8 9340 5711 \n  \nBOOK OUR CHRISTMAS DAY BUFFET BREAKFAST \nBOOK OUR CHRISTMAS DAY BUFFET LUNCH \nSEE MENU 
URL:https://buggybuddys.com.au/perth-event/christmas-day-dinner-buffet-at-rendezvous-scarborough/
LOCATION:Rendezvous Hotel Perth Scarborough\, 148 The Esplanade\, Scarborough\, WA\, 6019\, Australia
CATEGORIES:Christmas
ATTACH;FMTTYPE=image/jpeg:https://buggybuddys.com.au/wp-content/uploads/2025/09/Christmas-Day-Dinner-Buffet-Rendezvous-Scarborough-Hotel.jpg
GEO:-31.8934762;115.7568832
X-APPLE-STRUCTURED-LOCATION;VALUE=URI;X-ADDRESS=Rendezvous Hotel Perth Scarborough 148 The Esplanade Scarborough WA 6019 Australia;X-APPLE-RADIUS=500;X-TITLE=148 The Esplanade:geo:115.7568832,-31.8934762
END:VEVENT
BEGIN:VEVENT
DTSTART;TZID=Australia/Perth:20251225T120000
DTEND;TZID=Australia/Perth:20251225T150000
DTSTAMP:20260426T011046
CREATED:20250907T114357Z
LAST-MODIFIED:20250907T114357Z
UID:10065506-1766664000-1766674800@buggybuddys.com.au
SUMMARY:Christmas Day Lunch Buffet at Rendezvous Hotel Perth
DESCRIPTION:Enjoy quality family time as our chefs prepare an exquisite Christmas buffet. Look forward to live entertainment\, a visit from Santa\, dedicated kids zone and more! \nIndulge in our signature Christmas buffet loaded with fresh local seafood\, a carvery station with Christmas favourites such as honey glazed ham\, lamb roast and turkey with stuffing. Finish with a selection of quality cheeses\, Christmas desserts and a chocolate fountain. \nOur Christmas package includes a 3-hour beverage package with sparkling\, white and red wines\, a selection of domestic beers\, soft drink and juices. \nLittle ones will be entertained for hours in our dedicated kids area featuring a bouncy castle and soft play zone\, giving parents a chance to truly relax and enjoy the celebration. \nOcean view packages\nMentelle Room | Min 6pax\nTime: 12pm-3pm\nPricing:\nAdult: $249\nTeen (13-17): $149\nChild (6-12): $99\nChild (U5): Free \nStraits Cafe |Max 6pax\nTime: 12:30pm – 3:30pm\nPricing:\nAdult: $249\nTeen (13-17): $149\nChild (6-12): $99\nChild (U5): Free \nNo ocean view packages\nGrand Ballroom | Min 4pax\nTime: 12pm-3pm\nPricing:\nAdult: $239\nTeen (13-17): $139\nChild (6-12): $89\nChild (U5): Free \n  \nBook now by either calling our emailing our experienced events team! \nE: meet.scarborough@rendezvoushotels.com\nP:  +61 8 9340 5711 \n  \nBOOK OUR CHRISTMAS DAY BUFFET BREAKFAST \nBOOK OUR CHRISTMAS DAY BUFFET DINNER \n  \nSEE MENU
URL:https://buggybuddys.com.au/perth-event/christmas-day-lunch-buffet-at-rendezvous-hotel-perth/
LOCATION:Rendezvous Hotel Perth Scarborough\, 148 The Esplanade\, Scarborough\, WA\, 6019\, Australia
CATEGORIES:Christmas
GEO:-31.8934762;115.7568832
X-APPLE-STRUCTURED-LOCATION;VALUE=URI;X-ADDRESS=Rendezvous Hotel Perth Scarborough 148 The Esplanade Scarborough WA 6019 Australia;X-APPLE-RADIUS=500;X-TITLE=148 The Esplanade:geo:115.7568832,-31.8934762
END:VEVENT
BEGIN:VEVENT
DTSTART;TZID=Australia/Perth:20251225T080000
DTEND;TZID=Australia/Perth:20251225T110000
DTSTAMP:20260426T011046
CREATED:20250907T114035Z
LAST-MODIFIED:20250907T114035Z
UID:10065505-1766649600-1766660400@buggybuddys.com.au
SUMMARY:Christmas Day Buffet Breakfast at Rendezvous Hotel Perth
DESCRIPTION:Start your Christmas Day with a delightful breakfast buffet at Rendezvous Perth Scarborough. Indulge in a quintessential morning feast featuring all your breakfast favourites from fluffy pancakes and crispy bacon to freshly baked pastries and seasonal fruits. To make the day even more special\, we’re adding a touch of holiday magic with festive Christmas specials. \nJoin us for a memorable Christmas Day breakfast buffet by reserving your spot today and make your Christmas morning truly magical! \nTime: 8am – 11am \nAdult: $55\nChild (5-12): $35\nChild (U5): Free \n  \nBook your table today by contacting one of our experienced team members:\nE: meet.scarborough@rendezvoushotels.com\nP:  +61 8 9340 5711 \n  \nBOOK OUR CHRISTMAS DAY BUFFET LUNCH \nBOOK OUR CHRISTMAS DAY BUFFET DINNER \nSEE MENU
URL:https://buggybuddys.com.au/perth-event/christmas-day-buffet-breakfast-at-rendezvous-hotel-perth/
LOCATION:Rendezvous Hotel Perth Scarborough\, 148 The Esplanade\, Scarborough\, WA\, 6019\, Australia
CATEGORIES:Christmas
ATTACH;FMTTYPE=image/png:https://buggybuddys.com.au/wp-content/uploads/2025/09/Christmas-Day-Buffet-Breakfast-at-Rendezvous-Hotel-Perth.png
GEO:-31.8934762;115.7568832
X-APPLE-STRUCTURED-LOCATION;VALUE=URI;X-ADDRESS=Rendezvous Hotel Perth Scarborough 148 The Esplanade Scarborough WA 6019 Australia;X-APPLE-RADIUS=500;X-TITLE=148 The Esplanade:geo:115.7568832,-31.8934762
END:VEVENT
END:VCALENDAR