BEGIN:VCALENDAR
VERSION:2.0
PRODID:-//Buggybuddys guide for families in Perth - ECPv6.15.11//NONSGML v1.0//EN
CALSCALE:GREGORIAN
METHOD:PUBLISH
X-WR-CALNAME:Buggybuddys guide for families in Perth
X-ORIGINAL-URL:https://buggybuddys.com.au
X-WR-CALDESC:Events for Buggybuddys guide for families in Perth
REFRESH-INTERVAL;VALUE=DURATION:PT1H
X-Robots-Tag:noindex
X-PUBLISHED-TTL:PT1H
BEGIN:VTIMEZONE
TZID:Australia/Perth
BEGIN:STANDARD
TZOFFSETFROM:+0800
TZOFFSETTO:+0800
TZNAME:AWST
DTSTART:20250101T000000
END:STANDARD
END:VTIMEZONE
BEGIN:VEVENT
DTSTART;TZID=Australia/Perth:20260406T120000
DTEND;TZID=Australia/Perth:20260406T170000
DTSTAMP:20260422T133925
CREATED:20260301T141436Z
LAST-MODIFIED:20260301T141436Z
UID:10074959-1775476800-1775494800@buggybuddys.com.au
SUMMARY:FREE Pinjarra Trots FAMILY FUN DAY Easter Monday 6th April
DESCRIPTION:FREE FAMILY FUN DAY!!\nFREE ENTRY • FREE ENTERTAINMENT!\nJoin us for our BIGGEST days at  Pinjarra Paceway for the Pinjarra Cup\n\n\nEnjoy the exciting world of Horse Pacing at the Pinjarra Trots PUBLIC HOLIDAY FAMILY FUN DAY  \nMONDAY 6th April 2026 \n \n☆Free Icy Pole & Lolly Bag for the Children \n☆Live Music \n☆Pony Trots and Pony Trot Cup \n☆Tropical Island Bouncy Castle with obstacles and bollards \n☆Lucky duck Carnival Game \n☆Laughing clown Carnival Game \n☆Face Painting by Nadia \n☆Onsite Play Ground \n☆Old Macdonalds petting Farm \n☆Ponies4ao PONY RIDES – look them up on Facebook! They’re absolutely beautiful! \n☆Food trucks!
URL:https://buggybuddys.com.au/perth-event/free-pinjarra-trots-family-fun-day-easter-monday-6th-april/
LOCATION:Pinjarra Harness Racing Club Inc.\, 7 Paceway Court\, Pinjarra\, WA\, 6208\, Australia
CATEGORIES:Easter
ATTACH;FMTTYPE=image/jpeg:https://buggybuddys.com.au/wp-content/uploads/2026/03/32dad76fe8355c1d9cbbc6b698153dc1.jpg
END:VEVENT
END:VCALENDAR