BEGIN:VCALENDAR
VERSION:2.0
PRODID:-//Buggybuddys guide for families in Perth - ECPv6.15.11//NONSGML v1.0//EN
CALSCALE:GREGORIAN
METHOD:PUBLISH
X-ORIGINAL-URL:https://buggybuddys.com.au
X-WR-CALDESC:Events for Buggybuddys guide for families in Perth
REFRESH-INTERVAL;VALUE=DURATION:PT1H
X-Robots-Tag:noindex
X-PUBLISHED-TTL:PT1H
BEGIN:VTIMEZONE
TZID:Australia/Perth
BEGIN:STANDARD
TZOFFSETFROM:+0800
TZOFFSETTO:+0800
TZNAME:AWST
DTSTART:20250101T000000
END:STANDARD
END:VTIMEZONE
BEGIN:VEVENT
DTSTART;TZID=Australia/Perth:20260601T090000
DTEND;TZID=Australia/Perth:20260601T160000
DTSTAMP:20260422T113359
CREATED:20260415T151358Z
LAST-MODIFIED:20260415T151358Z
UID:10077076-1780304400-1780329600@buggybuddys.com.au
SUMMARY:Revealed Exhibition
DESCRIPTION:As part of WA’s biggest celebration of Aboriginal art\, Revealed: New and Emerging WA Aboriginal Artists\, returns to Boorloo (Perth) with an eight-week exhibition at the Perth Institute of Contemporary Arts (PICA). \nMore than 100 Aboriginal artists\, representing 28 Aboriginal art centres\, as well as 10 independent artists\, have contributed a kaleidoscopic 185 artworks to this year’s exhibition\, curated by proud Whadjuk\, Balladong and Wilman Noongar artist and independent curator Zali Morgan. \nShowcasing the diversity\, depth and cultural strength of Aboriginal art practices\, Revealed transports audiences across the vast state of Western Australia—from the red dirt of the Kimberley to the towering forests of the South-West—with works spanning painting\, printmaking\, photography\, drawing\, sculpture and weaving. \nThe exhibition provides a major platform for Aboriginal artists\, most of whom are based in remote and regional communities\, to share their works with the wider public and derive a sustainable income to support themselves and their communities. \nVisit Website
URL:https://buggybuddys.com.au/perth-event/revealed-exhibition/2026-06-01/
LOCATION:Perth Institute of Contemporary Arts (PICA)\, 51 James Street\, Perth\, WA\, 6000\, Australia
CATEGORIES:Exhibition,Free
ATTACH;FMTTYPE=image/jpeg:https://buggybuddys.com.au/wp-content/uploads/2026/04/Revealed-Exhibition.jpg
END:VEVENT
BEGIN:VEVENT
DTSTART;TZID=Australia/Perth:20260602T090000
DTEND;TZID=Australia/Perth:20260602T160000
DTSTAMP:20260422T113359
CREATED:20260415T151358Z
LAST-MODIFIED:20260415T151358Z
UID:10077077-1780390800-1780416000@buggybuddys.com.au
SUMMARY:Revealed Exhibition
DESCRIPTION:As part of WA’s biggest celebration of Aboriginal art\, Revealed: New and Emerging WA Aboriginal Artists\, returns to Boorloo (Perth) with an eight-week exhibition at the Perth Institute of Contemporary Arts (PICA). \nMore than 100 Aboriginal artists\, representing 28 Aboriginal art centres\, as well as 10 independent artists\, have contributed a kaleidoscopic 185 artworks to this year’s exhibition\, curated by proud Whadjuk\, Balladong and Wilman Noongar artist and independent curator Zali Morgan. \nShowcasing the diversity\, depth and cultural strength of Aboriginal art practices\, Revealed transports audiences across the vast state of Western Australia—from the red dirt of the Kimberley to the towering forests of the South-West—with works spanning painting\, printmaking\, photography\, drawing\, sculpture and weaving. \nThe exhibition provides a major platform for Aboriginal artists\, most of whom are based in remote and regional communities\, to share their works with the wider public and derive a sustainable income to support themselves and their communities. \nVisit Website
URL:https://buggybuddys.com.au/perth-event/revealed-exhibition/2026-06-02/
LOCATION:Perth Institute of Contemporary Arts (PICA)\, 51 James Street\, Perth\, WA\, 6000\, Australia
CATEGORIES:Exhibition,Free
ATTACH;FMTTYPE=image/jpeg:https://buggybuddys.com.au/wp-content/uploads/2026/04/Revealed-Exhibition.jpg
END:VEVENT
BEGIN:VEVENT
DTSTART;TZID=Australia/Perth:20260603T090000
DTEND;TZID=Australia/Perth:20260603T160000
DTSTAMP:20260422T113359
CREATED:20260415T151358Z
LAST-MODIFIED:20260415T151358Z
UID:10077078-1780477200-1780502400@buggybuddys.com.au
SUMMARY:Revealed Exhibition
DESCRIPTION:As part of WA’s biggest celebration of Aboriginal art\, Revealed: New and Emerging WA Aboriginal Artists\, returns to Boorloo (Perth) with an eight-week exhibition at the Perth Institute of Contemporary Arts (PICA). \nMore than 100 Aboriginal artists\, representing 28 Aboriginal art centres\, as well as 10 independent artists\, have contributed a kaleidoscopic 185 artworks to this year’s exhibition\, curated by proud Whadjuk\, Balladong and Wilman Noongar artist and independent curator Zali Morgan. \nShowcasing the diversity\, depth and cultural strength of Aboriginal art practices\, Revealed transports audiences across the vast state of Western Australia—from the red dirt of the Kimberley to the towering forests of the South-West—with works spanning painting\, printmaking\, photography\, drawing\, sculpture and weaving. \nThe exhibition provides a major platform for Aboriginal artists\, most of whom are based in remote and regional communities\, to share their works with the wider public and derive a sustainable income to support themselves and their communities. \nVisit Website
URL:https://buggybuddys.com.au/perth-event/revealed-exhibition/2026-06-03/
LOCATION:Perth Institute of Contemporary Arts (PICA)\, 51 James Street\, Perth\, WA\, 6000\, Australia
CATEGORIES:Exhibition,Free
ATTACH;FMTTYPE=image/jpeg:https://buggybuddys.com.au/wp-content/uploads/2026/04/Revealed-Exhibition.jpg
END:VEVENT
BEGIN:VEVENT
DTSTART;TZID=Australia/Perth:20260604T090000
DTEND;TZID=Australia/Perth:20260604T160000
DTSTAMP:20260422T113359
CREATED:20260415T151358Z
LAST-MODIFIED:20260415T151358Z
UID:10077079-1780563600-1780588800@buggybuddys.com.au
SUMMARY:Revealed Exhibition
DESCRIPTION:As part of WA’s biggest celebration of Aboriginal art\, Revealed: New and Emerging WA Aboriginal Artists\, returns to Boorloo (Perth) with an eight-week exhibition at the Perth Institute of Contemporary Arts (PICA). \nMore than 100 Aboriginal artists\, representing 28 Aboriginal art centres\, as well as 10 independent artists\, have contributed a kaleidoscopic 185 artworks to this year’s exhibition\, curated by proud Whadjuk\, Balladong and Wilman Noongar artist and independent curator Zali Morgan. \nShowcasing the diversity\, depth and cultural strength of Aboriginal art practices\, Revealed transports audiences across the vast state of Western Australia—from the red dirt of the Kimberley to the towering forests of the South-West—with works spanning painting\, printmaking\, photography\, drawing\, sculpture and weaving. \nThe exhibition provides a major platform for Aboriginal artists\, most of whom are based in remote and regional communities\, to share their works with the wider public and derive a sustainable income to support themselves and their communities. \nVisit Website
URL:https://buggybuddys.com.au/perth-event/revealed-exhibition/2026-06-04/
LOCATION:Perth Institute of Contemporary Arts (PICA)\, 51 James Street\, Perth\, WA\, 6000\, Australia
CATEGORIES:Exhibition,Free
ATTACH;FMTTYPE=image/jpeg:https://buggybuddys.com.au/wp-content/uploads/2026/04/Revealed-Exhibition.jpg
END:VEVENT
BEGIN:VEVENT
DTSTART;TZID=Australia/Perth:20260605T090000
DTEND;TZID=Australia/Perth:20260605T160000
DTSTAMP:20260422T113359
CREATED:20260415T151358Z
LAST-MODIFIED:20260415T151358Z
UID:10077080-1780650000-1780675200@buggybuddys.com.au
SUMMARY:Revealed Exhibition
DESCRIPTION:As part of WA’s biggest celebration of Aboriginal art\, Revealed: New and Emerging WA Aboriginal Artists\, returns to Boorloo (Perth) with an eight-week exhibition at the Perth Institute of Contemporary Arts (PICA). \nMore than 100 Aboriginal artists\, representing 28 Aboriginal art centres\, as well as 10 independent artists\, have contributed a kaleidoscopic 185 artworks to this year’s exhibition\, curated by proud Whadjuk\, Balladong and Wilman Noongar artist and independent curator Zali Morgan. \nShowcasing the diversity\, depth and cultural strength of Aboriginal art practices\, Revealed transports audiences across the vast state of Western Australia—from the red dirt of the Kimberley to the towering forests of the South-West—with works spanning painting\, printmaking\, photography\, drawing\, sculpture and weaving. \nThe exhibition provides a major platform for Aboriginal artists\, most of whom are based in remote and regional communities\, to share their works with the wider public and derive a sustainable income to support themselves and their communities. \nVisit Website
URL:https://buggybuddys.com.au/perth-event/revealed-exhibition/2026-06-05/
LOCATION:Perth Institute of Contemporary Arts (PICA)\, 51 James Street\, Perth\, WA\, 6000\, Australia
CATEGORIES:Exhibition,Free
ATTACH;FMTTYPE=image/jpeg:https://buggybuddys.com.au/wp-content/uploads/2026/04/Revealed-Exhibition.jpg
END:VEVENT
BEGIN:VEVENT
DTSTART;TZID=Australia/Perth:20260606T090000
DTEND;TZID=Australia/Perth:20260606T160000
DTSTAMP:20260422T113359
CREATED:20260415T151358Z
LAST-MODIFIED:20260415T151358Z
UID:10077081-1780736400-1780761600@buggybuddys.com.au
SUMMARY:Revealed Exhibition
DESCRIPTION:As part of WA’s biggest celebration of Aboriginal art\, Revealed: New and Emerging WA Aboriginal Artists\, returns to Boorloo (Perth) with an eight-week exhibition at the Perth Institute of Contemporary Arts (PICA). \nMore than 100 Aboriginal artists\, representing 28 Aboriginal art centres\, as well as 10 independent artists\, have contributed a kaleidoscopic 185 artworks to this year’s exhibition\, curated by proud Whadjuk\, Balladong and Wilman Noongar artist and independent curator Zali Morgan. \nShowcasing the diversity\, depth and cultural strength of Aboriginal art practices\, Revealed transports audiences across the vast state of Western Australia—from the red dirt of the Kimberley to the towering forests of the South-West—with works spanning painting\, printmaking\, photography\, drawing\, sculpture and weaving. \nThe exhibition provides a major platform for Aboriginal artists\, most of whom are based in remote and regional communities\, to share their works with the wider public and derive a sustainable income to support themselves and their communities. \nVisit Website
URL:https://buggybuddys.com.au/perth-event/revealed-exhibition/2026-06-06/
LOCATION:Perth Institute of Contemporary Arts (PICA)\, 51 James Street\, Perth\, WA\, 6000\, Australia
CATEGORIES:Exhibition,Free
ATTACH;FMTTYPE=image/jpeg:https://buggybuddys.com.au/wp-content/uploads/2026/04/Revealed-Exhibition.jpg
END:VEVENT
BEGIN:VEVENT
DTSTART;TZID=Australia/Perth:20260607T090000
DTEND;TZID=Australia/Perth:20260607T160000
DTSTAMP:20260422T113359
CREATED:20260415T151358Z
LAST-MODIFIED:20260415T151358Z
UID:10077082-1780822800-1780848000@buggybuddys.com.au
SUMMARY:Revealed Exhibition
DESCRIPTION:As part of WA’s biggest celebration of Aboriginal art\, Revealed: New and Emerging WA Aboriginal Artists\, returns to Boorloo (Perth) with an eight-week exhibition at the Perth Institute of Contemporary Arts (PICA). \nMore than 100 Aboriginal artists\, representing 28 Aboriginal art centres\, as well as 10 independent artists\, have contributed a kaleidoscopic 185 artworks to this year’s exhibition\, curated by proud Whadjuk\, Balladong and Wilman Noongar artist and independent curator Zali Morgan. \nShowcasing the diversity\, depth and cultural strength of Aboriginal art practices\, Revealed transports audiences across the vast state of Western Australia—from the red dirt of the Kimberley to the towering forests of the South-West—with works spanning painting\, printmaking\, photography\, drawing\, sculpture and weaving. \nThe exhibition provides a major platform for Aboriginal artists\, most of whom are based in remote and regional communities\, to share their works with the wider public and derive a sustainable income to support themselves and their communities. \nVisit Website
URL:https://buggybuddys.com.au/perth-event/revealed-exhibition/2026-06-07/
LOCATION:Perth Institute of Contemporary Arts (PICA)\, 51 James Street\, Perth\, WA\, 6000\, Australia
CATEGORIES:Exhibition,Free
ATTACH;FMTTYPE=image/jpeg:https://buggybuddys.com.au/wp-content/uploads/2026/04/Revealed-Exhibition.jpg
END:VEVENT
BEGIN:VEVENT
DTSTART;TZID=Australia/Perth:20260608T090000
DTEND;TZID=Australia/Perth:20260608T160000
DTSTAMP:20260422T113359
CREATED:20260415T151358Z
LAST-MODIFIED:20260415T151358Z
UID:10077083-1780909200-1780934400@buggybuddys.com.au
SUMMARY:Revealed Exhibition
DESCRIPTION:As part of WA’s biggest celebration of Aboriginal art\, Revealed: New and Emerging WA Aboriginal Artists\, returns to Boorloo (Perth) with an eight-week exhibition at the Perth Institute of Contemporary Arts (PICA). \nMore than 100 Aboriginal artists\, representing 28 Aboriginal art centres\, as well as 10 independent artists\, have contributed a kaleidoscopic 185 artworks to this year’s exhibition\, curated by proud Whadjuk\, Balladong and Wilman Noongar artist and independent curator Zali Morgan. \nShowcasing the diversity\, depth and cultural strength of Aboriginal art practices\, Revealed transports audiences across the vast state of Western Australia—from the red dirt of the Kimberley to the towering forests of the South-West—with works spanning painting\, printmaking\, photography\, drawing\, sculpture and weaving. \nThe exhibition provides a major platform for Aboriginal artists\, most of whom are based in remote and regional communities\, to share their works with the wider public and derive a sustainable income to support themselves and their communities. \nVisit Website
URL:https://buggybuddys.com.au/perth-event/revealed-exhibition/2026-06-08/
LOCATION:Perth Institute of Contemporary Arts (PICA)\, 51 James Street\, Perth\, WA\, 6000\, Australia
CATEGORIES:Exhibition,Free
ATTACH;FMTTYPE=image/jpeg:https://buggybuddys.com.au/wp-content/uploads/2026/04/Revealed-Exhibition.jpg
END:VEVENT
BEGIN:VEVENT
DTSTART;TZID=Australia/Perth:20260609T090000
DTEND;TZID=Australia/Perth:20260609T160000
DTSTAMP:20260422T113359
CREATED:20260415T151358Z
LAST-MODIFIED:20260415T151358Z
UID:10077084-1780995600-1781020800@buggybuddys.com.au
SUMMARY:Revealed Exhibition
DESCRIPTION:As part of WA’s biggest celebration of Aboriginal art\, Revealed: New and Emerging WA Aboriginal Artists\, returns to Boorloo (Perth) with an eight-week exhibition at the Perth Institute of Contemporary Arts (PICA). \nMore than 100 Aboriginal artists\, representing 28 Aboriginal art centres\, as well as 10 independent artists\, have contributed a kaleidoscopic 185 artworks to this year’s exhibition\, curated by proud Whadjuk\, Balladong and Wilman Noongar artist and independent curator Zali Morgan. \nShowcasing the diversity\, depth and cultural strength of Aboriginal art practices\, Revealed transports audiences across the vast state of Western Australia—from the red dirt of the Kimberley to the towering forests of the South-West—with works spanning painting\, printmaking\, photography\, drawing\, sculpture and weaving. \nThe exhibition provides a major platform for Aboriginal artists\, most of whom are based in remote and regional communities\, to share their works with the wider public and derive a sustainable income to support themselves and their communities. \nVisit Website
URL:https://buggybuddys.com.au/perth-event/revealed-exhibition/2026-06-09/
LOCATION:Perth Institute of Contemporary Arts (PICA)\, 51 James Street\, Perth\, WA\, 6000\, Australia
CATEGORIES:Exhibition,Free
ATTACH;FMTTYPE=image/jpeg:https://buggybuddys.com.au/wp-content/uploads/2026/04/Revealed-Exhibition.jpg
END:VEVENT
BEGIN:VEVENT
DTSTART;TZID=Australia/Perth:20260610T090000
DTEND;TZID=Australia/Perth:20260610T160000
DTSTAMP:20260422T113359
CREATED:20260415T151358Z
LAST-MODIFIED:20260415T151358Z
UID:10077085-1781082000-1781107200@buggybuddys.com.au
SUMMARY:Revealed Exhibition
DESCRIPTION:As part of WA’s biggest celebration of Aboriginal art\, Revealed: New and Emerging WA Aboriginal Artists\, returns to Boorloo (Perth) with an eight-week exhibition at the Perth Institute of Contemporary Arts (PICA). \nMore than 100 Aboriginal artists\, representing 28 Aboriginal art centres\, as well as 10 independent artists\, have contributed a kaleidoscopic 185 artworks to this year’s exhibition\, curated by proud Whadjuk\, Balladong and Wilman Noongar artist and independent curator Zali Morgan. \nShowcasing the diversity\, depth and cultural strength of Aboriginal art practices\, Revealed transports audiences across the vast state of Western Australia—from the red dirt of the Kimberley to the towering forests of the South-West—with works spanning painting\, printmaking\, photography\, drawing\, sculpture and weaving. \nThe exhibition provides a major platform for Aboriginal artists\, most of whom are based in remote and regional communities\, to share their works with the wider public and derive a sustainable income to support themselves and their communities. \nVisit Website
URL:https://buggybuddys.com.au/perth-event/revealed-exhibition/2026-06-10/
LOCATION:Perth Institute of Contemporary Arts (PICA)\, 51 James Street\, Perth\, WA\, 6000\, Australia
CATEGORIES:Exhibition,Free
ATTACH;FMTTYPE=image/jpeg:https://buggybuddys.com.au/wp-content/uploads/2026/04/Revealed-Exhibition.jpg
END:VEVENT
BEGIN:VEVENT
DTSTART;TZID=Australia/Perth:20260611T090000
DTEND;TZID=Australia/Perth:20260611T160000
DTSTAMP:20260422T113359
CREATED:20260415T151358Z
LAST-MODIFIED:20260415T151358Z
UID:10077086-1781168400-1781193600@buggybuddys.com.au
SUMMARY:Revealed Exhibition
DESCRIPTION:As part of WA’s biggest celebration of Aboriginal art\, Revealed: New and Emerging WA Aboriginal Artists\, returns to Boorloo (Perth) with an eight-week exhibition at the Perth Institute of Contemporary Arts (PICA). \nMore than 100 Aboriginal artists\, representing 28 Aboriginal art centres\, as well as 10 independent artists\, have contributed a kaleidoscopic 185 artworks to this year’s exhibition\, curated by proud Whadjuk\, Balladong and Wilman Noongar artist and independent curator Zali Morgan. \nShowcasing the diversity\, depth and cultural strength of Aboriginal art practices\, Revealed transports audiences across the vast state of Western Australia—from the red dirt of the Kimberley to the towering forests of the South-West—with works spanning painting\, printmaking\, photography\, drawing\, sculpture and weaving. \nThe exhibition provides a major platform for Aboriginal artists\, most of whom are based in remote and regional communities\, to share their works with the wider public and derive a sustainable income to support themselves and their communities. \nVisit Website
URL:https://buggybuddys.com.au/perth-event/revealed-exhibition/2026-06-11/
LOCATION:Perth Institute of Contemporary Arts (PICA)\, 51 James Street\, Perth\, WA\, 6000\, Australia
CATEGORIES:Exhibition,Free
ATTACH;FMTTYPE=image/jpeg:https://buggybuddys.com.au/wp-content/uploads/2026/04/Revealed-Exhibition.jpg
END:VEVENT
BEGIN:VEVENT
DTSTART;TZID=Australia/Perth:20260612T090000
DTEND;TZID=Australia/Perth:20260612T160000
DTSTAMP:20260422T113359
CREATED:20260415T151358Z
LAST-MODIFIED:20260415T151358Z
UID:10077087-1781254800-1781280000@buggybuddys.com.au
SUMMARY:Revealed Exhibition
DESCRIPTION:As part of WA’s biggest celebration of Aboriginal art\, Revealed: New and Emerging WA Aboriginal Artists\, returns to Boorloo (Perth) with an eight-week exhibition at the Perth Institute of Contemporary Arts (PICA). \nMore than 100 Aboriginal artists\, representing 28 Aboriginal art centres\, as well as 10 independent artists\, have contributed a kaleidoscopic 185 artworks to this year’s exhibition\, curated by proud Whadjuk\, Balladong and Wilman Noongar artist and independent curator Zali Morgan. \nShowcasing the diversity\, depth and cultural strength of Aboriginal art practices\, Revealed transports audiences across the vast state of Western Australia—from the red dirt of the Kimberley to the towering forests of the South-West—with works spanning painting\, printmaking\, photography\, drawing\, sculpture and weaving. \nThe exhibition provides a major platform for Aboriginal artists\, most of whom are based in remote and regional communities\, to share their works with the wider public and derive a sustainable income to support themselves and their communities. \nVisit Website
URL:https://buggybuddys.com.au/perth-event/revealed-exhibition/2026-06-12/
LOCATION:Perth Institute of Contemporary Arts (PICA)\, 51 James Street\, Perth\, WA\, 6000\, Australia
CATEGORIES:Exhibition,Free
ATTACH;FMTTYPE=image/jpeg:https://buggybuddys.com.au/wp-content/uploads/2026/04/Revealed-Exhibition.jpg
END:VEVENT
BEGIN:VEVENT
DTSTART;TZID=Australia/Perth:20260613T090000
DTEND;TZID=Australia/Perth:20260613T160000
DTSTAMP:20260422T113359
CREATED:20260415T151358Z
LAST-MODIFIED:20260415T151358Z
UID:10077088-1781341200-1781366400@buggybuddys.com.au
SUMMARY:Revealed Exhibition
DESCRIPTION:As part of WA’s biggest celebration of Aboriginal art\, Revealed: New and Emerging WA Aboriginal Artists\, returns to Boorloo (Perth) with an eight-week exhibition at the Perth Institute of Contemporary Arts (PICA). \nMore than 100 Aboriginal artists\, representing 28 Aboriginal art centres\, as well as 10 independent artists\, have contributed a kaleidoscopic 185 artworks to this year’s exhibition\, curated by proud Whadjuk\, Balladong and Wilman Noongar artist and independent curator Zali Morgan. \nShowcasing the diversity\, depth and cultural strength of Aboriginal art practices\, Revealed transports audiences across the vast state of Western Australia—from the red dirt of the Kimberley to the towering forests of the South-West—with works spanning painting\, printmaking\, photography\, drawing\, sculpture and weaving. \nThe exhibition provides a major platform for Aboriginal artists\, most of whom are based in remote and regional communities\, to share their works with the wider public and derive a sustainable income to support themselves and their communities. \nVisit Website
URL:https://buggybuddys.com.au/perth-event/revealed-exhibition/2026-06-13/
LOCATION:Perth Institute of Contemporary Arts (PICA)\, 51 James Street\, Perth\, WA\, 6000\, Australia
CATEGORIES:Exhibition,Free
ATTACH;FMTTYPE=image/jpeg:https://buggybuddys.com.au/wp-content/uploads/2026/04/Revealed-Exhibition.jpg
END:VEVENT
BEGIN:VEVENT
DTSTART;TZID=Australia/Perth:20260614T090000
DTEND;TZID=Australia/Perth:20260614T160000
DTSTAMP:20260422T113359
CREATED:20260415T151358Z
LAST-MODIFIED:20260415T151358Z
UID:10077089-1781427600-1781452800@buggybuddys.com.au
SUMMARY:Revealed Exhibition
DESCRIPTION:As part of WA’s biggest celebration of Aboriginal art\, Revealed: New and Emerging WA Aboriginal Artists\, returns to Boorloo (Perth) with an eight-week exhibition at the Perth Institute of Contemporary Arts (PICA). \nMore than 100 Aboriginal artists\, representing 28 Aboriginal art centres\, as well as 10 independent artists\, have contributed a kaleidoscopic 185 artworks to this year’s exhibition\, curated by proud Whadjuk\, Balladong and Wilman Noongar artist and independent curator Zali Morgan. \nShowcasing the diversity\, depth and cultural strength of Aboriginal art practices\, Revealed transports audiences across the vast state of Western Australia—from the red dirt of the Kimberley to the towering forests of the South-West—with works spanning painting\, printmaking\, photography\, drawing\, sculpture and weaving. \nThe exhibition provides a major platform for Aboriginal artists\, most of whom are based in remote and regional communities\, to share their works with the wider public and derive a sustainable income to support themselves and their communities. \nVisit Website
URL:https://buggybuddys.com.au/perth-event/revealed-exhibition/2026-06-14/
LOCATION:Perth Institute of Contemporary Arts (PICA)\, 51 James Street\, Perth\, WA\, 6000\, Australia
CATEGORIES:Exhibition,Free
ATTACH;FMTTYPE=image/jpeg:https://buggybuddys.com.au/wp-content/uploads/2026/04/Revealed-Exhibition.jpg
END:VEVENT
END:VCALENDAR