BEGIN:VCALENDAR
VERSION:2.0
PRODID:-//Buggybuddys guide for families in Perth - ECPv6.15.11//NONSGML v1.0//EN
CALSCALE:GREGORIAN
METHOD:PUBLISH
X-ORIGINAL-URL:https://buggybuddys.com.au
X-WR-CALDESC:Events for Buggybuddys guide for families in Perth
REFRESH-INTERVAL;VALUE=DURATION:PT1H
X-Robots-Tag:noindex
X-PUBLISHED-TTL:PT1H
BEGIN:VTIMEZONE
TZID:Australia/Perth
BEGIN:STANDARD
TZOFFSETFROM:+0800
TZOFFSETTO:+0800
TZNAME:AWST
DTSTART:20250101T000000
END:STANDARD
END:VTIMEZONE
BEGIN:VEVENT
DTSTART;TZID=Australia/Perth:20260421T090000
DTEND;TZID=Australia/Perth:20260421T160000
DTSTAMP:20260422T124725
CREATED:20260415T151358Z
LAST-MODIFIED:20260415T151358Z
UID:10077035-1776762000-1776787200@buggybuddys.com.au
SUMMARY:Revealed Exhibition
DESCRIPTION:As part of WA’s biggest celebration of Aboriginal art\, Revealed: New and Emerging WA Aboriginal Artists\, returns to Boorloo (Perth) with an eight-week exhibition at the Perth Institute of Contemporary Arts (PICA). \nMore than 100 Aboriginal artists\, representing 28 Aboriginal art centres\, as well as 10 independent artists\, have contributed a kaleidoscopic 185 artworks to this year’s exhibition\, curated by proud Whadjuk\, Balladong and Wilman Noongar artist and independent curator Zali Morgan. \nShowcasing the diversity\, depth and cultural strength of Aboriginal art practices\, Revealed transports audiences across the vast state of Western Australia—from the red dirt of the Kimberley to the towering forests of the South-West—with works spanning painting\, printmaking\, photography\, drawing\, sculpture and weaving. \nThe exhibition provides a major platform for Aboriginal artists\, most of whom are based in remote and regional communities\, to share their works with the wider public and derive a sustainable income to support themselves and their communities. \nVisit Website
URL:https://buggybuddys.com.au/perth-event/revealed-exhibition/2026-04-21/
LOCATION:Perth Institute of Contemporary Arts (PICA)\, 51 James Street\, Perth\, WA\, 6000\, Australia
CATEGORIES:Exhibition,Free
ATTACH;FMTTYPE=image/jpeg:https://buggybuddys.com.au/wp-content/uploads/2026/04/Revealed-Exhibition.jpg
END:VEVENT
BEGIN:VEVENT
DTSTART;TZID=Australia/Perth:20260420T090000
DTEND;TZID=Australia/Perth:20260420T160000
DTSTAMP:20260422T124725
CREATED:20260415T151358Z
LAST-MODIFIED:20260415T151358Z
UID:10077034-1776675600-1776700800@buggybuddys.com.au
SUMMARY:Revealed Exhibition
DESCRIPTION:As part of WA’s biggest celebration of Aboriginal art\, Revealed: New and Emerging WA Aboriginal Artists\, returns to Boorloo (Perth) with an eight-week exhibition at the Perth Institute of Contemporary Arts (PICA). \nMore than 100 Aboriginal artists\, representing 28 Aboriginal art centres\, as well as 10 independent artists\, have contributed a kaleidoscopic 185 artworks to this year’s exhibition\, curated by proud Whadjuk\, Balladong and Wilman Noongar artist and independent curator Zali Morgan. \nShowcasing the diversity\, depth and cultural strength of Aboriginal art practices\, Revealed transports audiences across the vast state of Western Australia—from the red dirt of the Kimberley to the towering forests of the South-West—with works spanning painting\, printmaking\, photography\, drawing\, sculpture and weaving. \nThe exhibition provides a major platform for Aboriginal artists\, most of whom are based in remote and regional communities\, to share their works with the wider public and derive a sustainable income to support themselves and their communities. \nVisit Website
URL:https://buggybuddys.com.au/perth-event/revealed-exhibition/2026-04-20/
LOCATION:Perth Institute of Contemporary Arts (PICA)\, 51 James Street\, Perth\, WA\, 6000\, Australia
CATEGORIES:Exhibition,Free
ATTACH;FMTTYPE=image/jpeg:https://buggybuddys.com.au/wp-content/uploads/2026/04/Revealed-Exhibition.jpg
END:VEVENT
BEGIN:VEVENT
DTSTART;TZID=Australia/Perth:20260419T090000
DTEND;TZID=Australia/Perth:20260419T160000
DTSTAMP:20260422T124725
CREATED:20260415T151358Z
LAST-MODIFIED:20260415T151358Z
UID:10077033-1776589200-1776614400@buggybuddys.com.au
SUMMARY:Revealed Exhibition
DESCRIPTION:As part of WA’s biggest celebration of Aboriginal art\, Revealed: New and Emerging WA Aboriginal Artists\, returns to Boorloo (Perth) with an eight-week exhibition at the Perth Institute of Contemporary Arts (PICA). \nMore than 100 Aboriginal artists\, representing 28 Aboriginal art centres\, as well as 10 independent artists\, have contributed a kaleidoscopic 185 artworks to this year’s exhibition\, curated by proud Whadjuk\, Balladong and Wilman Noongar artist and independent curator Zali Morgan. \nShowcasing the diversity\, depth and cultural strength of Aboriginal art practices\, Revealed transports audiences across the vast state of Western Australia—from the red dirt of the Kimberley to the towering forests of the South-West—with works spanning painting\, printmaking\, photography\, drawing\, sculpture and weaving. \nThe exhibition provides a major platform for Aboriginal artists\, most of whom are based in remote and regional communities\, to share their works with the wider public and derive a sustainable income to support themselves and their communities. \nVisit Website
URL:https://buggybuddys.com.au/perth-event/revealed-exhibition/2026-04-19/
LOCATION:Perth Institute of Contemporary Arts (PICA)\, 51 James Street\, Perth\, WA\, 6000\, Australia
CATEGORIES:Exhibition,Free
ATTACH;FMTTYPE=image/jpeg:https://buggybuddys.com.au/wp-content/uploads/2026/04/Revealed-Exhibition.jpg
END:VEVENT
BEGIN:VEVENT
DTSTART;TZID=Australia/Perth:20260418T090000
DTEND;TZID=Australia/Perth:20260418T160000
DTSTAMP:20260422T124725
CREATED:20260415T151358Z
LAST-MODIFIED:20260415T151358Z
UID:10077032-1776502800-1776528000@buggybuddys.com.au
SUMMARY:Revealed Exhibition
DESCRIPTION:As part of WA’s biggest celebration of Aboriginal art\, Revealed: New and Emerging WA Aboriginal Artists\, returns to Boorloo (Perth) with an eight-week exhibition at the Perth Institute of Contemporary Arts (PICA). \nMore than 100 Aboriginal artists\, representing 28 Aboriginal art centres\, as well as 10 independent artists\, have contributed a kaleidoscopic 185 artworks to this year’s exhibition\, curated by proud Whadjuk\, Balladong and Wilman Noongar artist and independent curator Zali Morgan. \nShowcasing the diversity\, depth and cultural strength of Aboriginal art practices\, Revealed transports audiences across the vast state of Western Australia—from the red dirt of the Kimberley to the towering forests of the South-West—with works spanning painting\, printmaking\, photography\, drawing\, sculpture and weaving. \nThe exhibition provides a major platform for Aboriginal artists\, most of whom are based in remote and regional communities\, to share their works with the wider public and derive a sustainable income to support themselves and their communities. \nVisit Website
URL:https://buggybuddys.com.au/perth-event/revealed-exhibition/2026-04-18/
LOCATION:Perth Institute of Contemporary Arts (PICA)\, 51 James Street\, Perth\, WA\, 6000\, Australia
CATEGORIES:Exhibition,Free
ATTACH;FMTTYPE=image/jpeg:https://buggybuddys.com.au/wp-content/uploads/2026/04/Revealed-Exhibition.jpg
END:VEVENT
END:VCALENDAR