BEGIN:VCALENDAR
VERSION:2.0
PRODID:-//Buggybuddys guide for families in Perth - ECPv6.15.11//NONSGML v1.0//EN
CALSCALE:GREGORIAN
METHOD:PUBLISH
X-ORIGINAL-URL:https://buggybuddys.com.au
X-WR-CALDESC:Events for Buggybuddys guide for families in Perth
REFRESH-INTERVAL;VALUE=DURATION:PT1H
X-Robots-Tag:noindex
X-PUBLISHED-TTL:PT1H
BEGIN:VTIMEZONE
TZID:Australia/Perth
BEGIN:STANDARD
TZOFFSETFROM:+0800
TZOFFSETTO:+0800
TZNAME:AWST
DTSTART:20250101T000000
END:STANDARD
END:VTIMEZONE
BEGIN:VEVENT
DTSTART;TZID=Australia/Perth:20260130T173000
DTEND;TZID=Australia/Perth:20260130T190000
DTSTAMP:20260421T193009
CREATED:20251210T134900Z
LAST-MODIFIED:20251210T134900Z
UID:10068716-1769794200-1769799600@buggybuddys.com.au
SUMMARY:Art Exhibtion : Walking Home To Myself
DESCRIPTION:Come explore self-discovery through stunning art at “Walking Home To Myself”—inspired by the Artist’ 1000-mile solo Trek\, bonus film showing\n\n\nArt Exhibition: Walking Home To Myself\nJoin us for a unique in-person experience at the Art Exhibition: Walking Home To Myself. This standout occasion promises to inspire\, entertain\, and tell multiple stories. Dive into a journey of self-discovery and creativity through stunning artworks that speak to the soul. Liv has curated this collection of paintings after completing her solo trek from the bottom of England to the top of Scotland. Whether you’re an art lover\, appreciate stunning scenery\, an adventure enthusiast\, or just looking to chill and get inspired\, this event is the perfect spot to connect and explore. Don’t miss out on this unique chance to see art up close and personally be entertained and inspired by Liv’s short film\, which documents her record-breaking walk across the UK
URL:https://buggybuddys.com.au/perth-event/art-exhibtion-walking-home-to-myself/
LOCATION:Parmelia House\, 191 Saint Georges Terrace\, Perth\, WA\, 6000\, Australia
CATEGORIES:Exhibition
ATTACH;FMTTYPE=image/jpeg:https://buggybuddys.com.au/wp-content/uploads/2025/12/0254dfa80f25201142d77e9c9cb81ada.jpg
END:VEVENT
END:VCALENDAR