BEGIN:VCALENDAR
VERSION:2.0
PRODID:-//Buggybuddys guide for families in Perth - ECPv6.15.11//NONSGML v1.0//EN
CALSCALE:GREGORIAN
METHOD:PUBLISH
X-ORIGINAL-URL:https://buggybuddys.com.au
X-WR-CALDESC:Events for Buggybuddys guide for families in Perth
REFRESH-INTERVAL;VALUE=DURATION:PT1H
X-Robots-Tag:noindex
X-PUBLISHED-TTL:PT1H
BEGIN:VTIMEZONE
TZID:Australia/Perth
BEGIN:STANDARD
TZOFFSETFROM:+0800
TZOFFSETTO:+0800
TZNAME:AWST
DTSTART:20250101T000000
END:STANDARD
END:VTIMEZONE
BEGIN:VEVENT
DTSTART;TZID=Australia/Perth:20260510T170000
DTEND;TZID=Australia/Perth:20260510T190000
DTSTAMP:20260422T105019
CREATED:20260416T072721Z
LAST-MODIFIED:20260416T072721Z
UID:10077109-1778432400-1778439600@buggybuddys.com.au
SUMMARY:The Wild Robot Movie Screening
DESCRIPTION:Join us for a special Tree Month screening of The Wild Robot at Northbridge Piazza! \nSettle in with a beanbag and enjoy this beloved film about Roz the robot who washes up on an island\, learns to adapt to the wilderness\, and builds relationships with animals that initially feared her. \n\nFree Event | Beanbags Provided\n\nBring your friends and family for a fun\, eco movie night under the stars! \nRegister now
URL:https://buggybuddys.com.au/perth-event/the-wild-robot-movie-screening/
LOCATION:Northbridge Piazza\, 142 Lake Street\, Northbridge\, WA\, 6003\, Australia
CATEGORIES:Community Event,Family and Community,Family Event,Free,Mother's Day,Movies
ATTACH;FMTTYPE=image/jpeg:https://buggybuddys.com.au/wp-content/uploads/2026/04/The-Wild-Robot-Movie-Screening.jpg
GEO:-31.9469485;115.8573585
X-APPLE-STRUCTURED-LOCATION;VALUE=URI;X-ADDRESS=Northbridge Piazza 142 Lake Street Northbridge WA 6003 Australia;X-APPLE-RADIUS=500;X-TITLE=142 Lake Street:geo:115.8573585,-31.9469485
END:VEVENT
END:VCALENDAR