BEGIN:VCALENDAR
VERSION:2.0
PRODID:-//Buggybuddys guide for families in Perth - ECPv6.15.11//NONSGML v1.0//EN
CALSCALE:GREGORIAN
METHOD:PUBLISH
X-ORIGINAL-URL:https://buggybuddys.com.au
X-WR-CALDESC:Events for Buggybuddys guide for families in Perth
REFRESH-INTERVAL;VALUE=DURATION:PT1H
X-Robots-Tag:noindex
X-PUBLISHED-TTL:PT1H
BEGIN:VTIMEZONE
TZID:Australia/Perth
BEGIN:STANDARD
TZOFFSETFROM:+0800
TZOFFSETTO:+0800
TZNAME:AWST
DTSTART:20250101T000000
END:STANDARD
END:VTIMEZONE
BEGIN:VEVENT
DTSTART;TZID=Australia/Perth:20260116T170000
DTEND;TZID=Australia/Perth:20260116T210000
DTSTAMP:20260420T001415
CREATED:20260108T143636Z
LAST-MODIFIED:20260108T143636Z
UID:10071617-1768582800-1768597200@buggybuddys.com.au
SUMMARY:Summertime Cinema
DESCRIPTION:Come join the Shire of Mundaring at Mundaring Arena Oval during the school holidays for an epic showing of one of our favourite movies. \nSupported by Perth Airport\, ‘The Minecraft Movie’ is the third of the Shire’s Summertime Cinema series. This box office extraordinaire will follow a short film of ‘Wallace and Gromit’ to get your cinema pallets primed. Not only do we have two brilliant movies being played\, we’ll have plenty of fun activities to do before the movie starts. \nBring your gloves and hats as there will be several holes of FREE mini golf for all attendees to play as much as they like\, as well as several other fun games to have a go at. Food vans\, bean bags and good music will also be available so bring your picnic blankets\, chairs and warm clothes for a cosy evening that the whole family can enjoy. \nThere will be plenty of parking available so bring the whole family down! \nAll Shire of Mundaring events are drug and alcohol free. \n 
URL:https://buggybuddys.com.au/perth-event/summertime-cinema/
LOCATION:Mundaring Arena\, 50 Mundaring Weir Road\, Mundaring\, WA\, 6073\, Australia
CATEGORIES:Family Event,Free,Movies,School Holiday Events
ATTACH;FMTTYPE=image/jpeg:https://buggybuddys.com.au/wp-content/uploads/2026/01/Summertime-Cinema.jpg
END:VEVENT
END:VCALENDAR