BEGIN:VCALENDAR
VERSION:2.0
PRODID:-//Buggybuddys guide for families in Perth - ECPv6.15.11//NONSGML v1.0//EN
CALSCALE:GREGORIAN
METHOD:PUBLISH
X-WR-CALNAME:Buggybuddys guide for families in Perth
X-ORIGINAL-URL:https://buggybuddys.com.au
X-WR-CALDESC:Events for Buggybuddys guide for families in Perth
REFRESH-INTERVAL;VALUE=DURATION:PT1H
X-Robots-Tag:noindex
X-PUBLISHED-TTL:PT1H
BEGIN:VTIMEZONE
TZID:Australia/Perth
BEGIN:STANDARD
TZOFFSETFROM:+0800
TZOFFSETTO:+0800
TZNAME:AWST
DTSTART:20250101T000000
END:STANDARD
END:VTIMEZONE
BEGIN:VEVENT
DTSTART;TZID=Australia/Perth:20260115T110000
DTEND;TZID=Australia/Perth:20260115T140000
DTSTAMP:20260424T112857
CREATED:20251209T143414Z
LAST-MODIFIED:20251209T143414Z
UID:10068706-1768474800-1768485600@buggybuddys.com.au
SUMMARY:All Abilities Activities: Remy the Rock Snake
DESCRIPTION:Community members of all ages and abilities are invited to contribute to the City’s FREE Community Art Project: Remy the Rock Snake!
URL:https://buggybuddys.com.au/perth-event/all-abilities-activities-remy-the-rock-snake-2/
LOCATION:Mount Claremont Community Centre\, Zamia Room\, 105 Montgomery Avenue\, Mount Claremont\, WA\, 6008\, Australia
CATEGORIES:Free
ATTACH;FMTTYPE=image/jpeg:https://buggybuddys.com.au/wp-content/uploads/2025/12/96fee8ebe9cead664659604304307285.jpg
END:VEVENT
BEGIN:VEVENT
DTSTART;TZID=Australia/Perth:20260113T110000
DTEND;TZID=Australia/Perth:20260113T140000
DTSTAMP:20260424T112857
CREATED:20251209T143412Z
LAST-MODIFIED:20251209T143412Z
UID:10068705-1768302000-1768312800@buggybuddys.com.au
SUMMARY:All Abilities Activities: Remy the Rock Snake
DESCRIPTION:Community members of all ages and abilities are invited to contribute to the City’s FREE Community Art Project: Remy the Rock Snake!
URL:https://buggybuddys.com.au/perth-event/all-abilities-activities-remy-the-rock-snake/
LOCATION:Mount Claremont Community Centre\, Zamia Room\, 105 Montgomery Avenue\, Mount Claremont\, WA\, 6008\, Australia
CATEGORIES:Free
ATTACH;FMTTYPE=image/jpeg:https://buggybuddys.com.au/wp-content/uploads/2025/12/96fee8ebe9cead664659604304307285.jpg
END:VEVENT
END:VCALENDAR