BEGIN:VCALENDAR
VERSION:2.0
PRODID:-//Buggybuddys guide for families in Perth - ECPv6.15.11//NONSGML v1.0//EN
CALSCALE:GREGORIAN
METHOD:PUBLISH
X-WR-CALNAME:Buggybuddys guide for families in Perth
X-ORIGINAL-URL:https://buggybuddys.com.au
X-WR-CALDESC:Events for Buggybuddys guide for families in Perth
REFRESH-INTERVAL;VALUE=DURATION:PT1H
X-Robots-Tag:noindex
X-PUBLISHED-TTL:PT1H
BEGIN:VTIMEZONE
TZID:Australia/Perth
BEGIN:STANDARD
TZOFFSETFROM:+0800
TZOFFSETTO:+0800
TZNAME:AWST
DTSTART:20250101T000000
END:STANDARD
END:VTIMEZONE
BEGIN:VEVENT
DTSTART;TZID=Australia/Perth:20260416T153000
DTEND;TZID=Australia/Perth:20260416T183000
DTSTAMP:20260423T144927
CREATED:20260322T180445Z
LAST-MODIFIED:20260414T230332Z
UID:10075996-1776353400-1776364200@buggybuddys.com.au
SUMMARY:Byford Skatepark Coaching Session - Scooter - Skateboard - BMX
DESCRIPTION:Thanks to the Shire of\, Jarrahdale-Serpentine. Freestyle Now will be hosting a skatepark coaching session at the Byford skatepark!\n\n\nThanks to the Shire of Serpentine-Jarrahdale. \nFreestyle now will be facilitating a fun and informative coaching session at Byford Skatepark for Skateboard\, Scooter and BMX participants. Our facilitators analyze the participants’ skill level and work from that base and assist with confidence building. It is important to not only just focus on skill building but confidence as well. By using their own skill base as a stepping stone we are able to help them advance. Our coaches speak the participant’s language and speak on their level. Our instructors relay the importance of safety\, the importance of helmets and how they can minimize injuries. Freestyle Now team members will be present to offer participants technical advice\, trick tips\, skill development and skatepark etiquette. \nAll participants would need their own equipment\, helmet and closed in shoes. Participants with defective equipment may not be able to participate. Our coaches may be able to assist with some minor adjustments (Scooter/BMX Bar straightening\, skate wheel tightening) before the session starts if required and time permitting. \nParticipants under the age of 6 will be taken on their ability to understand and follow instructions and to control their apparatus. \nKey points \n\nParticipants must be wearing a helmet\nPlease remember to bring some water and wear sunscreen\nParents must stay on site if their child is under 12\nLimited spare scooters and skateboard may be available\nPlease arrive 15 minutes early to register your attendance\nDisclaimer form will need to be signed on the day\nCoaching workshops are not suitable for 3 wheeled plastic scooters\n\nFreestyle Now coaching workshops are fun\, informative and motivational. \nOur coaches let the participants ride at their own level and encourage progression. \nAll our coaches are very easy going and relate to the participants well. Our workshops cover all aspects of the sports\, as well as equipment maintenance and personal safety issues. \nFreestyle Now hosts many coaching workshop sessions throughout the year for various local governments\, community organizations and private companies. You can find the full list of our upcoming events here. \nwww.freestylenow.net
URL:https://buggybuddys.com.au/perth-event/byford-skatepark-coaching-session-scooter-skateboard-bmx/
LOCATION:Mead Street\, Mead Street\, Byford\, WA\, 6122\, Australia
ATTACH;FMTTYPE=image/jpeg:https://buggybuddys.com.au/wp-content/uploads/2026/03/f3d6054ead9ccc041587332032f356ff.jpg
END:VEVENT
END:VCALENDAR