BEGIN:VCALENDAR
VERSION:2.0
PRODID:-//Buggybuddys guide for families in Perth - ECPv6.15.11//NONSGML v1.0//EN
CALSCALE:GREGORIAN
METHOD:PUBLISH
X-ORIGINAL-URL:https://buggybuddys.com.au
X-WR-CALDESC:Events for Buggybuddys guide for families in Perth
REFRESH-INTERVAL;VALUE=DURATION:PT1H
X-Robots-Tag:noindex
X-PUBLISHED-TTL:PT1H
BEGIN:VTIMEZONE
TZID:Australia/Perth
BEGIN:STANDARD
TZOFFSETFROM:+0800
TZOFFSETTO:+0800
TZNAME:AWST
DTSTART:20250101T000000
END:STANDARD
END:VTIMEZONE
BEGIN:VEVENT
DTSTART;TZID=Australia/Perth:20260328T090000
DTEND;TZID=Australia/Perth:20260328T140000
DTSTAMP:20260424T060254
CREATED:20260103T151049Z
LAST-MODIFIED:20260103T151049Z
UID:10071028-1774688400-1774706400@buggybuddys.com.au
SUMMARY:Let’s Go Surfing! – Disabled Surfers Association
DESCRIPTION:A FREE event for people of all ages and disabilities! \n\n\n\n\n\n\n\n\n\n\n\nA day dedicated to providing people of all ages and disabilities a surfing experience facilitated by our amazing volunteers.\nHeld at Leighton beach over the Summer period\, in the grassy amphitheatre right next to the Orange Box with shady tents which are perfect for our post-surf sausage sizzle. \nAll welcome\, all totally free for everyone. Register today! \nRan by Disabled Surfers Association of Australia.
URL:https://buggybuddys.com.au/perth-event/lets-go-surfing-disabled-surfers-association/2026-03-28/
LOCATION:Leighton Beach\, 14 Leighton Beach Blvd\, North Fremantle\, WA\, 6159\, Australia
CATEGORIES:Free
ATTACH;FMTTYPE=image/jpeg:https://buggybuddys.com.au/wp-content/uploads/2026/01/Lets-Go-Surfing-–-Disabled-Surfers-Association.jpg
END:VEVENT
BEGIN:VEVENT
DTSTART;TZID=Australia/Perth:20260228T090000
DTEND;TZID=Australia/Perth:20260228T140000
DTSTAMP:20260424T060254
CREATED:20260103T151049Z
LAST-MODIFIED:20260103T151049Z
UID:10071027-1772269200-1772287200@buggybuddys.com.au
SUMMARY:Let’s Go Surfing! – Disabled Surfers Association
DESCRIPTION:A FREE event for people of all ages and disabilities! \n\n\n\n\n\n\n\n\n\n\n\nA day dedicated to providing people of all ages and disabilities a surfing experience facilitated by our amazing volunteers.\nHeld at Leighton beach over the Summer period\, in the grassy amphitheatre right next to the Orange Box with shady tents which are perfect for our post-surf sausage sizzle. \nAll welcome\, all totally free for everyone. Register today! \nRan by Disabled Surfers Association of Australia.
URL:https://buggybuddys.com.au/perth-event/lets-go-surfing-disabled-surfers-association/2026-02-28/
LOCATION:Leighton Beach\, 14 Leighton Beach Blvd\, North Fremantle\, WA\, 6159\, Australia
CATEGORIES:Free
ATTACH;FMTTYPE=image/jpeg:https://buggybuddys.com.au/wp-content/uploads/2026/01/Lets-Go-Surfing-–-Disabled-Surfers-Association.jpg
END:VEVENT
BEGIN:VEVENT
DTSTART;TZID=Australia/Perth:20260131T090000
DTEND;TZID=Australia/Perth:20260131T140000
DTSTAMP:20260424T060254
CREATED:20260103T151049Z
LAST-MODIFIED:20260103T151049Z
UID:10071026-1769850000-1769868000@buggybuddys.com.au
SUMMARY:Let’s Go Surfing! – Disabled Surfers Association
DESCRIPTION:A FREE event for people of all ages and disabilities! \n\n\n\n\n\n\n\n\n\n\n\nA day dedicated to providing people of all ages and disabilities a surfing experience facilitated by our amazing volunteers.\nHeld at Leighton beach over the Summer period\, in the grassy amphitheatre right next to the Orange Box with shady tents which are perfect for our post-surf sausage sizzle. \nAll welcome\, all totally free for everyone. Register today! \nRan by Disabled Surfers Association of Australia.
URL:https://buggybuddys.com.au/perth-event/lets-go-surfing-disabled-surfers-association/2026-01-31/
LOCATION:Leighton Beach\, 14 Leighton Beach Blvd\, North Fremantle\, WA\, 6159\, Australia
CATEGORIES:Free
ATTACH;FMTTYPE=image/jpeg:https://buggybuddys.com.au/wp-content/uploads/2026/01/Lets-Go-Surfing-–-Disabled-Surfers-Association.jpg
END:VEVENT
END:VCALENDAR