BEGIN:VCALENDAR
VERSION:2.0
PRODID:-//Buggybuddys guide for families in Perth - ECPv6.15.11//NONSGML v1.0//EN
CALSCALE:GREGORIAN
METHOD:PUBLISH
X-ORIGINAL-URL:https://buggybuddys.com.au
X-WR-CALDESC:Events for Buggybuddys guide for families in Perth
REFRESH-INTERVAL;VALUE=DURATION:PT1H
X-Robots-Tag:noindex
X-PUBLISHED-TTL:PT1H
BEGIN:VTIMEZONE
TZID:Australia/Perth
BEGIN:STANDARD
TZOFFSETFROM:+0800
TZOFFSETTO:+0800
TZNAME:AWST
DTSTART:20250101T000000
END:STANDARD
END:VTIMEZONE
BEGIN:VEVENT
DTSTART;TZID=Australia/Perth:20260402T090000
DTEND;TZID=Australia/Perth:20260402T100000
DTSTAMP:20260425T063438
CREATED:20260222T040550Z
LAST-MODIFIED:20260222T040550Z
UID:10074462-1775120400-1775124000@buggybuddys.com.au
SUMMARY:Free Outdoor Fitness
DESCRIPTION:Boost your fitness and energy levels with free outdoor fitness classes at Keith Holmes Reserve every Thursday morning.\n\n\n\n\n\n\nOur popular outdoor fitness classes are returning this February and running until April. Join us at Keith Holmes Reserve for fun and active fitness classes suitable for all ages and abilities. \nExercising outdoors has been shown to improve physical health by building strength\, endurance\, and flexibility. It also boosts mental health\, with research from health organisations in Australia showing that group fitness can reduce stress\, improve mood\, and increase motivation. \nSo come down\, connect with nature and enjoy Mandurah’s stunning scenery whilst fitting in your morning workout. \nFor those who want to stretch and centre themselves\, you can also join our Tuesday evening guided Yoga sessions. \nDate: Thursdays\, 26 February-2 April \nTime: 9am – 9.45am \nLocation: Keith Holmes Reserve\, Mandurah
URL:https://buggybuddys.com.au/perth-event/free-outdoor-fitness/2026-04-02/
LOCATION:Keith Holmes Reserve\, Mandurah\, WA\, 6210\, Australia
CATEGORIES:Free,Health,Sport Activities,Sports and Health
ATTACH;FMTTYPE=image/jpeg:https://buggybuddys.com.au/wp-content/uploads/2026/02/Free-Outdoor-Fitness.jpg
GEO:-32.5461633;115.7220148
END:VEVENT
BEGIN:VEVENT
DTSTART;TZID=Australia/Perth:20260326T090000
DTEND;TZID=Australia/Perth:20260326T100000
DTSTAMP:20260425T063438
CREATED:20260222T040550Z
LAST-MODIFIED:20260222T040550Z
UID:10074461-1774515600-1774519200@buggybuddys.com.au
SUMMARY:Free Outdoor Fitness
DESCRIPTION:Boost your fitness and energy levels with free outdoor fitness classes at Keith Holmes Reserve every Thursday morning.\n\n\n\n\n\n\nOur popular outdoor fitness classes are returning this February and running until April. Join us at Keith Holmes Reserve for fun and active fitness classes suitable for all ages and abilities. \nExercising outdoors has been shown to improve physical health by building strength\, endurance\, and flexibility. It also boosts mental health\, with research from health organisations in Australia showing that group fitness can reduce stress\, improve mood\, and increase motivation. \nSo come down\, connect with nature and enjoy Mandurah’s stunning scenery whilst fitting in your morning workout. \nFor those who want to stretch and centre themselves\, you can also join our Tuesday evening guided Yoga sessions. \nDate: Thursdays\, 26 February-2 April \nTime: 9am – 9.45am \nLocation: Keith Holmes Reserve\, Mandurah
URL:https://buggybuddys.com.au/perth-event/free-outdoor-fitness/2026-03-26/
LOCATION:Keith Holmes Reserve\, Mandurah\, WA\, 6210\, Australia
CATEGORIES:Free,Health,Sport Activities,Sports and Health
ATTACH;FMTTYPE=image/jpeg:https://buggybuddys.com.au/wp-content/uploads/2026/02/Free-Outdoor-Fitness.jpg
GEO:-32.5461633;115.7220148
END:VEVENT
BEGIN:VEVENT
DTSTART;TZID=Australia/Perth:20260319T090000
DTEND;TZID=Australia/Perth:20260319T100000
DTSTAMP:20260425T063438
CREATED:20260222T040550Z
LAST-MODIFIED:20260222T040550Z
UID:10074460-1773910800-1773914400@buggybuddys.com.au
SUMMARY:Free Outdoor Fitness
DESCRIPTION:Boost your fitness and energy levels with free outdoor fitness classes at Keith Holmes Reserve every Thursday morning.\n\n\n\n\n\n\nOur popular outdoor fitness classes are returning this February and running until April. Join us at Keith Holmes Reserve for fun and active fitness classes suitable for all ages and abilities. \nExercising outdoors has been shown to improve physical health by building strength\, endurance\, and flexibility. It also boosts mental health\, with research from health organisations in Australia showing that group fitness can reduce stress\, improve mood\, and increase motivation. \nSo come down\, connect with nature and enjoy Mandurah’s stunning scenery whilst fitting in your morning workout. \nFor those who want to stretch and centre themselves\, you can also join our Tuesday evening guided Yoga sessions. \nDate: Thursdays\, 26 February-2 April \nTime: 9am – 9.45am \nLocation: Keith Holmes Reserve\, Mandurah
URL:https://buggybuddys.com.au/perth-event/free-outdoor-fitness/2026-03-19/
LOCATION:Keith Holmes Reserve\, Mandurah\, WA\, 6210\, Australia
CATEGORIES:Free,Health,Sport Activities,Sports and Health
ATTACH;FMTTYPE=image/jpeg:https://buggybuddys.com.au/wp-content/uploads/2026/02/Free-Outdoor-Fitness.jpg
GEO:-32.5461633;115.7220148
END:VEVENT
BEGIN:VEVENT
DTSTART;TZID=Australia/Perth:20260312T090000
DTEND;TZID=Australia/Perth:20260312T100000
DTSTAMP:20260425T063438
CREATED:20260222T040550Z
LAST-MODIFIED:20260222T040550Z
UID:10074459-1773306000-1773309600@buggybuddys.com.au
SUMMARY:Free Outdoor Fitness
DESCRIPTION:Boost your fitness and energy levels with free outdoor fitness classes at Keith Holmes Reserve every Thursday morning.\n\n\n\n\n\n\nOur popular outdoor fitness classes are returning this February and running until April. Join us at Keith Holmes Reserve for fun and active fitness classes suitable for all ages and abilities. \nExercising outdoors has been shown to improve physical health by building strength\, endurance\, and flexibility. It also boosts mental health\, with research from health organisations in Australia showing that group fitness can reduce stress\, improve mood\, and increase motivation. \nSo come down\, connect with nature and enjoy Mandurah’s stunning scenery whilst fitting in your morning workout. \nFor those who want to stretch and centre themselves\, you can also join our Tuesday evening guided Yoga sessions. \nDate: Thursdays\, 26 February-2 April \nTime: 9am – 9.45am \nLocation: Keith Holmes Reserve\, Mandurah
URL:https://buggybuddys.com.au/perth-event/free-outdoor-fitness/2026-03-12/
LOCATION:Keith Holmes Reserve\, Mandurah\, WA\, 6210\, Australia
CATEGORIES:Free,Health,Sport Activities,Sports and Health
ATTACH;FMTTYPE=image/jpeg:https://buggybuddys.com.au/wp-content/uploads/2026/02/Free-Outdoor-Fitness.jpg
GEO:-32.5461633;115.7220148
END:VEVENT
BEGIN:VEVENT
DTSTART;TZID=Australia/Perth:20260305T090000
DTEND;TZID=Australia/Perth:20260305T100000
DTSTAMP:20260425T063438
CREATED:20260222T040550Z
LAST-MODIFIED:20260222T040550Z
UID:10074458-1772701200-1772704800@buggybuddys.com.au
SUMMARY:Free Outdoor Fitness
DESCRIPTION:Boost your fitness and energy levels with free outdoor fitness classes at Keith Holmes Reserve every Thursday morning.\n\n\n\n\n\n\nOur popular outdoor fitness classes are returning this February and running until April. Join us at Keith Holmes Reserve for fun and active fitness classes suitable for all ages and abilities. \nExercising outdoors has been shown to improve physical health by building strength\, endurance\, and flexibility. It also boosts mental health\, with research from health organisations in Australia showing that group fitness can reduce stress\, improve mood\, and increase motivation. \nSo come down\, connect with nature and enjoy Mandurah’s stunning scenery whilst fitting in your morning workout. \nFor those who want to stretch and centre themselves\, you can also join our Tuesday evening guided Yoga sessions. \nDate: Thursdays\, 26 February-2 April \nTime: 9am – 9.45am \nLocation: Keith Holmes Reserve\, Mandurah
URL:https://buggybuddys.com.au/perth-event/free-outdoor-fitness/2026-03-05/
LOCATION:Keith Holmes Reserve\, Mandurah\, WA\, 6210\, Australia
CATEGORIES:Free,Health,Sport Activities,Sports and Health
ATTACH;FMTTYPE=image/jpeg:https://buggybuddys.com.au/wp-content/uploads/2026/02/Free-Outdoor-Fitness.jpg
GEO:-32.5461633;115.7220148
END:VEVENT
BEGIN:VEVENT
DTSTART;TZID=Australia/Perth:20260226T090000
DTEND;TZID=Australia/Perth:20260226T100000
DTSTAMP:20260425T063438
CREATED:20260222T040550Z
LAST-MODIFIED:20260222T040550Z
UID:10074457-1772096400-1772100000@buggybuddys.com.au
SUMMARY:Free Outdoor Fitness
DESCRIPTION:Boost your fitness and energy levels with free outdoor fitness classes at Keith Holmes Reserve every Thursday morning.\n\n\n\n\n\n\nOur popular outdoor fitness classes are returning this February and running until April. Join us at Keith Holmes Reserve for fun and active fitness classes suitable for all ages and abilities. \nExercising outdoors has been shown to improve physical health by building strength\, endurance\, and flexibility. It also boosts mental health\, with research from health organisations in Australia showing that group fitness can reduce stress\, improve mood\, and increase motivation. \nSo come down\, connect with nature and enjoy Mandurah’s stunning scenery whilst fitting in your morning workout. \nFor those who want to stretch and centre themselves\, you can also join our Tuesday evening guided Yoga sessions. \nDate: Thursdays\, 26 February-2 April \nTime: 9am – 9.45am \nLocation: Keith Holmes Reserve\, Mandurah
URL:https://buggybuddys.com.au/perth-event/free-outdoor-fitness/2026-02-26/
LOCATION:Keith Holmes Reserve\, Mandurah\, WA\, 6210\, Australia
CATEGORIES:Free,Health,Sport Activities,Sports and Health
ATTACH;FMTTYPE=image/jpeg:https://buggybuddys.com.au/wp-content/uploads/2026/02/Free-Outdoor-Fitness.jpg
GEO:-32.5461633;115.7220148
END:VEVENT
END:VCALENDAR