BEGIN:VCALENDAR
VERSION:2.0
PRODID:-//Buggybuddys guide for families in Perth - ECPv6.15.11//NONSGML v1.0//EN
CALSCALE:GREGORIAN
METHOD:PUBLISH
X-ORIGINAL-URL:https://buggybuddys.com.au
X-WR-CALDESC:Events for Buggybuddys guide for families in Perth
REFRESH-INTERVAL;VALUE=DURATION:PT1H
X-Robots-Tag:noindex
X-PUBLISHED-TTL:PT1H
BEGIN:VTIMEZONE
TZID:Australia/Perth
BEGIN:STANDARD
TZOFFSETFROM:+0800
TZOFFSETTO:+0800
TZNAME:AWST
DTSTART:20250101T000000
END:STANDARD
END:VTIMEZONE
BEGIN:VEVENT
DTSTART;TZID=Australia/Perth:20260426T100000
DTEND;TZID=Australia/Perth:20260426T103000
DTSTAMP:20260425T031400
CREATED:20250204T102547Z
LAST-MODIFIED:20250204T102548Z
UID:10060239-1777197600-1777199400@buggybuddys.com.au
SUMMARY:Remarkable Reptiles Up Close
DESCRIPTION:Come join us every Sunday for our Remarkable Reptiles Up Close experience and discover more about the extraordinary wildlife found in Western Australia. \nThis experience will give you the opportunity to discover fascinating facts about the reptiles found in Western Australia. You’ll also get to meet some of our reptilian residents who live at WA Museum Boola Bardip and learn how to welcome reptiles into your backyard.  \n\n\n\nSundays | 10am – 10.30am \n\n\n\n\n\n\nCost\n\nIncluded with General Admission | Bookings essential \n\nvisit.museum.wa.gov.au/boolabardip/remarkable-reptiles-close
URL:https://buggybuddys.com.au/perth-event/remarkable-reptiles-up-close/2026-04-26/
LOCATION:WA Museum Boola Bardip\, WA Museum Boola Bardip\, Perth\, WA\, 6000\, Australia
CATEGORIES:Activity Class,Museum
ATTACH;FMTTYPE=image/jpeg:https://buggybuddys.com.au/wp-content/uploads/2025/02/adam-mills-F3a24w6yWnI-unsplash.jpg
END:VEVENT
BEGIN:VEVENT
DTSTART;TZID=Australia/Perth:20260503T100000
DTEND;TZID=Australia/Perth:20260503T103000
DTSTAMP:20260425T031400
CREATED:20250204T102547Z
LAST-MODIFIED:20250204T102548Z
UID:10060240-1777802400-1777804200@buggybuddys.com.au
SUMMARY:Remarkable Reptiles Up Close
DESCRIPTION:Come join us every Sunday for our Remarkable Reptiles Up Close experience and discover more about the extraordinary wildlife found in Western Australia. \nThis experience will give you the opportunity to discover fascinating facts about the reptiles found in Western Australia. You’ll also get to meet some of our reptilian residents who live at WA Museum Boola Bardip and learn how to welcome reptiles into your backyard.  \n\n\n\nSundays | 10am – 10.30am \n\n\n\n\n\n\nCost\n\nIncluded with General Admission | Bookings essential \n\nvisit.museum.wa.gov.au/boolabardip/remarkable-reptiles-close
URL:https://buggybuddys.com.au/perth-event/remarkable-reptiles-up-close/2026-05-03/
LOCATION:WA Museum Boola Bardip\, WA Museum Boola Bardip\, Perth\, WA\, 6000\, Australia
CATEGORIES:Activity Class,Museum
ATTACH;FMTTYPE=image/jpeg:https://buggybuddys.com.au/wp-content/uploads/2025/02/adam-mills-F3a24w6yWnI-unsplash.jpg
END:VEVENT
BEGIN:VEVENT
DTSTART;TZID=Australia/Perth:20260510T100000
DTEND;TZID=Australia/Perth:20260510T103000
DTSTAMP:20260425T031400
CREATED:20250204T102547Z
LAST-MODIFIED:20250204T102548Z
UID:10060241-1778407200-1778409000@buggybuddys.com.au
SUMMARY:Remarkable Reptiles Up Close
DESCRIPTION:Come join us every Sunday for our Remarkable Reptiles Up Close experience and discover more about the extraordinary wildlife found in Western Australia. \nThis experience will give you the opportunity to discover fascinating facts about the reptiles found in Western Australia. You’ll also get to meet some of our reptilian residents who live at WA Museum Boola Bardip and learn how to welcome reptiles into your backyard.  \n\n\n\nSundays | 10am – 10.30am \n\n\n\n\n\n\nCost\n\nIncluded with General Admission | Bookings essential \n\nvisit.museum.wa.gov.au/boolabardip/remarkable-reptiles-close
URL:https://buggybuddys.com.au/perth-event/remarkable-reptiles-up-close/2026-05-10/
LOCATION:WA Museum Boola Bardip\, WA Museum Boola Bardip\, Perth\, WA\, 6000\, Australia
CATEGORIES:Activity Class,Museum
ATTACH;FMTTYPE=image/jpeg:https://buggybuddys.com.au/wp-content/uploads/2025/02/adam-mills-F3a24w6yWnI-unsplash.jpg
END:VEVENT
BEGIN:VEVENT
DTSTART;TZID=Australia/Perth:20260517T100000
DTEND;TZID=Australia/Perth:20260517T103000
DTSTAMP:20260425T031400
CREATED:20250204T102547Z
LAST-MODIFIED:20250204T102548Z
UID:10060242-1779012000-1779013800@buggybuddys.com.au
SUMMARY:Remarkable Reptiles Up Close
DESCRIPTION:Come join us every Sunday for our Remarkable Reptiles Up Close experience and discover more about the extraordinary wildlife found in Western Australia. \nThis experience will give you the opportunity to discover fascinating facts about the reptiles found in Western Australia. You’ll also get to meet some of our reptilian residents who live at WA Museum Boola Bardip and learn how to welcome reptiles into your backyard.  \n\n\n\nSundays | 10am – 10.30am \n\n\n\n\n\n\nCost\n\nIncluded with General Admission | Bookings essential \n\nvisit.museum.wa.gov.au/boolabardip/remarkable-reptiles-close
URL:https://buggybuddys.com.au/perth-event/remarkable-reptiles-up-close/2026-05-17/
LOCATION:WA Museum Boola Bardip\, WA Museum Boola Bardip\, Perth\, WA\, 6000\, Australia
CATEGORIES:Activity Class,Museum
ATTACH;FMTTYPE=image/jpeg:https://buggybuddys.com.au/wp-content/uploads/2025/02/adam-mills-F3a24w6yWnI-unsplash.jpg
END:VEVENT
BEGIN:VEVENT
DTSTART;TZID=Australia/Perth:20260524T100000
DTEND;TZID=Australia/Perth:20260524T103000
DTSTAMP:20260425T031400
CREATED:20250204T102547Z
LAST-MODIFIED:20250204T102548Z
UID:10060243-1779616800-1779618600@buggybuddys.com.au
SUMMARY:Remarkable Reptiles Up Close
DESCRIPTION:Come join us every Sunday for our Remarkable Reptiles Up Close experience and discover more about the extraordinary wildlife found in Western Australia. \nThis experience will give you the opportunity to discover fascinating facts about the reptiles found in Western Australia. You’ll also get to meet some of our reptilian residents who live at WA Museum Boola Bardip and learn how to welcome reptiles into your backyard.  \n\n\n\nSundays | 10am – 10.30am \n\n\n\n\n\n\nCost\n\nIncluded with General Admission | Bookings essential \n\nvisit.museum.wa.gov.au/boolabardip/remarkable-reptiles-close
URL:https://buggybuddys.com.au/perth-event/remarkable-reptiles-up-close/2026-05-24/
LOCATION:WA Museum Boola Bardip\, WA Museum Boola Bardip\, Perth\, WA\, 6000\, Australia
CATEGORIES:Activity Class,Museum
ATTACH;FMTTYPE=image/jpeg:https://buggybuddys.com.au/wp-content/uploads/2025/02/adam-mills-F3a24w6yWnI-unsplash.jpg
END:VEVENT
BEGIN:VEVENT
DTSTART;TZID=Australia/Perth:20260531T100000
DTEND;TZID=Australia/Perth:20260531T103000
DTSTAMP:20260425T031400
CREATED:20250204T102547Z
LAST-MODIFIED:20250204T102548Z
UID:10060244-1780221600-1780223400@buggybuddys.com.au
SUMMARY:Remarkable Reptiles Up Close
DESCRIPTION:Come join us every Sunday for our Remarkable Reptiles Up Close experience and discover more about the extraordinary wildlife found in Western Australia. \nThis experience will give you the opportunity to discover fascinating facts about the reptiles found in Western Australia. You’ll also get to meet some of our reptilian residents who live at WA Museum Boola Bardip and learn how to welcome reptiles into your backyard.  \n\n\n\nSundays | 10am – 10.30am \n\n\n\n\n\n\nCost\n\nIncluded with General Admission | Bookings essential \n\nvisit.museum.wa.gov.au/boolabardip/remarkable-reptiles-close
URL:https://buggybuddys.com.au/perth-event/remarkable-reptiles-up-close/2026-05-31/
LOCATION:WA Museum Boola Bardip\, WA Museum Boola Bardip\, Perth\, WA\, 6000\, Australia
CATEGORIES:Activity Class,Museum
ATTACH;FMTTYPE=image/jpeg:https://buggybuddys.com.au/wp-content/uploads/2025/02/adam-mills-F3a24w6yWnI-unsplash.jpg
END:VEVENT
BEGIN:VEVENT
DTSTART;TZID=Australia/Perth:20260607T100000
DTEND;TZID=Australia/Perth:20260607T103000
DTSTAMP:20260425T031400
CREATED:20250204T102547Z
LAST-MODIFIED:20250204T102548Z
UID:10060245-1780826400-1780828200@buggybuddys.com.au
SUMMARY:Remarkable Reptiles Up Close
DESCRIPTION:Come join us every Sunday for our Remarkable Reptiles Up Close experience and discover more about the extraordinary wildlife found in Western Australia. \nThis experience will give you the opportunity to discover fascinating facts about the reptiles found in Western Australia. You’ll also get to meet some of our reptilian residents who live at WA Museum Boola Bardip and learn how to welcome reptiles into your backyard.  \n\n\n\nSundays | 10am – 10.30am \n\n\n\n\n\n\nCost\n\nIncluded with General Admission | Bookings essential \n\nvisit.museum.wa.gov.au/boolabardip/remarkable-reptiles-close
URL:https://buggybuddys.com.au/perth-event/remarkable-reptiles-up-close/2026-06-07/
LOCATION:WA Museum Boola Bardip\, WA Museum Boola Bardip\, Perth\, WA\, 6000\, Australia
CATEGORIES:Activity Class,Museum
ATTACH;FMTTYPE=image/jpeg:https://buggybuddys.com.au/wp-content/uploads/2025/02/adam-mills-F3a24w6yWnI-unsplash.jpg
END:VEVENT
BEGIN:VEVENT
DTSTART;TZID=Australia/Perth:20260614T100000
DTEND;TZID=Australia/Perth:20260614T103000
DTSTAMP:20260425T031400
CREATED:20250204T102547Z
LAST-MODIFIED:20250204T102548Z
UID:10060246-1781431200-1781433000@buggybuddys.com.au
SUMMARY:Remarkable Reptiles Up Close
DESCRIPTION:Come join us every Sunday for our Remarkable Reptiles Up Close experience and discover more about the extraordinary wildlife found in Western Australia. \nThis experience will give you the opportunity to discover fascinating facts about the reptiles found in Western Australia. You’ll also get to meet some of our reptilian residents who live at WA Museum Boola Bardip and learn how to welcome reptiles into your backyard.  \n\n\n\nSundays | 10am – 10.30am \n\n\n\n\n\n\nCost\n\nIncluded with General Admission | Bookings essential \n\nvisit.museum.wa.gov.au/boolabardip/remarkable-reptiles-close
URL:https://buggybuddys.com.au/perth-event/remarkable-reptiles-up-close/2026-06-14/
LOCATION:WA Museum Boola Bardip\, WA Museum Boola Bardip\, Perth\, WA\, 6000\, Australia
CATEGORIES:Activity Class,Museum
ATTACH;FMTTYPE=image/jpeg:https://buggybuddys.com.au/wp-content/uploads/2025/02/adam-mills-F3a24w6yWnI-unsplash.jpg
END:VEVENT
BEGIN:VEVENT
DTSTART;TZID=Australia/Perth:20260621T100000
DTEND;TZID=Australia/Perth:20260621T103000
DTSTAMP:20260425T031400
CREATED:20250204T102547Z
LAST-MODIFIED:20250204T102548Z
UID:10060247-1782036000-1782037800@buggybuddys.com.au
SUMMARY:Remarkable Reptiles Up Close
DESCRIPTION:Come join us every Sunday for our Remarkable Reptiles Up Close experience and discover more about the extraordinary wildlife found in Western Australia. \nThis experience will give you the opportunity to discover fascinating facts about the reptiles found in Western Australia. You’ll also get to meet some of our reptilian residents who live at WA Museum Boola Bardip and learn how to welcome reptiles into your backyard.  \n\n\n\nSundays | 10am – 10.30am \n\n\n\n\n\n\nCost\n\nIncluded with General Admission | Bookings essential \n\nvisit.museum.wa.gov.au/boolabardip/remarkable-reptiles-close
URL:https://buggybuddys.com.au/perth-event/remarkable-reptiles-up-close/2026-06-21/
LOCATION:WA Museum Boola Bardip\, WA Museum Boola Bardip\, Perth\, WA\, 6000\, Australia
CATEGORIES:Activity Class,Museum
ATTACH;FMTTYPE=image/jpeg:https://buggybuddys.com.au/wp-content/uploads/2025/02/adam-mills-F3a24w6yWnI-unsplash.jpg
END:VEVENT
BEGIN:VEVENT
DTSTART;TZID=Australia/Perth:20260628T100000
DTEND;TZID=Australia/Perth:20260628T103000
DTSTAMP:20260425T031400
CREATED:20250204T102547Z
LAST-MODIFIED:20250204T102548Z
UID:10060248-1782640800-1782642600@buggybuddys.com.au
SUMMARY:Remarkable Reptiles Up Close
DESCRIPTION:Come join us every Sunday for our Remarkable Reptiles Up Close experience and discover more about the extraordinary wildlife found in Western Australia. \nThis experience will give you the opportunity to discover fascinating facts about the reptiles found in Western Australia. You’ll also get to meet some of our reptilian residents who live at WA Museum Boola Bardip and learn how to welcome reptiles into your backyard.  \n\n\n\nSundays | 10am – 10.30am \n\n\n\n\n\n\nCost\n\nIncluded with General Admission | Bookings essential \n\nvisit.museum.wa.gov.au/boolabardip/remarkable-reptiles-close
URL:https://buggybuddys.com.au/perth-event/remarkable-reptiles-up-close/2026-06-28/
LOCATION:WA Museum Boola Bardip\, WA Museum Boola Bardip\, Perth\, WA\, 6000\, Australia
CATEGORIES:Activity Class,Museum
ATTACH;FMTTYPE=image/jpeg:https://buggybuddys.com.au/wp-content/uploads/2025/02/adam-mills-F3a24w6yWnI-unsplash.jpg
END:VEVENT
END:VCALENDAR