BEGIN:VCALENDAR
VERSION:2.0
PRODID:-//Buggybuddys guide for families in Perth - ECPv6.15.11//NONSGML v1.0//EN
CALSCALE:GREGORIAN
METHOD:PUBLISH
X-ORIGINAL-URL:https://buggybuddys.com.au
X-WR-CALDESC:Events for Buggybuddys guide for families in Perth
REFRESH-INTERVAL;VALUE=DURATION:PT1H
X-Robots-Tag:noindex
X-PUBLISHED-TTL:PT1H
BEGIN:VTIMEZONE
TZID:Australia/Perth
BEGIN:STANDARD
TZOFFSETFROM:+0800
TZOFFSETTO:+0800
TZNAME:AWST
DTSTART:20250101T000000
END:STANDARD
END:VTIMEZONE
BEGIN:VEVENT
DTSTART;TZID=Australia/Perth:20260510T093000
DTEND;TZID=Australia/Perth:20260510T110000
DTSTAMP:20260423T134858
CREATED:20260416T155214Z
LAST-MODIFIED:20260416T155214Z
UID:10077127-1778405400-1778410800@buggybuddys.com.au
SUMMARY:Draught Proofing Your Home
DESCRIPTION:As we move into the season of cooler weather\, join us for a workshop exploring how we can make our homes more comfortable and energy efficient. We’ll look at simple\, budget-friendly fixes and effective temporary modifications alongside more substantial retro-fitting options\, making this workshop suitable for both homeowners and renters. \nIn particular we’ll discuss: \n\nlocating draughts and fixing gaps\ninstalling window and door seals\,\nminimising the circulation of cold air inside the home\,\nchoosing appropriate window coverings\nexternal modifications to the home to increase eco-efficiency\nassessing insulation options\nmaintaining adequate ventilation to prevent mould build-up\n\nRegister \nThis event is being run in partnership between Enviro House\, Electrify Bayswater and the City of Bayswater.
URL:https://buggybuddys.com.au/perth-event/draught-proofing-your-home/
LOCATION:Enviro House\, 125 King William Street\, Bayswater\, W\, 6053\, Australia
CATEGORIES:Business and Workshops,Free
ATTACH;FMTTYPE=image/webp:https://buggybuddys.com.au/wp-content/uploads/2026/04/Draught-Proofing-Your-Home.webp
END:VEVENT
END:VCALENDAR