BEGIN:VCALENDAR
VERSION:2.0
PRODID:-//Buggybuddys guide for families in Perth - ECPv6.15.11//NONSGML v1.0//EN
CALSCALE:GREGORIAN
METHOD:PUBLISH
X-WR-CALNAME:Buggybuddys guide for families in Perth
X-ORIGINAL-URL:https://buggybuddys.com.au
X-WR-CALDESC:Events for Buggybuddys guide for families in Perth
REFRESH-INTERVAL;VALUE=DURATION:PT1H
X-Robots-Tag:noindex
X-PUBLISHED-TTL:PT1H
BEGIN:VTIMEZONE
TZID:Australia/Perth
BEGIN:STANDARD
TZOFFSETFROM:+0800
TZOFFSETTO:+0800
TZNAME:AWST
DTSTART:20250101T000000
END:STANDARD
END:VTIMEZONE
BEGIN:VEVENT
DTSTART;TZID=Australia/Perth:20260409T153000
DTEND;TZID=Australia/Perth:20260409T183000
DTSTAMP:20260422T105635
CREATED:20260322T180411Z
LAST-MODIFIED:20260322T180411Z
UID:10075990-1775748600-1775759400@buggybuddys.com.au
SUMMARY:Cooloongup skatepark coaching - skateboard\, scooter\, bmx and rollerskate
DESCRIPTION:Thanks to the City of Rockingham\nFreestyle Now will be conducting FREE coaching sessions at the Cooloongup skate park.\n\n\nFreestyle Now will be hosting a FREE skatepark skateboard\, scooter\, bmx and roller skate coaching workshop session at the Cooloongup skate park. All thanks to the City of Rockingham.  \nSession 1 -3:30pm \nSession 2 – 4:30pm \nFreestyle Now team members will be present to offer participants technical advice\, trick tips\, skill development and skatepark etiquette. \nOur facilitators analyse the participants’ skill level and work from that base and assist with confidence building. Skills can be taught but confidence cannot. It is important to not only just focus on skill building but confidence as well. By using their own skill base as a stepping stone we are able to help them advance. Our instructors speak the participants’ language and speak on their level. Our instructors relay this safety message to our participants and reiterate the importance of helmets and how they can minimise injuries. \nAll participants will need their own equipment and are required to wear a helmet and closed-in shoes. Participants with defective skateboards may not be able to participate. Our facilitators may not be able to make repairs to participants’ skateboards during the coaching session. \nParticipants under the age of 6 will be taken on their ability to understand and follow instructions and to control their apparatus. \nKey points: \n• Participants must be wearing a helmet \n• Please remember to bring some water and wear sunscreen \n• Participants must be over the age of 6 \n• Parents must stay on site if their child is under 12 \nFreestyle Now coaching workshops are fun\, informative and motivational. \nThe squad members let the participants ride at their own level and encourage progression. \nAll our instructors are very easy going and relate to the participants well. Our workshops cover all aspects of the sports\, as well as equipment maintenance and personal safety issues. \nFreestyle Now hosts many coaching workshop sessions throughout the year for various local governments\, community organisations and private companies. Freestyle Now also can offer private individualised coaching lessons. \n \nwww.freestylenow.net
URL:https://buggybuddys.com.au/perth-event/cooloongup-skatepark-coaching-skateboard-scooter-bmx-and-rollerskate-2/
LOCATION:Cooloongup Skate Park\, Cooloongup Skate Park\, Cooloongup\, WA\, 6168\, Australia
ATTACH;FMTTYPE=image/jpeg:https://buggybuddys.com.au/wp-content/uploads/2025/03/527db6e6f70f1d170f40f9a3ccee012f.jpg
END:VEVENT
BEGIN:VEVENT
DTSTART;TZID=Australia/Perth:20260409T153000
DTEND;TZID=Australia/Perth:20260409T173000
DTSTAMP:20260422T105635
CREATED:20260322T180411Z
LAST-MODIFIED:20260407T150347Z
UID:10075992-1775748600-1775755800@buggybuddys.com.au
SUMMARY:Cooloongup skatepark coaching - skateboard\, scooter\, bmx and rollerskate
DESCRIPTION:Thanks to the City of Rockingham\nFreestyle Now will be conducting FREE coaching sessions at the Cooloongup skate park.\n\n\nFreestyle Now will be hosting a FREE skatepark skateboard\, scooter\, bmx and roller skate coaching workshop session at the Cooloongup skate park. All thanks to the City of Rockingham.  \nSession 1 -3:30pm \nSession 2 – 4:30pm \nFreestyle Now team members will be present to offer participants technical advice\, trick tips\, skill development and skatepark etiquette. \nOur facilitators analyse the participants’ skill level and work from that base and assist with confidence building. Skills can be taught but confidence cannot. It is important to not only just focus on skill building but confidence as well. By using their own skill base as a stepping stone we are able to help them advance. Our instructors speak the participants’ language and speak on their level. Our instructors relay this safety message to our participants and reiterate the importance of helmets and how they can minimise injuries. \nAll participants will need their own equipment and are required to wear a helmet and closed-in shoes. Participants with defective skateboards may not be able to participate. Our facilitators may not be able to make repairs to participants’ skateboards during the coaching session. \nParticipants under the age of 6 will be taken on their ability to understand and follow instructions and to control their apparatus. \nKey points: \n• Participants must be wearing a helmet \n• Please remember to bring some water and wear sunscreen \n• Participants must be over the age of 6 \n• Parents must stay on site if their child is under 12 \nFreestyle Now coaching workshops are fun\, informative and motivational. \nThe squad members let the participants ride at their own level and encourage progression. \nAll our instructors are very easy going and relate to the participants well. Our workshops cover all aspects of the sports\, as well as equipment maintenance and personal safety issues. \nFreestyle Now hosts many coaching workshop sessions throughout the year for various local governments\, community organisations and private companies. Freestyle Now also can offer private individualised coaching lessons. \n \nwww.freestylenow.net
URL:https://buggybuddys.com.au/perth-event/cooloongup-skatepark-coaching-skateboard-scooter-bmx-and-rollerskate/
LOCATION:Cooloongup Skate Park\, Cooloongup Skate Park\, Cooloongup\, WA\, 6168\, Australia
ATTACH;FMTTYPE=image/jpeg:https://buggybuddys.com.au/wp-content/uploads/2025/03/527db6e6f70f1d170f40f9a3ccee012f.jpg
END:VEVENT
END:VCALENDAR