BEGIN:VCALENDAR
VERSION:2.0
PRODID:-//Buggybuddys guide for families in Perth - ECPv6.15.11//NONSGML v1.0//EN
CALSCALE:GREGORIAN
METHOD:PUBLISH
X-ORIGINAL-URL:https://buggybuddys.com.au
X-WR-CALDESC:Events for Buggybuddys guide for families in Perth
REFRESH-INTERVAL;VALUE=DURATION:PT1H
X-Robots-Tag:noindex
X-PUBLISHED-TTL:PT1H
BEGIN:VTIMEZONE
TZID:Australia/Perth
BEGIN:STANDARD
TZOFFSETFROM:+0800
TZOFFSETTO:+0800
TZNAME:AWST
DTSTART:20250101T000000
END:STANDARD
END:VTIMEZONE
BEGIN:VEVENT
DTSTART;TZID=Australia/Perth:20260426T140000
DTEND;TZID=Australia/Perth:20260426T160000
DTSTAMP:20260426T014909
CREATED:20260115T112406Z
LAST-MODIFIED:20260226T043609Z
UID:10072786-1777212000-1777219200@buggybuddys.com.au
SUMMARY:Claremont Kid’s Club
DESCRIPTION:Join us every Sunday from 2pm – 4pm for Claremont Kid’s Club. Free activities in The Bistro while you relax! \n\n\nPlease be aware that this offer is unavailable on public holidays.\n\n\n\nBook a Table
URL:https://buggybuddys.com.au/perth-event/claremont-kids-club-2/2026-04-26/
LOCATION:Claremont Hotel\, 1 Bay View Terrace\, Claremont\, WA\, 6010\, Australia
CATEGORIES:Club,Family Event,Family Fun Days
END:VEVENT
BEGIN:VEVENT
DTSTART;TZID=Australia/Perth:20260503T140000
DTEND;TZID=Australia/Perth:20260503T160000
DTSTAMP:20260426T014909
CREATED:20260115T112406Z
LAST-MODIFIED:20260226T043609Z
UID:10072787-1777816800-1777824000@buggybuddys.com.au
SUMMARY:Claremont Kid’s Club
DESCRIPTION:Join us every Sunday from 2pm – 4pm for Claremont Kid’s Club. Free activities in The Bistro while you relax! \n\n\nPlease be aware that this offer is unavailable on public holidays.\n\n\n\nBook a Table
URL:https://buggybuddys.com.au/perth-event/claremont-kids-club-2/2026-05-03/
LOCATION:Claremont Hotel\, 1 Bay View Terrace\, Claremont\, WA\, 6010\, Australia
CATEGORIES:Club,Family Event,Family Fun Days
END:VEVENT
BEGIN:VEVENT
DTSTART;TZID=Australia/Perth:20260510T140000
DTEND;TZID=Australia/Perth:20260510T160000
DTSTAMP:20260426T014909
CREATED:20260115T112406Z
LAST-MODIFIED:20260226T043609Z
UID:10072788-1778421600-1778428800@buggybuddys.com.au
SUMMARY:Claremont Kid’s Club
DESCRIPTION:Join us every Sunday from 2pm – 4pm for Claremont Kid’s Club. Free activities in The Bistro while you relax! \n\n\nPlease be aware that this offer is unavailable on public holidays.\n\n\n\nBook a Table
URL:https://buggybuddys.com.au/perth-event/claremont-kids-club-2/2026-05-10/
LOCATION:Claremont Hotel\, 1 Bay View Terrace\, Claremont\, WA\, 6010\, Australia
CATEGORIES:Club,Family Event,Family Fun Days
END:VEVENT
BEGIN:VEVENT
DTSTART;TZID=Australia/Perth:20260517T140000
DTEND;TZID=Australia/Perth:20260517T160000
DTSTAMP:20260426T014909
CREATED:20260115T112406Z
LAST-MODIFIED:20260226T043609Z
UID:10072789-1779026400-1779033600@buggybuddys.com.au
SUMMARY:Claremont Kid’s Club
DESCRIPTION:Join us every Sunday from 2pm – 4pm for Claremont Kid’s Club. Free activities in The Bistro while you relax! \n\n\nPlease be aware that this offer is unavailable on public holidays.\n\n\n\nBook a Table
URL:https://buggybuddys.com.au/perth-event/claremont-kids-club-2/2026-05-17/
LOCATION:Claremont Hotel\, 1 Bay View Terrace\, Claremont\, WA\, 6010\, Australia
CATEGORIES:Club,Family Event,Family Fun Days
END:VEVENT
BEGIN:VEVENT
DTSTART;TZID=Australia/Perth:20260524T140000
DTEND;TZID=Australia/Perth:20260524T160000
DTSTAMP:20260426T014909
CREATED:20260115T112406Z
LAST-MODIFIED:20260226T043609Z
UID:10072790-1779631200-1779638400@buggybuddys.com.au
SUMMARY:Claremont Kid’s Club
DESCRIPTION:Join us every Sunday from 2pm – 4pm for Claremont Kid’s Club. Free activities in The Bistro while you relax! \n\n\nPlease be aware that this offer is unavailable on public holidays.\n\n\n\nBook a Table
URL:https://buggybuddys.com.au/perth-event/claremont-kids-club-2/2026-05-24/
LOCATION:Claremont Hotel\, 1 Bay View Terrace\, Claremont\, WA\, 6010\, Australia
CATEGORIES:Club,Family Event,Family Fun Days
END:VEVENT
BEGIN:VEVENT
DTSTART;TZID=Australia/Perth:20260531T140000
DTEND;TZID=Australia/Perth:20260531T160000
DTSTAMP:20260426T014909
CREATED:20260115T112406Z
LAST-MODIFIED:20260226T043609Z
UID:10072791-1780236000-1780243200@buggybuddys.com.au
SUMMARY:Claremont Kid’s Club
DESCRIPTION:Join us every Sunday from 2pm – 4pm for Claremont Kid’s Club. Free activities in The Bistro while you relax! \n\n\nPlease be aware that this offer is unavailable on public holidays.\n\n\n\nBook a Table
URL:https://buggybuddys.com.au/perth-event/claremont-kids-club-2/2026-05-31/
LOCATION:Claremont Hotel\, 1 Bay View Terrace\, Claremont\, WA\, 6010\, Australia
CATEGORIES:Club,Family Event,Family Fun Days
END:VEVENT
BEGIN:VEVENT
DTSTART;TZID=Australia/Perth:20260607T140000
DTEND;TZID=Australia/Perth:20260607T160000
DTSTAMP:20260426T014909
CREATED:20260115T112406Z
LAST-MODIFIED:20260226T043609Z
UID:10072792-1780840800-1780848000@buggybuddys.com.au
SUMMARY:Claremont Kid’s Club
DESCRIPTION:Join us every Sunday from 2pm – 4pm for Claremont Kid’s Club. Free activities in The Bistro while you relax! \n\n\nPlease be aware that this offer is unavailable on public holidays.\n\n\n\nBook a Table
URL:https://buggybuddys.com.au/perth-event/claremont-kids-club-2/2026-06-07/
LOCATION:Claremont Hotel\, 1 Bay View Terrace\, Claremont\, WA\, 6010\, Australia
CATEGORIES:Club,Family Event,Family Fun Days
END:VEVENT
BEGIN:VEVENT
DTSTART;TZID=Australia/Perth:20260614T140000
DTEND;TZID=Australia/Perth:20260614T160000
DTSTAMP:20260426T014909
CREATED:20260115T112406Z
LAST-MODIFIED:20260226T043609Z
UID:10072793-1781445600-1781452800@buggybuddys.com.au
SUMMARY:Claremont Kid’s Club
DESCRIPTION:Join us every Sunday from 2pm – 4pm for Claremont Kid’s Club. Free activities in The Bistro while you relax! \n\n\nPlease be aware that this offer is unavailable on public holidays.\n\n\n\nBook a Table
URL:https://buggybuddys.com.au/perth-event/claremont-kids-club-2/2026-06-14/
LOCATION:Claremont Hotel\, 1 Bay View Terrace\, Claremont\, WA\, 6010\, Australia
CATEGORIES:Club,Family Event,Family Fun Days
END:VEVENT
BEGIN:VEVENT
DTSTART;TZID=Australia/Perth:20260621T140000
DTEND;TZID=Australia/Perth:20260621T160000
DTSTAMP:20260426T014909
CREATED:20260115T112406Z
LAST-MODIFIED:20260226T043609Z
UID:10072794-1782050400-1782057600@buggybuddys.com.au
SUMMARY:Claremont Kid’s Club
DESCRIPTION:Join us every Sunday from 2pm – 4pm for Claremont Kid’s Club. Free activities in The Bistro while you relax! \n\n\nPlease be aware that this offer is unavailable on public holidays.\n\n\n\nBook a Table
URL:https://buggybuddys.com.au/perth-event/claremont-kids-club-2/2026-06-21/
LOCATION:Claremont Hotel\, 1 Bay View Terrace\, Claremont\, WA\, 6010\, Australia
CATEGORIES:Club,Family Event,Family Fun Days
END:VEVENT
BEGIN:VEVENT
DTSTART;TZID=Australia/Perth:20260628T140000
DTEND;TZID=Australia/Perth:20260628T160000
DTSTAMP:20260426T014909
CREATED:20260115T112406Z
LAST-MODIFIED:20260226T043609Z
UID:10072795-1782655200-1782662400@buggybuddys.com.au
SUMMARY:Claremont Kid’s Club
DESCRIPTION:Join us every Sunday from 2pm – 4pm for Claremont Kid’s Club. Free activities in The Bistro while you relax! \n\n\nPlease be aware that this offer is unavailable on public holidays.\n\n\n\nBook a Table
URL:https://buggybuddys.com.au/perth-event/claremont-kids-club-2/2026-06-28/
LOCATION:Claremont Hotel\, 1 Bay View Terrace\, Claremont\, WA\, 6010\, Australia
CATEGORIES:Club,Family Event,Family Fun Days
END:VEVENT
BEGIN:VEVENT
DTSTART;TZID=Australia/Perth:20260705T140000
DTEND;TZID=Australia/Perth:20260705T160000
DTSTAMP:20260426T014909
CREATED:20260115T112406Z
LAST-MODIFIED:20260226T043609Z
UID:10072796-1783260000-1783267200@buggybuddys.com.au
SUMMARY:Claremont Kid’s Club
DESCRIPTION:Join us every Sunday from 2pm – 4pm for Claremont Kid’s Club. Free activities in The Bistro while you relax! \n\n\nPlease be aware that this offer is unavailable on public holidays.\n\n\n\nBook a Table
URL:https://buggybuddys.com.au/perth-event/claremont-kids-club-2/2026-07-05/
LOCATION:Claremont Hotel\, 1 Bay View Terrace\, Claremont\, WA\, 6010\, Australia
CATEGORIES:Club,Family Event,Family Fun Days
END:VEVENT
BEGIN:VEVENT
DTSTART;TZID=Australia/Perth:20260712T140000
DTEND;TZID=Australia/Perth:20260712T160000
DTSTAMP:20260426T014909
CREATED:20260115T112406Z
LAST-MODIFIED:20260226T043609Z
UID:10072797-1783864800-1783872000@buggybuddys.com.au
SUMMARY:Claremont Kid’s Club
DESCRIPTION:Join us every Sunday from 2pm – 4pm for Claremont Kid’s Club. Free activities in The Bistro while you relax! \n\n\nPlease be aware that this offer is unavailable on public holidays.\n\n\n\nBook a Table
URL:https://buggybuddys.com.au/perth-event/claremont-kids-club-2/2026-07-12/
LOCATION:Claremont Hotel\, 1 Bay View Terrace\, Claremont\, WA\, 6010\, Australia
CATEGORIES:Club,Family Event,Family Fun Days
END:VEVENT
BEGIN:VEVENT
DTSTART;TZID=Australia/Perth:20260719T140000
DTEND;TZID=Australia/Perth:20260719T160000
DTSTAMP:20260426T014909
CREATED:20260115T112406Z
LAST-MODIFIED:20260226T043609Z
UID:10072798-1784469600-1784476800@buggybuddys.com.au
SUMMARY:Claremont Kid’s Club
DESCRIPTION:Join us every Sunday from 2pm – 4pm for Claremont Kid’s Club. Free activities in The Bistro while you relax! \n\n\nPlease be aware that this offer is unavailable on public holidays.\n\n\n\nBook a Table
URL:https://buggybuddys.com.au/perth-event/claremont-kids-club-2/2026-07-19/
LOCATION:Claremont Hotel\, 1 Bay View Terrace\, Claremont\, WA\, 6010\, Australia
CATEGORIES:Club,Family Event,Family Fun Days
END:VEVENT
BEGIN:VEVENT
DTSTART;TZID=Australia/Perth:20260726T140000
DTEND;TZID=Australia/Perth:20260726T160000
DTSTAMP:20260426T014909
CREATED:20260115T112406Z
LAST-MODIFIED:20260226T043609Z
UID:10072799-1785074400-1785081600@buggybuddys.com.au
SUMMARY:Claremont Kid’s Club
DESCRIPTION:Join us every Sunday from 2pm – 4pm for Claremont Kid’s Club. Free activities in The Bistro while you relax! \n\n\nPlease be aware that this offer is unavailable on public holidays.\n\n\n\nBook a Table
URL:https://buggybuddys.com.au/perth-event/claremont-kids-club-2/2026-07-26/
LOCATION:Claremont Hotel\, 1 Bay View Terrace\, Claremont\, WA\, 6010\, Australia
CATEGORIES:Club,Family Event,Family Fun Days
END:VEVENT
BEGIN:VEVENT
DTSTART;TZID=Australia/Perth:20260802T140000
DTEND;TZID=Australia/Perth:20260802T160000
DTSTAMP:20260426T014909
CREATED:20260115T112406Z
LAST-MODIFIED:20260226T043609Z
UID:10072800-1785679200-1785686400@buggybuddys.com.au
SUMMARY:Claremont Kid’s Club
DESCRIPTION:Join us every Sunday from 2pm – 4pm for Claremont Kid’s Club. Free activities in The Bistro while you relax! \n\n\nPlease be aware that this offer is unavailable on public holidays.\n\n\n\nBook a Table
URL:https://buggybuddys.com.au/perth-event/claremont-kids-club-2/2026-08-02/
LOCATION:Claremont Hotel\, 1 Bay View Terrace\, Claremont\, WA\, 6010\, Australia
CATEGORIES:Club,Family Event,Family Fun Days
END:VEVENT
BEGIN:VEVENT
DTSTART;TZID=Australia/Perth:20260809T140000
DTEND;TZID=Australia/Perth:20260809T160000
DTSTAMP:20260426T014909
CREATED:20260115T112406Z
LAST-MODIFIED:20260226T043609Z
UID:10072801-1786284000-1786291200@buggybuddys.com.au
SUMMARY:Claremont Kid’s Club
DESCRIPTION:Join us every Sunday from 2pm – 4pm for Claremont Kid’s Club. Free activities in The Bistro while you relax! \n\n\nPlease be aware that this offer is unavailable on public holidays.\n\n\n\nBook a Table
URL:https://buggybuddys.com.au/perth-event/claremont-kids-club-2/2026-08-09/
LOCATION:Claremont Hotel\, 1 Bay View Terrace\, Claremont\, WA\, 6010\, Australia
CATEGORIES:Club,Family Event,Family Fun Days
END:VEVENT
BEGIN:VEVENT
DTSTART;TZID=Australia/Perth:20260816T140000
DTEND;TZID=Australia/Perth:20260816T160000
DTSTAMP:20260426T014909
CREATED:20260115T112406Z
LAST-MODIFIED:20260226T043609Z
UID:10072802-1786888800-1786896000@buggybuddys.com.au
SUMMARY:Claremont Kid’s Club
DESCRIPTION:Join us every Sunday from 2pm – 4pm for Claremont Kid’s Club. Free activities in The Bistro while you relax! \n\n\nPlease be aware that this offer is unavailable on public holidays.\n\n\n\nBook a Table
URL:https://buggybuddys.com.au/perth-event/claremont-kids-club-2/2026-08-16/
LOCATION:Claremont Hotel\, 1 Bay View Terrace\, Claremont\, WA\, 6010\, Australia
CATEGORIES:Club,Family Event,Family Fun Days
END:VEVENT
BEGIN:VEVENT
DTSTART;TZID=Australia/Perth:20260823T140000
DTEND;TZID=Australia/Perth:20260823T160000
DTSTAMP:20260426T014909
CREATED:20260115T112406Z
LAST-MODIFIED:20260226T043609Z
UID:10072803-1787493600-1787500800@buggybuddys.com.au
SUMMARY:Claremont Kid’s Club
DESCRIPTION:Join us every Sunday from 2pm – 4pm for Claremont Kid’s Club. Free activities in The Bistro while you relax! \n\n\nPlease be aware that this offer is unavailable on public holidays.\n\n\n\nBook a Table
URL:https://buggybuddys.com.au/perth-event/claremont-kids-club-2/2026-08-23/
LOCATION:Claremont Hotel\, 1 Bay View Terrace\, Claremont\, WA\, 6010\, Australia
CATEGORIES:Club,Family Event,Family Fun Days
END:VEVENT
BEGIN:VEVENT
DTSTART;TZID=Australia/Perth:20260830T140000
DTEND;TZID=Australia/Perth:20260830T160000
DTSTAMP:20260426T014909
CREATED:20260115T112406Z
LAST-MODIFIED:20260226T043609Z
UID:10072804-1788098400-1788105600@buggybuddys.com.au
SUMMARY:Claremont Kid’s Club
DESCRIPTION:Join us every Sunday from 2pm – 4pm for Claremont Kid’s Club. Free activities in The Bistro while you relax! \n\n\nPlease be aware that this offer is unavailable on public holidays.\n\n\n\nBook a Table
URL:https://buggybuddys.com.au/perth-event/claremont-kids-club-2/2026-08-30/
LOCATION:Claremont Hotel\, 1 Bay View Terrace\, Claremont\, WA\, 6010\, Australia
CATEGORIES:Club,Family Event,Family Fun Days
END:VEVENT
BEGIN:VEVENT
DTSTART;TZID=Australia/Perth:20260906T140000
DTEND;TZID=Australia/Perth:20260906T160000
DTSTAMP:20260426T014909
CREATED:20260115T112406Z
LAST-MODIFIED:20260226T043609Z
UID:10072805-1788703200-1788710400@buggybuddys.com.au
SUMMARY:Claremont Kid’s Club
DESCRIPTION:Join us every Sunday from 2pm – 4pm for Claremont Kid’s Club. Free activities in The Bistro while you relax! \n\n\nPlease be aware that this offer is unavailable on public holidays.\n\n\n\nBook a Table
URL:https://buggybuddys.com.au/perth-event/claremont-kids-club-2/2026-09-06/
LOCATION:Claremont Hotel\, 1 Bay View Terrace\, Claremont\, WA\, 6010\, Australia
CATEGORIES:Club,Family Event,Family Fun Days
END:VEVENT
BEGIN:VEVENT
DTSTART;TZID=Australia/Perth:20260913T140000
DTEND;TZID=Australia/Perth:20260913T160000
DTSTAMP:20260426T014909
CREATED:20260115T112406Z
LAST-MODIFIED:20260226T043609Z
UID:10072806-1789308000-1789315200@buggybuddys.com.au
SUMMARY:Claremont Kid’s Club
DESCRIPTION:Join us every Sunday from 2pm – 4pm for Claremont Kid’s Club. Free activities in The Bistro while you relax! \n\n\nPlease be aware that this offer is unavailable on public holidays.\n\n\n\nBook a Table
URL:https://buggybuddys.com.au/perth-event/claremont-kids-club-2/2026-09-13/
LOCATION:Claremont Hotel\, 1 Bay View Terrace\, Claremont\, WA\, 6010\, Australia
CATEGORIES:Club,Family Event,Family Fun Days
END:VEVENT
BEGIN:VEVENT
DTSTART;TZID=Australia/Perth:20260920T140000
DTEND;TZID=Australia/Perth:20260920T160000
DTSTAMP:20260426T014909
CREATED:20260115T112406Z
LAST-MODIFIED:20260226T043609Z
UID:10072807-1789912800-1789920000@buggybuddys.com.au
SUMMARY:Claremont Kid’s Club
DESCRIPTION:Join us every Sunday from 2pm – 4pm for Claremont Kid’s Club. Free activities in The Bistro while you relax! \n\n\nPlease be aware that this offer is unavailable on public holidays.\n\n\n\nBook a Table
URL:https://buggybuddys.com.au/perth-event/claremont-kids-club-2/2026-09-20/
LOCATION:Claremont Hotel\, 1 Bay View Terrace\, Claremont\, WA\, 6010\, Australia
CATEGORIES:Club,Family Event,Family Fun Days
END:VEVENT
BEGIN:VEVENT
DTSTART;TZID=Australia/Perth:20260927T140000
DTEND;TZID=Australia/Perth:20260927T160000
DTSTAMP:20260426T014909
CREATED:20260115T112406Z
LAST-MODIFIED:20260226T043609Z
UID:10072808-1790517600-1790524800@buggybuddys.com.au
SUMMARY:Claremont Kid’s Club
DESCRIPTION:Join us every Sunday from 2pm – 4pm for Claremont Kid’s Club. Free activities in The Bistro while you relax! \n\n\nPlease be aware that this offer is unavailable on public holidays.\n\n\n\nBook a Table
URL:https://buggybuddys.com.au/perth-event/claremont-kids-club-2/2026-09-27/
LOCATION:Claremont Hotel\, 1 Bay View Terrace\, Claremont\, WA\, 6010\, Australia
CATEGORIES:Club,Family Event,Family Fun Days
END:VEVENT
BEGIN:VEVENT
DTSTART;TZID=Australia/Perth:20261004T140000
DTEND;TZID=Australia/Perth:20261004T160000
DTSTAMP:20260426T014909
CREATED:20260115T112406Z
LAST-MODIFIED:20260226T043609Z
UID:10072809-1791122400-1791129600@buggybuddys.com.au
SUMMARY:Claremont Kid’s Club
DESCRIPTION:Join us every Sunday from 2pm – 4pm for Claremont Kid’s Club. Free activities in The Bistro while you relax! \n\n\nPlease be aware that this offer is unavailable on public holidays.\n\n\n\nBook a Table
URL:https://buggybuddys.com.au/perth-event/claremont-kids-club-2/2026-10-04/
LOCATION:Claremont Hotel\, 1 Bay View Terrace\, Claremont\, WA\, 6010\, Australia
CATEGORIES:Club,Family Event,Family Fun Days
END:VEVENT
BEGIN:VEVENT
DTSTART;TZID=Australia/Perth:20261011T140000
DTEND;TZID=Australia/Perth:20261011T160000
DTSTAMP:20260426T014910
CREATED:20260115T112406Z
LAST-MODIFIED:20260226T043609Z
UID:10072810-1791727200-1791734400@buggybuddys.com.au
SUMMARY:Claremont Kid’s Club
DESCRIPTION:Join us every Sunday from 2pm – 4pm for Claremont Kid’s Club. Free activities in The Bistro while you relax! \n\n\nPlease be aware that this offer is unavailable on public holidays.\n\n\n\nBook a Table
URL:https://buggybuddys.com.au/perth-event/claremont-kids-club-2/2026-10-11/
LOCATION:Claremont Hotel\, 1 Bay View Terrace\, Claremont\, WA\, 6010\, Australia
CATEGORIES:Club,Family Event,Family Fun Days
END:VEVENT
BEGIN:VEVENT
DTSTART;TZID=Australia/Perth:20261018T140000
DTEND;TZID=Australia/Perth:20261018T160000
DTSTAMP:20260426T014910
CREATED:20260115T112406Z
LAST-MODIFIED:20260226T043609Z
UID:10072811-1792332000-1792339200@buggybuddys.com.au
SUMMARY:Claremont Kid’s Club
DESCRIPTION:Join us every Sunday from 2pm – 4pm for Claremont Kid’s Club. Free activities in The Bistro while you relax! \n\n\nPlease be aware that this offer is unavailable on public holidays.\n\n\n\nBook a Table
URL:https://buggybuddys.com.au/perth-event/claremont-kids-club-2/2026-10-18/
LOCATION:Claremont Hotel\, 1 Bay View Terrace\, Claremont\, WA\, 6010\, Australia
CATEGORIES:Club,Family Event,Family Fun Days
END:VEVENT
BEGIN:VEVENT
DTSTART;TZID=Australia/Perth:20261025T140000
DTEND;TZID=Australia/Perth:20261025T160000
DTSTAMP:20260426T014910
CREATED:20260115T112406Z
LAST-MODIFIED:20260226T043609Z
UID:10072812-1792936800-1792944000@buggybuddys.com.au
SUMMARY:Claremont Kid’s Club
DESCRIPTION:Join us every Sunday from 2pm – 4pm for Claremont Kid’s Club. Free activities in The Bistro while you relax! \n\n\nPlease be aware that this offer is unavailable on public holidays.\n\n\n\nBook a Table
URL:https://buggybuddys.com.au/perth-event/claremont-kids-club-2/2026-10-25/
LOCATION:Claremont Hotel\, 1 Bay View Terrace\, Claremont\, WA\, 6010\, Australia
CATEGORIES:Club,Family Event,Family Fun Days
END:VEVENT
BEGIN:VEVENT
DTSTART;TZID=Australia/Perth:20261101T140000
DTEND;TZID=Australia/Perth:20261101T160000
DTSTAMP:20260426T014910
CREATED:20260115T112406Z
LAST-MODIFIED:20260226T043609Z
UID:10072813-1793541600-1793548800@buggybuddys.com.au
SUMMARY:Claremont Kid’s Club
DESCRIPTION:Join us every Sunday from 2pm – 4pm for Claremont Kid’s Club. Free activities in The Bistro while you relax! \n\n\nPlease be aware that this offer is unavailable on public holidays.\n\n\n\nBook a Table
URL:https://buggybuddys.com.au/perth-event/claremont-kids-club-2/2026-11-01/
LOCATION:Claremont Hotel\, 1 Bay View Terrace\, Claremont\, WA\, 6010\, Australia
CATEGORIES:Club,Family Event,Family Fun Days
END:VEVENT
BEGIN:VEVENT
DTSTART;TZID=Australia/Perth:20261108T140000
DTEND;TZID=Australia/Perth:20261108T160000
DTSTAMP:20260426T014910
CREATED:20260115T112406Z
LAST-MODIFIED:20260226T043609Z
UID:10072814-1794146400-1794153600@buggybuddys.com.au
SUMMARY:Claremont Kid’s Club
DESCRIPTION:Join us every Sunday from 2pm – 4pm for Claremont Kid’s Club. Free activities in The Bistro while you relax! \n\n\nPlease be aware that this offer is unavailable on public holidays.\n\n\n\nBook a Table
URL:https://buggybuddys.com.au/perth-event/claremont-kids-club-2/2026-11-08/
LOCATION:Claremont Hotel\, 1 Bay View Terrace\, Claremont\, WA\, 6010\, Australia
CATEGORIES:Club,Family Event,Family Fun Days
END:VEVENT
BEGIN:VEVENT
DTSTART;TZID=Australia/Perth:20261115T140000
DTEND;TZID=Australia/Perth:20261115T160000
DTSTAMP:20260426T014910
CREATED:20260115T112406Z
LAST-MODIFIED:20260226T043609Z
UID:10072815-1794751200-1794758400@buggybuddys.com.au
SUMMARY:Claremont Kid’s Club
DESCRIPTION:Join us every Sunday from 2pm – 4pm for Claremont Kid’s Club. Free activities in The Bistro while you relax! \n\n\nPlease be aware that this offer is unavailable on public holidays.\n\n\n\nBook a Table
URL:https://buggybuddys.com.au/perth-event/claremont-kids-club-2/2026-11-15/
LOCATION:Claremont Hotel\, 1 Bay View Terrace\, Claremont\, WA\, 6010\, Australia
CATEGORIES:Club,Family Event,Family Fun Days
END:VEVENT
END:VCALENDAR