BEGIN:VCALENDAR
VERSION:2.0
PRODID:-//Buggybuddys guide for families in Perth - ECPv6.15.11//NONSGML v1.0//EN
CALSCALE:GREGORIAN
METHOD:PUBLISH
X-WR-CALNAME:Buggybuddys guide for families in Perth
X-ORIGINAL-URL:https://buggybuddys.com.au
X-WR-CALDESC:Events for Buggybuddys guide for families in Perth
REFRESH-INTERVAL;VALUE=DURATION:PT1H
X-Robots-Tag:noindex
X-PUBLISHED-TTL:PT1H
BEGIN:VTIMEZONE
TZID:Australia/Perth
BEGIN:STANDARD
TZOFFSETFROM:+0800
TZOFFSETTO:+0800
TZNAME:AWST
DTSTART:20250101T000000
END:STANDARD
END:VTIMEZONE
BEGIN:VEVENT
DTSTART;TZID=Australia/Perth:20260401T100000
DTEND;TZID=Australia/Perth:20260401T110000
DTSTAMP:20260425T001419
CREATED:20260303T135348Z
LAST-MODIFIED:20260303T135348Z
UID:10074995-1775037600-1775041200@buggybuddys.com.au
SUMMARY:Storytime with Alton
DESCRIPTION:Let your toddlers move and play as they are told stories about Country and the nature around them. Learn language\, dance and explore as Alton tells you all about the incredible place we live. \nThis storytime is suited for children aged 2 – 4 years. Families are welcome to stay after storytime to play in our nature play area\, which includes lots of opportunities for messy play so please dress children appropriately with outdoor clothing and enclosed shoes. \nAn alternate indoor pace will be made available in the case of wet weather with indoor activities. \nChildren must be accompanied and supervised by an adult at all times.   \nStorytime with Alton is part of our ongoing toddler program at EcoHub\, including; Buds & Blooms\, Tales & Trails\, and Freeplay. \nWhat to expect: \nLength\nThis event goes for one hour. \nStart time\nWhile this event is quite informal\, you may miss parts if you arrive too late. \nLocation\nNgoolark Space – Outside in the amphitheatre or inside if hot/wet. Also outside on trails in the reserve. \nRequirements\nSessions will run in all weather so we recommend bringing a change of clothes\, wet weather gear\, hats and sunscreen. Please bring your own drink bottle and your own morning tea. Note that shelter from the rain is available and alternative indoor free play will be offered. \nType of event and expectations\nEarly learning environment: Children should be able to sit calmly when asked and follow all instructions of the program facilitator. Parents and caregivers are responsible for the health and safety of their children at all times and must ensure the behaviour of a child in their care is not negatively impacting the experience of others. Quiet spaces will be available at this event. \nAccessibility \nThis event is mostly sitting \nAccessible parking is available at front of EcoHub\, rooms are located on multiple levels via a ramp and toilets are available within the venue. For specific access requirements please feel free to call or email EcoHub at (08)9364 0191 or ecohub@melville.wa.gov.au \nBook this event
URL:https://buggybuddys.com.au/perth-event/storytime-with-alton/2026-04-01/
LOCATION:City of Melville EcoHub\, 555 Leach Highway\, Winthrop\, WA\, 6150\, Australia
CATEGORIES:Family Event,Kids Term Activities,Play
ATTACH;FMTTYPE=image/jpeg:https://buggybuddys.com.au/wp-content/uploads/2026/03/Storytime-with-Alton.jpg
END:VEVENT
BEGIN:VEVENT
DTSTART;TZID=Australia/Perth:20260318T100000
DTEND;TZID=Australia/Perth:20260318T110000
DTSTAMP:20260425T001419
CREATED:20260303T135348Z
LAST-MODIFIED:20260303T135348Z
UID:10074994-1773828000-1773831600@buggybuddys.com.au
SUMMARY:Storytime with Alton
DESCRIPTION:Let your toddlers move and play as they are told stories about Country and the nature around them. Learn language\, dance and explore as Alton tells you all about the incredible place we live. \nThis storytime is suited for children aged 2 – 4 years. Families are welcome to stay after storytime to play in our nature play area\, which includes lots of opportunities for messy play so please dress children appropriately with outdoor clothing and enclosed shoes. \nAn alternate indoor pace will be made available in the case of wet weather with indoor activities. \nChildren must be accompanied and supervised by an adult at all times.   \nStorytime with Alton is part of our ongoing toddler program at EcoHub\, including; Buds & Blooms\, Tales & Trails\, and Freeplay. \nWhat to expect: \nLength\nThis event goes for one hour. \nStart time\nWhile this event is quite informal\, you may miss parts if you arrive too late. \nLocation\nNgoolark Space – Outside in the amphitheatre or inside if hot/wet. Also outside on trails in the reserve. \nRequirements\nSessions will run in all weather so we recommend bringing a change of clothes\, wet weather gear\, hats and sunscreen. Please bring your own drink bottle and your own morning tea. Note that shelter from the rain is available and alternative indoor free play will be offered. \nType of event and expectations\nEarly learning environment: Children should be able to sit calmly when asked and follow all instructions of the program facilitator. Parents and caregivers are responsible for the health and safety of their children at all times and must ensure the behaviour of a child in their care is not negatively impacting the experience of others. Quiet spaces will be available at this event. \nAccessibility \nThis event is mostly sitting \nAccessible parking is available at front of EcoHub\, rooms are located on multiple levels via a ramp and toilets are available within the venue. For specific access requirements please feel free to call or email EcoHub at (08)9364 0191 or ecohub@melville.wa.gov.au \nBook this event
URL:https://buggybuddys.com.au/perth-event/storytime-with-alton/2026-03-18/
LOCATION:City of Melville EcoHub\, 555 Leach Highway\, Winthrop\, WA\, 6150\, Australia
CATEGORIES:Family Event,Kids Term Activities,Play
ATTACH;FMTTYPE=image/jpeg:https://buggybuddys.com.au/wp-content/uploads/2026/03/Storytime-with-Alton.jpg
END:VEVENT
BEGIN:VEVENT
DTSTART;TZID=Australia/Perth:20260315T130000
DTEND;TZID=Australia/Perth:20260315T160000
DTSTAMP:20260425T001419
CREATED:20260303T152044Z
LAST-MODIFIED:20260303T152044Z
UID:10075110-1773579600-1773590400@buggybuddys.com.au
SUMMARY:Kids & Babies Buy Nothing Market - Summer Wind Down
DESCRIPTION:Share extra toys\, clothes\, and games with local families at our Buy Nothing Market. Clean out & give back as we say goodbye to Summer. \nJoin us for our Kids and Babies Buy Nothing Market! —an eco-friendly initiative to reduce waste and promote community sharing! Kids have a way of accumulating toys\, clothes\, and games faster than we can keep up. Instead of letting these items collect dust or contribute to landfill waste\, why not give them a new life with families in your community? \nBring any array of items suitable for children under the age of 12\, Items should be given with no expectation\, bringing items to share is NOT a requirement for attendance. Items can be left\, and will be considered a donation to the Centre. \nTickets are not required for entry. Registration helps us track attendance and send event reminders\, but is completely optional. \nBook this event
URL:https://buggybuddys.com.au/perth-event/kids-babies-buy-nothing-market-summer-wind-down/
LOCATION:City of Melville EcoHub\, 555 Leach Highway\, Winthrop\, WA\, 6150\, Australia
CATEGORIES:Free,Markets,Swap Meet
ATTACH;FMTTYPE=image/jpeg:https://buggybuddys.com.au/wp-content/uploads/2026/03/Kids-Babies-Buy-Nothing-Market-Summer-Wind-Down.jpg
END:VEVENT
BEGIN:VEVENT
DTSTART;TZID=Australia/Perth:20260314T180000
DTEND;TZID=Australia/Perth:20260314T200000
DTSTAMP:20260425T001419
CREATED:20260303T152853Z
LAST-MODIFIED:20260303T152853Z
UID:10075111-1773511200-1773518400@buggybuddys.com.au
SUMMARY:Birds of the Night (Families)
DESCRIPTION:Discover our local birds! Enjoy a fascinating bird talk\, then step into the night for a guided walk to see birds in their natural habitat in Piney Lakes Reserve \nJoin us for the Birds of the Night event\, where you’ll have the chance to meet local nocturnal birds and learn about the other fascinating wildlife that calls Piney Lakes Reserve home. After a fun and informative session\, we’ll head out on a night walk to experience the natural wonders of the evening. \nThis event is perfect for families with children aged 6 and up. Please note\, younger children (under the age of 6 years) are not suited for this event. \nBabes in arms do not require tickets for this event \nBook this event
URL:https://buggybuddys.com.au/perth-event/birds-of-the-night-families/
LOCATION:City of Melville EcoHub\, 555 Leach Highway\, Winthrop\, WA\, 6150\, Australia
CATEGORIES:Family Event,Information Session,Walk
ATTACH;FMTTYPE=image/jpeg:https://buggybuddys.com.au/wp-content/uploads/2026/03/Birds-of-the-Night-Families.jpg
END:VEVENT
BEGIN:VEVENT
DTSTART;TZID=Australia/Perth:20260304T100000
DTEND;TZID=Australia/Perth:20260304T110000
DTSTAMP:20260425T001419
CREATED:20260303T135348Z
LAST-MODIFIED:20260303T135348Z
UID:10074993-1772618400-1772622000@buggybuddys.com.au
SUMMARY:Storytime with Alton
DESCRIPTION:Let your toddlers move and play as they are told stories about Country and the nature around them. Learn language\, dance and explore as Alton tells you all about the incredible place we live. \nThis storytime is suited for children aged 2 – 4 years. Families are welcome to stay after storytime to play in our nature play area\, which includes lots of opportunities for messy play so please dress children appropriately with outdoor clothing and enclosed shoes. \nAn alternate indoor pace will be made available in the case of wet weather with indoor activities. \nChildren must be accompanied and supervised by an adult at all times.   \nStorytime with Alton is part of our ongoing toddler program at EcoHub\, including; Buds & Blooms\, Tales & Trails\, and Freeplay. \nWhat to expect: \nLength\nThis event goes for one hour. \nStart time\nWhile this event is quite informal\, you may miss parts if you arrive too late. \nLocation\nNgoolark Space – Outside in the amphitheatre or inside if hot/wet. Also outside on trails in the reserve. \nRequirements\nSessions will run in all weather so we recommend bringing a change of clothes\, wet weather gear\, hats and sunscreen. Please bring your own drink bottle and your own morning tea. Note that shelter from the rain is available and alternative indoor free play will be offered. \nType of event and expectations\nEarly learning environment: Children should be able to sit calmly when asked and follow all instructions of the program facilitator. Parents and caregivers are responsible for the health and safety of their children at all times and must ensure the behaviour of a child in their care is not negatively impacting the experience of others. Quiet spaces will be available at this event. \nAccessibility \nThis event is mostly sitting \nAccessible parking is available at front of EcoHub\, rooms are located on multiple levels via a ramp and toilets are available within the venue. For specific access requirements please feel free to call or email EcoHub at (08)9364 0191 or ecohub@melville.wa.gov.au \nBook this event
URL:https://buggybuddys.com.au/perth-event/storytime-with-alton/2026-03-04/
LOCATION:City of Melville EcoHub\, 555 Leach Highway\, Winthrop\, WA\, 6150\, Australia
CATEGORIES:Family Event,Kids Term Activities,Play
ATTACH;FMTTYPE=image/jpeg:https://buggybuddys.com.au/wp-content/uploads/2026/03/Storytime-with-Alton.jpg
END:VEVENT
BEGIN:VEVENT
DTSTART;TZID=Australia/Perth:20260221T150000
DTEND;TZID=Australia/Perth:20260221T163000
DTSTAMP:20260425T001419
CREATED:20260107T153648Z
LAST-MODIFIED:20260107T153648Z
UID:10071608-1771686000-1771691400@buggybuddys.com.au
SUMMARY:Bunuru Guided Walk & Talk
DESCRIPTION:Join us for a guided walk through Piney Lakes Reserve with Rickeeta Walley\, exploring Bunuru\, the season of adolescence. \nJoin us for a guided walk through Piney Lakes Reserve with Rickeeta Walley\, as we explore the Noongar season of Bunuru\, the season of adolescence which is marked by the Gum\, Marri and Jarrah flowering. The hottest and driest season of the Noongar calendar\, Bunuru typically lines up with the calendar months of February and March and is referred to as the second summer. Local birds are particularly active at this time of year as they enjoy the ripe nuts and seeds of jacaranda\, sheoak and native trees. \nMeeting at the City of Melville EcoHub\, your journey begins with a relaxed walk through the reserve. There will be plenty of stops for yarning and questions\, as Rickeeta shares insights on the cultural significance of the land\, the six seasons\, and the traditional uses of native plants. \nDue to the popularity of this event\, if you cannot make it please cancel your ticket so that others can attend. \nMore information \nBook this event
URL:https://buggybuddys.com.au/perth-event/bunuru-guided-walk-talk/
LOCATION:City of Melville EcoHub\, 555 Leach Highway\, Winthrop\, WA\, 6150\, Australia
CATEGORIES:Walk
ATTACH;FMTTYPE=image/jpeg:https://buggybuddys.com.au/wp-content/uploads/2026/01/Bunuru-Guided-Walk-Talk.jpg
END:VEVENT
BEGIN:VEVENT
DTSTART;TZID=Australia/Perth:20260208T090000
DTEND;TZID=Australia/Perth:20260208T110000
DTSTAMP:20260425T001419
CREATED:20260107T141456Z
LAST-MODIFIED:20260107T141456Z
UID:10071488-1770541200-1770548400@buggybuddys.com.au
SUMMARY:February Sow & Grow
DESCRIPTION:We’ll give you FREE soil and seeds to grow a small variety of seasonal produce at home! All ages welcome. City of Melville residents only. \nTake our seeds\, plant them\, then take them home to grow!  \nFebruary Seeds: Heirloom Lettuce\, Tomato\, Chives and Bush Bean \nOur Sow & Grow program is a casual drop-in session for City of Melville residents to plant seasonal produce seeds to take home before planting later in the season. \nHow it works \nBring your vessels to plant your seeds in\, then drop-in to the City of Melville EcoHub any time during the session. Fill your vessels with soil provided by the EcoHub\, then select a few varieties of seasonal produce seeds to plant. When you’re done sowing\, sign up to Grow It Local for FREE growing guides and gardening workshops. \nYou must be a City of Melville resident to attend. Please bring a current ID or rates notice showing your name and City of Melville address. \nWhat seeding ‘vessels’ you can bring  \nGet creative and reuse what you have at home! Some ideas include: \n·        Old seedling trays \n·        Toilet rolls \n·        Egg cartons \n·        Paper shopping bags or newspaper folded into pots \n·        Clean containers like butter tubs\, yoghurt pots\, or strawberry punnets \nBook this event
URL:https://buggybuddys.com.au/perth-event/february-sow-grow/
LOCATION:City of Melville EcoHub\, 555 Leach Highway\, Winthrop\, WA\, 6150\, Australia
CATEGORIES:Community Event,Family Event,Free
END:VEVENT
BEGIN:VEVENT
DTSTART;TZID=Australia/Perth:20260205T093000
DTEND;TZID=Australia/Perth:20260205T140000
DTSTAMP:20260425T001419
CREATED:20260106T152154Z
LAST-MODIFIED:20260106T152154Z
UID:10071486-1770283800-1770300000@buggybuddys.com.au
SUMMARY:Upcycle Sewing - Make a Bag or Purse
DESCRIPTION:Bring old clothes or even a tea towel and we can upcycle them into a fabulous bag or purse! \nBring a pair of trousers\, jeans or T-shirt you can’t wear anymore and watch as we transform them into a fabulous bag or purse!\nPrior sewing machine experience is recommended\, 2 sewing machines will be provided. \nBook this event
URL:https://buggybuddys.com.au/perth-event/upcycle-sewing-make-a-bag-or-purse/
LOCATION:City of Melville EcoHub\, 555 Leach Highway\, Winthrop\, WA\, 6150\, Australia
CATEGORIES:Activity Class,Workshop
ATTACH;FMTTYPE=image/png:https://buggybuddys.com.au/wp-content/uploads/2026/01/Upcycle-Sewing-Make-a-Bag-or-Purse-2.png
END:VEVENT
BEGIN:VEVENT
DTSTART;TZID=Australia/Perth:20260125T150000
DTEND;TZID=Australia/Perth:20260125T170000
DTSTAMP:20260425T001419
CREATED:20260106T140520Z
LAST-MODIFIED:20260106T140520Z
UID:10071455-1769353200-1769360400@buggybuddys.com.au
SUMMARY:Wildlife First Aid for Youth (ages 12 - 17 years)
DESCRIPTION:Join our wildlife rescue workshop! Learn first aid for animals\, make an emergency kit\, and meet wildlife up close. \nWould you know how to help a sick or injured animal if you came across one? \nJoin us for basic wildlife rescue workshop! \nLearn how to assist native animals in need and get close up with some special wildlife in an animal encounter where you will learn some techniques and tricks. Plus\, create your own essential car kit for animal emergencies. Don’t miss this hands-on opportunity to make a difference. \nDue to the popularity of this event\, if you cannot make it please cancel your ticket so that others can attend. \nPlease note this is NOT a drop and go event\, guardians must stay for the duration of the event. \nBook this event
URL:https://buggybuddys.com.au/perth-event/wildlife-first-aid-for-youth-ages-12-17-years/
LOCATION:City of Melville EcoHub\, 555 Leach Highway\, Winthrop\, WA\, 6150\, Australia
CATEGORIES:School Holiday Events,Teens,Workshop
ATTACH;FMTTYPE=image/jpeg:https://buggybuddys.com.au/wp-content/uploads/2026/01/Wildlife-First-Aid-for-Youth-ages-12-17-years.jpg
END:VEVENT
BEGIN:VEVENT
DTSTART;TZID=Australia/Perth:20260114T093000
DTEND;TZID=Australia/Perth:20260114T110000
DTSTAMP:20260425T001419
CREATED:20260105T071828Z
LAST-MODIFIED:20260105T071828Z
UID:10071438-1768383000-1768388400@buggybuddys.com.au
SUMMARY:Creating Habitats
DESCRIPTION:Join Nearer to Nature for a hands-on workshop where we will explore the fascinating world of animal homes and hideaways. Discover why wildlife needs safe spaces and learn practical ways to support them in your own garden. Together\, we’ll create a variety of habitats —from drinking water stations to cozy hides and bird nest providers—helping local wildlife thrive. Perfect for nature lovers and families who want to make a difference in our local environment!  \nPlease note that this event is suitable for families with children aged 6-12yrs. Please see below for information regarding expectations. \nThis is not a ‘drop and leave’ event. All people under the age of 18 must be accompanied by a responsible parent/carer. Parents/carers are responsible for the safety and well-being of children at all times. \nWhat to expect \nLength \n1.5 hours \nStart time \nEvent activities will start on time\, but if you are running late\, you may still join. \nLocation \nInside – Top Level \nRequirements \nPlease bring weather appropriate clothing for outdoor play and a drink bottle. \nType of event and expectations \nChildren are expected to follow instructions of the program facilitator and be respectful at all times. Participants must be capable of following safety instructions. Quiet spaces will be available for this event. Parents/carers are responsible for the safety and well-being of children at all times and should remain on site for the duration of the events (multiple seating areas are available to parents/carers while at EcoHub). \nAccessibility \nAccessible parking is available at front of EcoHub\, rooms are located on multiple levels via a ramp and toilets are available within the venue. For specific access requirements please feel free to call or email EcoHub at (08)9364 0191 or ecohub@melville.wa.gov.au \nDirections to EcoHub\nPlease consider using public transportation. A bus stop\, just a 2-minute walk away\, is conveniently located near EcoHub and services multiple routes. \nEcoHub is located at 555 Leach Highway\, Winthrop in the Piney Lakes Reserve. To reach us\, if heading westbound\, take the first left after Murdoch Drive on Leach Highway. If coming from the Fremantle area\, continue on Leach Hwy across Murdoch Drive and use the designated U-turn just after the lights to move to the westbound lanes. Go back through the lights at Murdoch Drive and take the first left. Please park in the signed public carpark. \nEnews\nSubscribe to City of Melville Sustainability and Environment e-newsletter to stay up to date with upcoming environment and sustainability events in City of Melville. \nRecycling hub\nBring the following items in household quantities for recycling at EcoHub when you attend: household batteries\, printer cartridges\, light globes\, mobile phones and chargers\, plastic bread tags\, oral care products\, plastic bottle lids\, metal bottle lids\, beer can clips and corks. \nFor more recycling option check out Bottle Top Hill recycling events held at EcoHub monthly\, second Saturday 9.00am to 11.00am. \nBook this event
URL:https://buggybuddys.com.au/perth-event/creating-habitats/
LOCATION:City of Melville EcoHub\, 555 Leach Highway\, Winthrop\, WA\, 6150\, Australia
CATEGORIES:School Holiday Events,Workshop
ATTACH;FMTTYPE=image/jpeg:https://buggybuddys.com.au/wp-content/uploads/2026/01/Creating-Habitats.jpg
END:VEVENT
END:VCALENDAR