BEGIN:VCALENDAR
VERSION:2.0
PRODID:-//Buggybuddys guide for families in Perth - ECPv6.15.11//NONSGML v1.0//EN
CALSCALE:GREGORIAN
METHOD:PUBLISH
X-ORIGINAL-URL:https://buggybuddys.com.au
X-WR-CALDESC:Events for Buggybuddys guide for families in Perth
REFRESH-INTERVAL;VALUE=DURATION:PT1H
X-Robots-Tag:noindex
X-PUBLISHED-TTL:PT1H
BEGIN:VTIMEZONE
TZID:Australia/Perth
BEGIN:STANDARD
TZOFFSETFROM:+0800
TZOFFSETTO:+0800
TZNAME:AWST
DTSTART:20240101T000000
END:STANDARD
END:VTIMEZONE
BEGIN:VEVENT
DTSTART;TZID=Australia/Perth:20260221T120000
DTEND;TZID=Australia/Perth:20260221T133000
DTSTAMP:20260426T015155
CREATED:20260217T140620Z
LAST-MODIFIED:20260217T140620Z
UID:10073984-1771675200-1771680600@buggybuddys.com.au
SUMMARY:Mario Kart Racing
DESCRIPTION:Come join us for Mario Kart Racing at Mandurah Library! \nDo you enjoy playing Mario Kart? Never played before and would like to learn how to? Want to race against others? \nCome to Mandurah Library and join us for Mario Kart racing. Prepare for an adventure of limitless possibilities participating in racing tournaments to win a race cup. \n  \nAges 7-11\, 12-12:30pm\, Saturdays \nAges 11-15\, 1-1:30pm\, Saturdays \nEach age group will get to race in two tournament cups. Up to four racers can participate in each cup tournament. \nContact Mandurah libraries to book your place on race day! \n  \nPlease wait for confirmation of your booking before attending Mario Kart Racing. \nParents of children aged under 13 will be required to stay in the library during the session. \nSpaces are limited. Bookings essential. During School Term only. \n\n(Bookings essential)\nPhone: 95503650\nEmail: manlib@mandurah.wa.gov.au\n\n 
URL:https://buggybuddys.com.au/perth-event/mario-kart-racing/
LOCATION:City of Mandurah – Mandurah Library\, 331 Pinjarra Road\, Mandurah\, WA\, 6210\, Australia
CATEGORIES:Free,Kids Term Activities,Library Events,Play
ATTACH;FMTTYPE=image/jpeg:https://buggybuddys.com.au/wp-content/uploads/2026/02/Mario-Kart-Racing.jpg
END:VEVENT
BEGIN:VEVENT
DTSTART;TZID=Australia/Perth:20260217T080000
DTEND;TZID=Australia/Perth:20260217T170000
DTSTAMP:20260426T015155
CREATED:20260217T144535Z
LAST-MODIFIED:20260217T144535Z
UID:10074163-1771315200-1771347600@buggybuddys.com.au
SUMMARY:Weekday Storytime
DESCRIPTION:Storytime is held in the Library to introduce families with young children to the joys of sharing stories. \nAt each session\, there will be stories and STEAM inspired craft activities. \nCome along and meet your friendly library team and join in the fun with other families  \n\nMandurah Library – Mondays 9.30am\nLakelands Library – Tuesday 9.30am\nFalcon Library – Thursdays 10.30am \n\nSuitable for 0 – 5 year olds \nNo booking required.
URL:https://buggybuddys.com.au/perth-event/weekday-storytime-3/
LOCATION:City of Mandurah – Mandurah Library\, 331 Pinjarra Road\, Mandurah\, WA\, 6210\, Australia
CATEGORIES:Free,Kids Term Activities,Library Events
ATTACH;FMTTYPE=image/jpeg:https://buggybuddys.com.au/wp-content/uploads/2026/02/Weekday-Storytime.jpg
END:VEVENT
BEGIN:VEVENT
DTSTART;TZID=Australia/Perth:20251228T110000
DTEND;TZID=Australia/Perth:20251228T133000
DTSTAMP:20260426T015155
CREATED:20241226T060507Z
LAST-MODIFIED:20241226T060507Z
UID:10056209-1766919600-1766928600@buggybuddys.com.au
SUMMARY:Minecraft Club
DESCRIPTION:Come Join us for Minecraft at Mandurah & Falcon Libraries! \nDo you enjoy playing Minecraft? Never played before and would like to learn how to? Want to share your Minecraft skills and knowledge with others? \nCome to the Library and join the Minecraft Club. Prepare for an adventure of limitless possibilities as you battle mobs\, mine\, build\, create and explore in the ever changing landscape of Minecraft. \nSpaces in the Minecraft Club at Falcon Library and Community Centre and Mandurah Library are limited\, so bookings are essential.  Each booking is for 60 minutes within the following age groups: \n  \nMandurah Library \n\nTuesdays from 4:30pm-5:30pm for ages 7-10.\nWednesdays from 4:30pm-5:30pm for ages 7-10.\nSundays from 11am to 12pm for ages 7-10.\nSundays from 12:30pm-1:30pm for ages 7-10.\n\nFalcon Library and Community Centre \n\nMondays from 4:30pm-5:30pm for ages 7-10\nThursdays from 4:30pm-5:30pm for ages 7-10.  \n\nPlease wait for confirmation of your booking before attending Minecraft Club. \nParents will be required to stay in the library if children are 13 or under.
URL:https://buggybuddys.com.au/perth-event/minecraft-club-2/2025-12-28/
LOCATION:City of Mandurah – Mandurah Library\, 331 Pinjarra Road\, Mandurah\, WA\, 6210\, Australia
CATEGORIES:Club,Free,Library Events
ATTACH;FMTTYPE=image/jpeg:https://buggybuddys.com.au/wp-content/uploads/2024/12/Minecraft-Club-Mandurah-Libraries.jpg
END:VEVENT
BEGIN:VEVENT
DTSTART;TZID=Australia/Perth:20251221T110000
DTEND;TZID=Australia/Perth:20251221T133000
DTSTAMP:20260426T015155
CREATED:20241226T060507Z
LAST-MODIFIED:20241226T060507Z
UID:10056208-1766314800-1766323800@buggybuddys.com.au
SUMMARY:Minecraft Club
DESCRIPTION:Come Join us for Minecraft at Mandurah & Falcon Libraries! \nDo you enjoy playing Minecraft? Never played before and would like to learn how to? Want to share your Minecraft skills and knowledge with others? \nCome to the Library and join the Minecraft Club. Prepare for an adventure of limitless possibilities as you battle mobs\, mine\, build\, create and explore in the ever changing landscape of Minecraft. \nSpaces in the Minecraft Club at Falcon Library and Community Centre and Mandurah Library are limited\, so bookings are essential.  Each booking is for 60 minutes within the following age groups: \n  \nMandurah Library \n\nTuesdays from 4:30pm-5:30pm for ages 7-10.\nWednesdays from 4:30pm-5:30pm for ages 7-10.\nSundays from 11am to 12pm for ages 7-10.\nSundays from 12:30pm-1:30pm for ages 7-10.\n\nFalcon Library and Community Centre \n\nMondays from 4:30pm-5:30pm for ages 7-10\nThursdays from 4:30pm-5:30pm for ages 7-10.  \n\nPlease wait for confirmation of your booking before attending Minecraft Club. \nParents will be required to stay in the library if children are 13 or under.
URL:https://buggybuddys.com.au/perth-event/minecraft-club-2/2025-12-21/
LOCATION:City of Mandurah – Mandurah Library\, 331 Pinjarra Road\, Mandurah\, WA\, 6210\, Australia
CATEGORIES:Club,Free,Library Events
ATTACH;FMTTYPE=image/jpeg:https://buggybuddys.com.au/wp-content/uploads/2024/12/Minecraft-Club-Mandurah-Libraries.jpg
END:VEVENT
END:VCALENDAR