BEGIN:VCALENDAR
VERSION:2.0
PRODID:-//Buggybuddys guide for families in Perth - ECPv6.15.11//NONSGML v1.0//EN
CALSCALE:GREGORIAN
METHOD:PUBLISH
X-ORIGINAL-URL:https://buggybuddys.com.au
X-WR-CALDESC:Events for Buggybuddys guide for families in Perth
REFRESH-INTERVAL;VALUE=DURATION:PT1H
X-Robots-Tag:noindex
X-PUBLISHED-TTL:PT1H
BEGIN:VTIMEZONE
TZID:Australia/Perth
BEGIN:STANDARD
TZOFFSETFROM:+0800
TZOFFSETTO:+0800
TZNAME:AWST
DTSTART:20240101T000000
END:STANDARD
END:VTIMEZONE
BEGIN:VEVENT
DTSTART;TZID=Australia/Perth:20260411T100000
DTEND;TZID=Australia/Perth:20260411T113000
DTSTAMP:20260424T023932
CREATED:20260307T134728Z
LAST-MODIFIED:20260307T134728Z
UID:10075180-1775901600-1775907000@buggybuddys.com.au
SUMMARY:Picnic for Prems
DESCRIPTION:Picnic for Prems 2026 \nSupporting families of premature and sick babies\n \nThis April\, I’m hosting Picnic for Prems to raise awareness and funds for Life’s Little Treasures Foundation (LLTF) one of Australia’s leading charities supporting families of babies born premature or sick.\n \nHaving a premature or sick baby can be an incredibly stressful and life changing experience. It takes an emotional\, psychological\, and financial toll on families especially during long hospital stays and the transition home.\n \nLife’s little treasures provides critical information\, practical support\, and connection opportunities to families across 149 hospitals nationwide.\n \n Why this matters:Every dollar raised helps LLTF continue providing care packs\, peer support\, trusted health information\, and ongoing assistance to families navigating the NICU journey and beyond.\n About the event:We’ll be rolling out the picnic blankets for a relaxed morning of good food\, good company\, and a great cause! Location: Churchill Park\, Rockingham Date: Saturday\, 11 April 2026 Time: 10:00 AM\nBring a plate to share if you like\, your picnic rug\, and your beautiful energy. Kids and family are welcome!\n \n Can’t attend but want to support?You can donate directly here:https://picnic-for-prems.raiselysite.com/natalie-veronica\nLet’s come together to make a difference for the tiniest fighters and their families. Every contribution big or small it truly matters. 
URL:https://buggybuddys.com.au/perth-event/picnic-for-prems/
LOCATION:Churchill Park\, Rockingham Beach Road\, Rockingham\, WA\, 6168\, Australia
CATEGORIES:Charity Event,Family Event,Picnic
ATTACH;FMTTYPE=image/jpeg:https://buggybuddys.com.au/wp-content/uploads/2026/03/Picnic-for-Prems.jpg
GEO:-32.2695892;115.7389947
X-APPLE-STRUCTURED-LOCATION;VALUE=URI;X-ADDRESS=Churchill Park Rockingham Beach Road Rockingham WA 6168 Australia;X-APPLE-RADIUS=500;X-TITLE=Rockingham Beach Road:geo:115.7389947,-32.2695892
END:VEVENT
BEGIN:VEVENT
DTSTART;TZID=Australia/Perth:20260126T170000
DTEND;TZID=Australia/Perth:20260126T210000
DTSTAMP:20260424T023932
CREATED:20260110T143407Z
LAST-MODIFIED:20260110T143407Z
UID:10072083-1769446800-1769461200@buggybuddys.com.au
SUMMARY:Celebrate Australia Day
DESCRIPTION:Save the date – more information coming soon. \nCelebrate our nation with a special event for the whole community at the City’s iconic Rockingham Foreshore. \nThere will be something for everyone to enjoy\, including a fireworks display\, stage performances\, roaming entertainment\, children’s activities\, amusement rides\, food vendors and more. \nThis is a free entry\, non-ticketed event. \nA photographer is in attendance at this event capturing images for future City of Rockingham marketing and promotion. If you do not wish to be photographed\, please make a City officer and/or photographer aware. \nCelebrate Australia Day is one of the City’s major annual events and part of our Summer Series\, a program of free entry\, family-friendly events. The Summer Series provides an opportunity for the Rockingham community to connect and engage in fun\, outdoor activities during the summer season. \nVisitors are encouraged not to smoke\, vape or drink alcohol.
URL:https://buggybuddys.com.au/perth-event/celebrate-australia-day/
LOCATION:Churchill Park\, Rockingham Beach Road\, Rockingham\, WA\, 6168\, Australia
CATEGORIES:Australia Day
ATTACH;FMTTYPE=image/jpeg:https://buggybuddys.com.au/wp-content/uploads/2026/01/Celebrate-Australia-Day-Rockingham.jpg
GEO:-32.2695892;115.7389947
X-APPLE-STRUCTURED-LOCATION;VALUE=URI;X-ADDRESS=Churchill Park Rockingham Beach Road Rockingham WA 6168 Australia;X-APPLE-RADIUS=500;X-TITLE=Rockingham Beach Road:geo:115.7389947,-32.2695892
END:VEVENT
BEGIN:VEVENT
DTSTART;TZID=Australia/Perth:20260116T120000
DTEND;TZID=Australia/Perth:20260116T150000
DTSTAMP:20260424T023932
CREATED:20251210T141216Z
LAST-MODIFIED:20251210T141216Z
UID:10068742-1768564800-1768575600@buggybuddys.com.au
SUMMARY:Rockingham Youth Beach Party 2026
DESCRIPTION:Get ready to party on the beach with your friends at the Rockingham Youth Beach Party 2026 – it’s gonna be epic!\n\n\nGet ready to party on the beach with your friends at the Rockingham Youth Beach Party 2026 – it’s gonna be epic! \nKick off the New Year with the City of Rockingham’s Youth Beach Party 2026! Get ready for an afternoon of fun in the sun\, dancing to the hottest tunes\, and making unforgettable memories at the Rockingham Foreshore and Churchill Park. \nYoung people aged 12–17 are invited to celebrate on Friday\, January 16 2026\, from 12pm–3pm. \nThis free event is packed with exciting activities including live performances by local youth acts\, an epic water slide\, foam pit\, beach dodgeball\, a photo booth\, free burgers\, sausage sizzle and slushies\, food trucks\, face painting and much more! \nDon’t forget to book your tickets online and collect your wristband on entry. \nMake sure you stay SunSmart by slipping on a shirt\, slopping on sunscreen\, slapping on a hat and seeking shade throughout the day. \nThis is a safe\, smoke\, vape and alcohol-free event\, proudly brought to you by the Rockingham Youth Centre team\, with contracted security guards on-site. Bag checks will be conducted upon entry to ensure everyone’s safety. \nBeach wheelchairs and beach matting will be available for use on site\, and we encourage you to reach out to chat with us about your accessibility needs on 08 9291 0836. \nA professional photographer representing the City of Rockingham will be capturing all the action\, so bring your best beach vibes.
URL:https://buggybuddys.com.au/perth-event/rockingham-youth-beach-party-2026/
LOCATION:Churchill Park\, Rockingham Beach Road\, Rockingham\, WA\, 6168\, Australia
CATEGORIES:School Holiday Events
ATTACH;FMTTYPE=image/jpeg:https://buggybuddys.com.au/wp-content/uploads/2025/12/522e5503a726b84a552fc8b54c2d9f18.jpg
GEO:-32.2695892;115.7389947
X-APPLE-STRUCTURED-LOCATION;VALUE=URI;X-ADDRESS=Churchill Park Rockingham Beach Road Rockingham WA 6168 Australia;X-APPLE-RADIUS=500;X-TITLE=Rockingham Beach Road:geo:115.7389947,-32.2695892
END:VEVENT
BEGIN:VEVENT
DTSTART;TZID=Australia/Perth:20251231T170000
DTEND;TZID=Australia/Perth:20251231T235900
DTSTAMP:20260424T023932
CREATED:20251208T235235Z
LAST-MODIFIED:20251208T235235Z
UID:10068657-1767200400-1767225540@buggybuddys.com.au
SUMMARY:Rockingham New Year's Eve 2025
DESCRIPTION:Say “Geronimo” and jump into 2026 with Sheppard!\nWe’re thrilled to have these Aussie music superstars headlining our New Year’s Eve 2025 celebration at Rockingham Foreshore on Wednesday 31 December.\nSheppard will perform after the 9pm fireworks\, followed by Diamond Road leading the countdown to the midnight fireworks display.\nThere will also be amusement rides\, games\, children’s craft activities\, roaming entertainment\, face painting\, food vendors and more.\nGetting there:• Consider active transport options like walking and bike riding.• Additional Transperth bus route 555 services will be running from 8.30pm – 12.30am.\nFor full event details\, visit https://rockingham.wa.gov.au\nWith thanks to our supporter\, @Lotterywest.\nThis a free\, non-ticketed event. Visitors to these events are encouraged not to smoke\, vape or drink alcohol. Event details subject to change.
URL:https://buggybuddys.com.au/perth-event/rockingham-new-years-eve-2025/
LOCATION:Churchill Park\, Rockingham Beach Road\, Rockingham\, WA\, 6168\, Australia
CATEGORIES:New Year,New Years
ATTACH;FMTTYPE=image/jpeg:https://buggybuddys.com.au/wp-content/uploads/2025/12/582152814_1246509587507228_8689585739337466018_n.jpg
GEO:-32.2695892;115.7389947
X-APPLE-STRUCTURED-LOCATION;VALUE=URI;X-ADDRESS=Churchill Park Rockingham Beach Road Rockingham WA 6168 Australia;X-APPLE-RADIUS=500;X-TITLE=Rockingham Beach Road:geo:115.7389947,-32.2695892
END:VEVENT
END:VCALENDAR