BEGIN:VCALENDAR
VERSION:2.0
PRODID:-//Buggybuddys guide for families in Perth - ECPv6.15.11//NONSGML v1.0//EN
CALSCALE:GREGORIAN
METHOD:PUBLISH
X-ORIGINAL-URL:https://buggybuddys.com.au
X-WR-CALDESC:Events for Buggybuddys guide for families in Perth
REFRESH-INTERVAL;VALUE=DURATION:PT1H
X-Robots-Tag:noindex
X-PUBLISHED-TTL:PT1H
BEGIN:VTIMEZONE
TZID:Australia/Perth
BEGIN:STANDARD
TZOFFSETFROM:+0800
TZOFFSETTO:+0800
TZNAME:AWST
DTSTART:20250101T000000
END:STANDARD
END:VTIMEZONE
BEGIN:VEVENT
DTSTART;TZID=Australia/Perth:20260414T150000
DTEND;TZID=Australia/Perth:20260414T170000
DTSTAMP:20260426T074412
CREATED:20260402T063613Z
LAST-MODIFIED:20260402T063613Z
UID:10076210-1776178800-1776186000@buggybuddys.com.au
SUMMARY:Gaming Session @ Cannington Library Age 12-17
DESCRIPTION:Register for an opportunity join in this awesome gaming session with friends. Super Smash Bros  will be offered for young people to enjoy.\n\n\nAll youth aged between 12 – 17yrs are invited to register and join our youth workers for a special gaming session including Smash Bros.\, Mario Kart\, Rocket League\, and much more! Join us for some holiday fun! Play for fun and competition! Plus there will be Pizza served to participants! \nRegister your interest to secure a place in the tournament. This event is open for young people aged 12-17yrs\, youth who do not meet the required age will have their ticket refunded. \nPlease ensure that you arrive at 2.45pm to start the event at 3pm sharp\, and please ensure you bring your ticket and have your name marked off by one of the Youth Workers when you arrive. \nDuty of Care: The City of Canning is committed to providing safe and supported environments where young people can feel welcome and thrive. Our qualified youth team will do all they can to ensure young people are safe\, supported and supervised during their time on our programs and in our centres. A large part of our Youth Service is delivering drop-in from youth centres and outreach activities at various locations; meaning young people can come and go as they please during opening times. Please note: if a young person chooses to leave in the middle of a program or centre open hours\, they have the right to do so. City of Canning does not take responsibility for young people who leave the centre or are not in the premises. City of Canning youth staff do not have the authority to keep young people at our premises at the request of parents. \nNote: Participants will be playing Super Smash Bros Ultimate on a Nintendo Switch console (rated PG: Mild violence and themes) \nFor more information please contact one of our Youth team at youth.service@canning.wa.gov.au.
URL:https://buggybuddys.com.au/perth-event/gaming-session-cannington-library-age-12-17-5/
LOCATION:Cannington Library\, 233 Sevenoaks Street\, Cannington\, WA\, 6107\, Australia
CATEGORIES:Library Events
ATTACH;FMTTYPE=image/jpeg:https://buggybuddys.com.au/wp-content/uploads/2026/04/8fb687480c818bb9fe0069abc5fe60cd.jpg
GEO:-32.0095531;115.9406088
X-APPLE-STRUCTURED-LOCATION;VALUE=URI;X-ADDRESS=Cannington Library 233 Sevenoaks Street Cannington WA 6107 Australia;X-APPLE-RADIUS=500;X-TITLE=233 Sevenoaks Street:geo:115.9406088,-32.0095531
END:VEVENT
BEGIN:VEVENT
DTSTART;TZID=Australia/Perth:20260401T093000
DTEND;TZID=Australia/Perth:20260401T103000
DTSTAMP:20260426T074412
CREATED:20260204T143957Z
LAST-MODIFIED:20260204T143957Z
UID:10073232-1775035800-1775039400@buggybuddys.com.au
SUMMARY:Stories at Cannington
DESCRIPTION:Read and sing with our talented staff at Canning Libraries in this magical stories session!
URL:https://buggybuddys.com.au/perth-event/stories-at-cannington-17/
LOCATION:Cannington Library\, 233 Sevenoaks Street\, Cannington\, WA\, 6107\, Australia
CATEGORIES:Kids Term Activities
ATTACH;FMTTYPE=image/jpeg:https://buggybuddys.com.au/wp-content/uploads/2026/02/ae6c592665c2c8934528222db423c9f9.jpg
GEO:-32.0095531;115.9406088
X-APPLE-STRUCTURED-LOCATION;VALUE=URI;X-ADDRESS=Cannington Library 233 Sevenoaks Street Cannington WA 6107 Australia;X-APPLE-RADIUS=500;X-TITLE=233 Sevenoaks Street:geo:115.9406088,-32.0095531
END:VEVENT
BEGIN:VEVENT
DTSTART;TZID=Australia/Perth:20260325T093000
DTEND;TZID=Australia/Perth:20260325T103000
DTSTAMP:20260426T074412
CREATED:20260204T143957Z
LAST-MODIFIED:20260204T143957Z
UID:10073231-1774431000-1774434600@buggybuddys.com.au
SUMMARY:Stories at Cannington
DESCRIPTION:Read and sing with our talented staff at Canning Libraries in this magical stories session!
URL:https://buggybuddys.com.au/perth-event/stories-at-cannington-16/
LOCATION:Cannington Library\, 233 Sevenoaks Street\, Cannington\, WA\, 6107\, Australia
CATEGORIES:Kids Term Activities
ATTACH;FMTTYPE=image/jpeg:https://buggybuddys.com.au/wp-content/uploads/2026/02/ae6c592665c2c8934528222db423c9f9.jpg
GEO:-32.0095531;115.9406088
X-APPLE-STRUCTURED-LOCATION;VALUE=URI;X-ADDRESS=Cannington Library 233 Sevenoaks Street Cannington WA 6107 Australia;X-APPLE-RADIUS=500;X-TITLE=233 Sevenoaks Street:geo:115.9406088,-32.0095531
END:VEVENT
BEGIN:VEVENT
DTSTART;TZID=Australia/Perth:20260318T093000
DTEND;TZID=Australia/Perth:20260318T103000
DTSTAMP:20260426T074412
CREATED:20260204T143956Z
LAST-MODIFIED:20260204T143956Z
UID:10073230-1773826200-1773829800@buggybuddys.com.au
SUMMARY:Stories at Cannington
DESCRIPTION:Read and sing with our talented staff at Canning Libraries in this magical stories session!
URL:https://buggybuddys.com.au/perth-event/stories-at-cannington-15/
LOCATION:Cannington Library\, 233 Sevenoaks Street\, Cannington\, WA\, 6107\, Australia
CATEGORIES:Kids Term Activities
ATTACH;FMTTYPE=image/jpeg:https://buggybuddys.com.au/wp-content/uploads/2026/02/ae6c592665c2c8934528222db423c9f9.jpg
GEO:-32.0095531;115.9406088
X-APPLE-STRUCTURED-LOCATION;VALUE=URI;X-ADDRESS=Cannington Library 233 Sevenoaks Street Cannington WA 6107 Australia;X-APPLE-RADIUS=500;X-TITLE=233 Sevenoaks Street:geo:115.9406088,-32.0095531
END:VEVENT
BEGIN:VEVENT
DTSTART;TZID=Australia/Perth:20260311T093000
DTEND;TZID=Australia/Perth:20260311T103000
DTSTAMP:20260426T074412
CREATED:20260204T143955Z
LAST-MODIFIED:20260204T143955Z
UID:10073229-1773221400-1773225000@buggybuddys.com.au
SUMMARY:Stories at Cannington
DESCRIPTION:Read and sing with our talented staff at Canning Libraries in this magical stories session!
URL:https://buggybuddys.com.au/perth-event/stories-at-cannington-14/
LOCATION:Cannington Library\, 233 Sevenoaks Street\, Cannington\, WA\, 6107\, Australia
CATEGORIES:Kids Term Activities
ATTACH;FMTTYPE=image/jpeg:https://buggybuddys.com.au/wp-content/uploads/2026/02/ae6c592665c2c8934528222db423c9f9.jpg
GEO:-32.0095531;115.9406088
X-APPLE-STRUCTURED-LOCATION;VALUE=URI;X-ADDRESS=Cannington Library 233 Sevenoaks Street Cannington WA 6107 Australia;X-APPLE-RADIUS=500;X-TITLE=233 Sevenoaks Street:geo:115.9406088,-32.0095531
END:VEVENT
BEGIN:VEVENT
DTSTART;TZID=Australia/Perth:20260304T093000
DTEND;TZID=Australia/Perth:20260304T103000
DTSTAMP:20260426T074412
CREATED:20260204T143955Z
LAST-MODIFIED:20260204T143955Z
UID:10073228-1772616600-1772620200@buggybuddys.com.au
SUMMARY:Stories at Cannington
DESCRIPTION:Read and sing with our talented staff at Canning Libraries in this magical stories session!
URL:https://buggybuddys.com.au/perth-event/stories-at-cannington-13/
LOCATION:Cannington Library\, 233 Sevenoaks Street\, Cannington\, WA\, 6107\, Australia
CATEGORIES:Kids Term Activities
ATTACH;FMTTYPE=image/jpeg:https://buggybuddys.com.au/wp-content/uploads/2026/02/ae6c592665c2c8934528222db423c9f9.jpg
GEO:-32.0095531;115.9406088
X-APPLE-STRUCTURED-LOCATION;VALUE=URI;X-ADDRESS=Cannington Library 233 Sevenoaks Street Cannington WA 6107 Australia;X-APPLE-RADIUS=500;X-TITLE=233 Sevenoaks Street:geo:115.9406088,-32.0095531
END:VEVENT
BEGIN:VEVENT
DTSTART;TZID=Australia/Perth:20260225T093000
DTEND;TZID=Australia/Perth:20260225T103000
DTSTAMP:20260426T074412
CREATED:20260204T143954Z
LAST-MODIFIED:20260204T143954Z
UID:10073227-1772011800-1772015400@buggybuddys.com.au
SUMMARY:Stories at Cannington
DESCRIPTION:Read and sing with our talented staff at Canning Libraries in this magical stories session!
URL:https://buggybuddys.com.au/perth-event/stories-at-cannington-12/
LOCATION:Cannington Library\, 233 Sevenoaks Street\, Cannington\, WA\, 6107\, Australia
CATEGORIES:Kids Term Activities
ATTACH;FMTTYPE=image/jpeg:https://buggybuddys.com.au/wp-content/uploads/2026/02/ae6c592665c2c8934528222db423c9f9.jpg
GEO:-32.0095531;115.9406088
X-APPLE-STRUCTURED-LOCATION;VALUE=URI;X-ADDRESS=Cannington Library 233 Sevenoaks Street Cannington WA 6107 Australia;X-APPLE-RADIUS=500;X-TITLE=233 Sevenoaks Street:geo:115.9406088,-32.0095531
END:VEVENT
BEGIN:VEVENT
DTSTART;TZID=Australia/Perth:20260218T093000
DTEND;TZID=Australia/Perth:20260218T103000
DTSTAMP:20260426T074412
CREATED:20260204T143954Z
LAST-MODIFIED:20260204T143954Z
UID:10073226-1771407000-1771410600@buggybuddys.com.au
SUMMARY:Stories at Cannington
DESCRIPTION:Read and sing with our talented staff at Canning Libraries in this magical stories session!
URL:https://buggybuddys.com.au/perth-event/stories-at-cannington-11/
LOCATION:Cannington Library\, 233 Sevenoaks Street\, Cannington\, WA\, 6107\, Australia
CATEGORIES:Kids Term Activities
ATTACH;FMTTYPE=image/jpeg:https://buggybuddys.com.au/wp-content/uploads/2026/02/ae6c592665c2c8934528222db423c9f9.jpg
GEO:-32.0095531;115.9406088
X-APPLE-STRUCTURED-LOCATION;VALUE=URI;X-ADDRESS=Cannington Library 233 Sevenoaks Street Cannington WA 6107 Australia;X-APPLE-RADIUS=500;X-TITLE=233 Sevenoaks Street:geo:115.9406088,-32.0095531
END:VEVENT
BEGIN:VEVENT
DTSTART;TZID=Australia/Perth:20260211T093000
DTEND;TZID=Australia/Perth:20260211T103000
DTSTAMP:20260426T074413
CREATED:20260204T143951Z
LAST-MODIFIED:20260204T143951Z
UID:10073225-1770802200-1770805800@buggybuddys.com.au
SUMMARY:Stories at Cannington
DESCRIPTION:Read and sing with our talented staff at Canning Libraries in this magical stories session!
URL:https://buggybuddys.com.au/perth-event/stories-at-cannington-10/
LOCATION:Cannington Library\, 233 Sevenoaks Street\, Cannington\, WA\, 6107\, Australia
CATEGORIES:Kids Term Activities
ATTACH;FMTTYPE=image/jpeg:https://buggybuddys.com.au/wp-content/uploads/2026/02/ae6c592665c2c8934528222db423c9f9.jpg
GEO:-32.0095531;115.9406088
X-APPLE-STRUCTURED-LOCATION;VALUE=URI;X-ADDRESS=Cannington Library 233 Sevenoaks Street Cannington WA 6107 Australia;X-APPLE-RADIUS=500;X-TITLE=233 Sevenoaks Street:geo:115.9406088,-32.0095531
END:VEVENT
BEGIN:VEVENT
DTSTART;TZID=Australia/Perth:20260113T143000
DTEND;TZID=Australia/Perth:20260113T163000
DTSTAMP:20260426T074413
CREATED:20260102T070834Z
LAST-MODIFIED:20260102T070834Z
UID:10070704-1768314600-1768321800@buggybuddys.com.au
SUMMARY:Gaming Session @ Cannington Library Age 12-17
DESCRIPTION:Register for an opportunity join in this awesome gaming session with friends. Super Smash Bros  will be offered for young people to enjoy.\n\n\nAll youth aged between 12 – 17yrs are invited to register and join our youth workers for a special gaming session including Smash Bros.\, Mario Kart\, Rocket League\, and much more! Join us for some holiday fun! Play for fun and competition! Plus there will be Pizza served to participants! \nRegister your interest to secure a place in the tournament. This event is open for young people aged 12-17yrs\, youth who do not meet the required age will have their ticket refunded. \nPlease ensure that you arrive at 2.45pm to start the event at 3pm sharp\, and please ensure you bring your ticket and have your name marked off by one of the Youth Workers when you arrive. \nDuty of Care: The City of Canning is committed to providing safe and supported environments where young people can feel welcome and thrive. Our qualified youth team will do all they can to ensure young people are safe\, supported and supervised during their time on our programs and in our centres. A large part of our Youth Service is delivering drop-in from youth centres and outreach activities at various locations; meaning young people can come and go as they please during opening times. Please note: if a young person chooses to leave in the middle of a program or centre open hours\, they have the right to do so. City of Canning does not take responsibility for young people who leave the centre or are not in the premises. City of Canning youth staff do not have the authority to keep young people at our premises at the request of parents. \nNote: Participants will be playing Super Smash Bros Ultimate on a Nintendo Switch console (rated PG: Mild violence and themes) \nFor more information please contact one of our Youth team at youth.service@canning.wa.gov.au.
URL:https://buggybuddys.com.au/perth-event/gaming-session-cannington-library-age-12-17-4/
LOCATION:Cannington Library\, 233 Sevenoaks Street\, Cannington\, WA\, 6107\, Australia
CATEGORIES:Teens
ATTACH;FMTTYPE=image/jpeg:https://buggybuddys.com.au/wp-content/uploads/2026/01/62fa221b97e0591a3d10cd939d9c69f7.jpg
GEO:-32.0095531;115.9406088
X-APPLE-STRUCTURED-LOCATION;VALUE=URI;X-ADDRESS=Cannington Library 233 Sevenoaks Street Cannington WA 6107 Australia;X-APPLE-RADIUS=500;X-TITLE=233 Sevenoaks Street:geo:115.9406088,-32.0095531
END:VEVENT
END:VCALENDAR