BEGIN:VCALENDAR
VERSION:2.0
PRODID:-//Buggybuddys guide for families in Perth - ECPv6.15.11//NONSGML v1.0//EN
CALSCALE:GREGORIAN
METHOD:PUBLISH
X-WR-CALNAME:Buggybuddys guide for families in Perth
X-ORIGINAL-URL:https://buggybuddys.com.au
X-WR-CALDESC:Events for Buggybuddys guide for families in Perth
REFRESH-INTERVAL;VALUE=DURATION:PT1H
X-Robots-Tag:noindex
X-PUBLISHED-TTL:PT1H
BEGIN:VTIMEZONE
TZID:Australia/Perth
BEGIN:STANDARD
TZOFFSETFROM:+0800
TZOFFSETTO:+0800
TZNAME:AWST
DTSTART:20250101T000000
END:STANDARD
END:VTIMEZONE
BEGIN:VEVENT
DTSTART;TZID=Australia/Perth:20260425T063000
DTEND;TZID=Australia/Perth:20260425T090000
DTSTAMP:20260424T080132
CREATED:20260406T081129Z
LAST-MODIFIED:20260406T081129Z
UID:10076356-1777098600-1777107600@buggybuddys.com.au
SUMMARY:Brookton Gunfire Breakfast
DESCRIPTION:Date: April 25\, 2026 \n\n\nTime: 6:45 AM – 9:00 AM\n\n\nLocation: Brookton RSL
URL:https://buggybuddys.com.au/perth-event/brookton-gunfire-breakfast/
LOCATION:Brookton RSL Sub-Branch\, 117 Robinson Road\, Brookton\, WA\, 6306\, Australia
CATEGORIES:Anzac
ATTACH;FMTTYPE=image/jpeg:https://buggybuddys.com.au/wp-content/uploads/2026/04/brookton-rsl-WA.jpg
END:VEVENT
END:VCALENDAR