BEGIN:VCALENDAR
VERSION:2.0
PRODID:-//Buggybuddys guide for families in Perth - ECPv6.15.11//NONSGML v1.0//EN
CALSCALE:GREGORIAN
METHOD:PUBLISH
X-WR-CALNAME:Buggybuddys guide for families in Perth
X-ORIGINAL-URL:https://buggybuddys.com.au
X-WR-CALDESC:Events for Buggybuddys guide for families in Perth
REFRESH-INTERVAL;VALUE=DURATION:PT1H
X-Robots-Tag:noindex
X-PUBLISHED-TTL:PT1H
BEGIN:VTIMEZONE
TZID:Australia/Perth
BEGIN:STANDARD
TZOFFSETFROM:+0800
TZOFFSETTO:+0800
TZNAME:AWST
DTSTART:20250101T000000
END:STANDARD
END:VTIMEZONE
BEGIN:VEVENT
DTSTART;TZID=Australia/Perth:20260416T170000
DTEND;TZID=Australia/Perth:20260416T203000
DTSTAMP:20260422T203141
CREATED:20251221T072214Z
LAST-MODIFIED:20251221T072214Z
UID:10069677-1776358800-1776371400@buggybuddys.com.au
SUMMARY:Ellenbrook Eats
DESCRIPTION:Choose from  a wide range of food trucks serving up tasty meals\, desserts\, and drinks\, plus live entertainment and family-friendly activities – there’s something for everyone. \nPerfect for locals\, families and couples of all ages who want a relaxed\, affordable night out with great food and great atmosphere.
URL:https://buggybuddys.com.au/perth-event/ellenbrook-eats/2026-04-16/
LOCATION:Brookmount Park\, Brookmount Dr\, Ellenbrook\, WA\, 6069\, Australia
CATEGORIES:Community Event,Food Trucks
ATTACH;FMTTYPE=image/jpeg:https://buggybuddys.com.au/wp-content/uploads/2025/12/Ellenbrook-Eats.jpg
END:VEVENT
BEGIN:VEVENT
DTSTART;TZID=Australia/Perth:20260402T170000
DTEND;TZID=Australia/Perth:20260402T203000
DTSTAMP:20260422T203141
CREATED:20251221T072214Z
LAST-MODIFIED:20251221T072214Z
UID:10069676-1775149200-1775161800@buggybuddys.com.au
SUMMARY:Ellenbrook Eats
DESCRIPTION:Choose from  a wide range of food trucks serving up tasty meals\, desserts\, and drinks\, plus live entertainment and family-friendly activities – there’s something for everyone. \nPerfect for locals\, families and couples of all ages who want a relaxed\, affordable night out with great food and great atmosphere.
URL:https://buggybuddys.com.au/perth-event/ellenbrook-eats/2026-04-02/
LOCATION:Brookmount Park\, Brookmount Dr\, Ellenbrook\, WA\, 6069\, Australia
CATEGORIES:Community Event,Food Trucks
ATTACH;FMTTYPE=image/jpeg:https://buggybuddys.com.au/wp-content/uploads/2025/12/Ellenbrook-Eats.jpg
END:VEVENT
BEGIN:VEVENT
DTSTART;TZID=Australia/Perth:20260319T170000
DTEND;TZID=Australia/Perth:20260319T203000
DTSTAMP:20260422T203141
CREATED:20251221T072214Z
LAST-MODIFIED:20251221T072214Z
UID:10069675-1773939600-1773952200@buggybuddys.com.au
SUMMARY:Ellenbrook Eats
DESCRIPTION:Choose from  a wide range of food trucks serving up tasty meals\, desserts\, and drinks\, plus live entertainment and family-friendly activities – there’s something for everyone. \nPerfect for locals\, families and couples of all ages who want a relaxed\, affordable night out with great food and great atmosphere.
URL:https://buggybuddys.com.au/perth-event/ellenbrook-eats/2026-03-19/
LOCATION:Brookmount Park\, Brookmount Dr\, Ellenbrook\, WA\, 6069\, Australia
CATEGORIES:Community Event,Food Trucks
ATTACH;FMTTYPE=image/jpeg:https://buggybuddys.com.au/wp-content/uploads/2025/12/Ellenbrook-Eats.jpg
END:VEVENT
BEGIN:VEVENT
DTSTART;TZID=Australia/Perth:20260305T170000
DTEND;TZID=Australia/Perth:20260305T203000
DTSTAMP:20260422T203141
CREATED:20251221T072214Z
LAST-MODIFIED:20251221T072214Z
UID:10069674-1772730000-1772742600@buggybuddys.com.au
SUMMARY:Ellenbrook Eats
DESCRIPTION:Choose from  a wide range of food trucks serving up tasty meals\, desserts\, and drinks\, plus live entertainment and family-friendly activities – there’s something for everyone. \nPerfect for locals\, families and couples of all ages who want a relaxed\, affordable night out with great food and great atmosphere.
URL:https://buggybuddys.com.au/perth-event/ellenbrook-eats/2026-03-05/
LOCATION:Brookmount Park\, Brookmount Dr\, Ellenbrook\, WA\, 6069\, Australia
CATEGORIES:Community Event,Food Trucks
ATTACH;FMTTYPE=image/jpeg:https://buggybuddys.com.au/wp-content/uploads/2025/12/Ellenbrook-Eats.jpg
END:VEVENT
BEGIN:VEVENT
DTSTART;TZID=Australia/Perth:20260219T170000
DTEND;TZID=Australia/Perth:20260219T203000
DTSTAMP:20260422T203141
CREATED:20251221T072214Z
LAST-MODIFIED:20251221T072214Z
UID:10069673-1771520400-1771533000@buggybuddys.com.au
SUMMARY:Ellenbrook Eats
DESCRIPTION:Choose from  a wide range of food trucks serving up tasty meals\, desserts\, and drinks\, plus live entertainment and family-friendly activities – there’s something for everyone. \nPerfect for locals\, families and couples of all ages who want a relaxed\, affordable night out with great food and great atmosphere.
URL:https://buggybuddys.com.au/perth-event/ellenbrook-eats/2026-02-19/
LOCATION:Brookmount Park\, Brookmount Dr\, Ellenbrook\, WA\, 6069\, Australia
CATEGORIES:Community Event,Food Trucks
ATTACH;FMTTYPE=image/jpeg:https://buggybuddys.com.au/wp-content/uploads/2025/12/Ellenbrook-Eats.jpg
END:VEVENT
BEGIN:VEVENT
DTSTART;TZID=Australia/Perth:20260205T170000
DTEND;TZID=Australia/Perth:20260205T203000
DTSTAMP:20260422T203141
CREATED:20251221T072214Z
LAST-MODIFIED:20251221T072214Z
UID:10069672-1770310800-1770323400@buggybuddys.com.au
SUMMARY:Ellenbrook Eats
DESCRIPTION:Choose from  a wide range of food trucks serving up tasty meals\, desserts\, and drinks\, plus live entertainment and family-friendly activities – there’s something for everyone. \nPerfect for locals\, families and couples of all ages who want a relaxed\, affordable night out with great food and great atmosphere.
URL:https://buggybuddys.com.au/perth-event/ellenbrook-eats/2026-02-05/
LOCATION:Brookmount Park\, Brookmount Dr\, Ellenbrook\, WA\, 6069\, Australia
CATEGORIES:Community Event,Food Trucks
ATTACH;FMTTYPE=image/jpeg:https://buggybuddys.com.au/wp-content/uploads/2025/12/Ellenbrook-Eats.jpg
END:VEVENT
BEGIN:VEVENT
DTSTART;TZID=Australia/Perth:20260122T170000
DTEND;TZID=Australia/Perth:20260122T203000
DTSTAMP:20260422T203141
CREATED:20251221T072214Z
LAST-MODIFIED:20251221T072214Z
UID:10069671-1769101200-1769113800@buggybuddys.com.au
SUMMARY:Ellenbrook Eats
DESCRIPTION:Choose from  a wide range of food trucks serving up tasty meals\, desserts\, and drinks\, plus live entertainment and family-friendly activities – there’s something for everyone. \nPerfect for locals\, families and couples of all ages who want a relaxed\, affordable night out with great food and great atmosphere.
URL:https://buggybuddys.com.au/perth-event/ellenbrook-eats/2026-01-22/
LOCATION:Brookmount Park\, Brookmount Dr\, Ellenbrook\, WA\, 6069\, Australia
CATEGORIES:Community Event,Food Trucks
ATTACH;FMTTYPE=image/jpeg:https://buggybuddys.com.au/wp-content/uploads/2025/12/Ellenbrook-Eats.jpg
END:VEVENT
BEGIN:VEVENT
DTSTART;TZID=Australia/Perth:20260108T170000
DTEND;TZID=Australia/Perth:20260108T203000
DTSTAMP:20260422T203141
CREATED:20251221T072214Z
LAST-MODIFIED:20251221T072214Z
UID:10069670-1767891600-1767904200@buggybuddys.com.au
SUMMARY:Ellenbrook Eats
DESCRIPTION:Choose from  a wide range of food trucks serving up tasty meals\, desserts\, and drinks\, plus live entertainment and family-friendly activities – there’s something for everyone. \nPerfect for locals\, families and couples of all ages who want a relaxed\, affordable night out with great food and great atmosphere.
URL:https://buggybuddys.com.au/perth-event/ellenbrook-eats/2026-01-08/
LOCATION:Brookmount Park\, Brookmount Dr\, Ellenbrook\, WA\, 6069\, Australia
CATEGORIES:Community Event,Food Trucks
ATTACH;FMTTYPE=image/jpeg:https://buggybuddys.com.au/wp-content/uploads/2025/12/Ellenbrook-Eats.jpg
END:VEVENT
END:VCALENDAR