BEGIN:VCALENDAR
VERSION:2.0
PRODID:-//Buggybuddys guide for families in Perth - ECPv6.15.11//NONSGML v1.0//EN
CALSCALE:GREGORIAN
METHOD:PUBLISH
X-ORIGINAL-URL:https://buggybuddys.com.au
X-WR-CALDESC:Events for Buggybuddys guide for families in Perth
REFRESH-INTERVAL;VALUE=DURATION:PT1H
X-Robots-Tag:noindex
X-PUBLISHED-TTL:PT1H
BEGIN:VTIMEZONE
TZID:Australia/Perth
BEGIN:STANDARD
TZOFFSETFROM:+0800
TZOFFSETTO:+0800
TZNAME:AWST
DTSTART:20250101T000000
END:STANDARD
END:VTIMEZONE
BEGIN:VEVENT
DTSTART;TZID=Australia/Perth:20260130T100000
DTEND;TZID=Australia/Perth:20260130T123000
DTSTAMP:20260426T030032
CREATED:20251228T142856Z
LAST-MODIFIED:20251228T142856Z
UID:10069792-1769767200-1769776200@buggybuddys.com.au
SUMMARY:Perth Aqua Park - School Holiday Program
DESCRIPTION:Destination: Perth Aqua Park – 278 St Albans Rd\, Baldivis WA 6171 \nAges: 12-24 \nDate: Friday 30th January \nArrive at Byford Youth Space: 9am at the latest \nDeparture Time from Byford Youth Space: 9:10am \nReturn Time to Byford Youth Space: 11:30pm \nTransportation: BUS – chartered by Zion Coach Services. \nImportant information: \n\nRegistering for this event via Humanitix does not confirm attendance\, you must also complete the permission slip sent via email. If you are a young person signing yourself up\, please provide a contact for a parent/guardian.\nPlease arrive at the Byford Youth Space (The building next to the skatepark at Briggs Park Oval) no later than 9:45am to leave at 10:10am. \nAll participants MUST be able to swim.\nEVERY participant must have signed Perth Aqua Parks waiver – https://perthaquapark.com.au/waivers/ . \nNO items of jewellery can be worn when using the Aqua Park (this includes all watches\, rings\, bracelets\, necklaces\, earrings and anklets)\n\nBook now!
URL:https://buggybuddys.com.au/perth-event/perth-aqua-park-school-holiday-program/
LOCATION:Briggs Park Pavilion\, 20 Mead Street\, Byford\, WA\, 6122\, Australia
CATEGORIES:Free,Play,School Holiday Events
ATTACH;FMTTYPE=image/jpeg:https://buggybuddys.com.au/wp-content/uploads/2025/12/Perth-Aqua-Park-School-Holiday-Program.jpg
END:VEVENT
BEGIN:VEVENT
DTSTART;TZID=Australia/Perth:20260116T110000
DTEND;TZID=Australia/Perth:20260116T130000
DTSTAMP:20260426T030033
CREATED:20251228T092731Z
LAST-MODIFIED:20251228T092731Z
UID:10069775-1768561200-1768568400@buggybuddys.com.au
SUMMARY:Cooking Up a Storm in Byford - School Holiday Program
DESCRIPTION:In this FREE activity\, young people will learn how to: \n\nPrepare and cook gozleme\nMake a delicious apple turnover\nYou’re the chef so put your own personal touch and make it your own!\n\nNo prior cooking experience? No worries! Our team will guide you through each step\, making it fun and easy to create food you’ll be proud of. \nAges: 12-17 \nDate: Friday 16th January \nTime: 11am-1:00pm \nLocation: Byford Youth Space \nBook now!
URL:https://buggybuddys.com.au/perth-event/cooking-up-a-storm-in-byford-school-holiday-program/
LOCATION:Briggs Park Pavilion\, 20 Mead Street\, Byford\, WA\, 6122\, Australia
CATEGORIES:Free,School Holiday Events,Teens,Workshop
ATTACH;FMTTYPE=image/jpeg:https://buggybuddys.com.au/wp-content/uploads/2025/12/Cooking-Up-a-Storm-in-Byford-School-Holiday-Program.jpg
END:VEVENT
BEGIN:VEVENT
DTSTART;TZID=Australia/Perth:20260109T170000
DTEND;TZID=Australia/Perth:20260109T193000
DTSTAMP:20260426T030033
CREATED:20251228T082411Z
LAST-MODIFIED:20251228T082411Z
UID:10069767-1767978000-1767987000@buggybuddys.com.au
SUMMARY:Kung Fu Panda - Youth (Aged 12-17) Movie Night - School Holiday Program
DESCRIPTION:We’ve had multiple requests for this cinematic masterpiece to be played during our school holiday program so we listening to the people! As always\, popcorn\, chips\, lollies and juice boxes will be provided! So come on down\, chill out on a comfy bean bag\, eat some food and chill out! \nAges: 12-17 \nDate: Friday 9 January \nTime: 5pm-7:30pm (Movie will start at 5:30pm) \nLocation: Byford Youth Space (The building next to the skatepark at Briggs Park Oval) \n  \n\n\n\n\n\nBook now!
URL:https://buggybuddys.com.au/perth-event/kung-fu-panda-youth-aged-12-17-movie-night-school-holiday-program/
LOCATION:Briggs Park Pavilion\, 20 Mead Street\, Byford\, WA\, 6122\, Australia
CATEGORIES:Free,Library Events,School Holiday Events,Teens
ATTACH;FMTTYPE=image/jpeg:https://buggybuddys.com.au/wp-content/uploads/2025/12/Kung-Fu-Panda-Youth-Aged-12-17-Movie-Night-School-Holiday-Program.jpg
END:VEVENT
BEGIN:VEVENT
DTSTART;TZID=Australia/Perth:20260107T093000
DTEND;TZID=Australia/Perth:20260107T130000
DTSTAMP:20260426T030033
CREATED:20251228T080136Z
LAST-MODIFIED:20251228T080136Z
UID:10069763-1767778200-1767790800@buggybuddys.com.au
SUMMARY:Ten Pin Bowling at Zone Bowling - School Holiday Program
DESCRIPTION:The event will consist of a 60-minute session at Zone Bowling with travel included. Hold on\, it gets even better. How?! It’s completely FREE! \nAges: 12-17 \nDate: Wednesday 7th January \nArrive at Byford Youth Space: from 9:30am \nDeparture Time from Byford Youth Space: 9:50am \nReturn Time to Byford Youth Space: 1pm \nTransportation: BUS – chartered by Zion Coach Services. \nLocation: Byford Youth Space – Briggs Park Pavillion (The building next to the skatepark at Briggs Park Oval)\, Cnr Mead Street and Gordin Way. \n  \n\n\n\n\n\nBook now!
URL:https://buggybuddys.com.au/perth-event/ten-pin-bowling-at-zone-bowling-school-holiday-program/
LOCATION:Briggs Park Pavilion\, 20 Mead Street\, Byford\, WA\, 6122\, Australia
CATEGORIES:School Holiday Events,Teens
ATTACH;FMTTYPE=image/jpeg:https://buggybuddys.com.au/wp-content/uploads/2025/12/Ten-Pin-Bowling-at-Zone-Bowling-School-Holiday-Program.jpg
END:VEVENT
END:VCALENDAR