BEGIN:VCALENDAR
VERSION:2.0
PRODID:-//Buggybuddys guide for families in Perth - ECPv6.15.11//NONSGML v1.0//EN
CALSCALE:GREGORIAN
METHOD:PUBLISH
X-ORIGINAL-URL:https://buggybuddys.com.au
X-WR-CALDESC:Events for Buggybuddys guide for families in Perth
REFRESH-INTERVAL;VALUE=DURATION:PT1H
X-Robots-Tag:noindex
X-PUBLISHED-TTL:PT1H
BEGIN:VTIMEZONE
TZID:Australia/Perth
BEGIN:STANDARD
TZOFFSETFROM:+0800
TZOFFSETTO:+0800
TZNAME:AWST
DTSTART:20250101T000000
END:STANDARD
END:VTIMEZONE
BEGIN:VEVENT
DTSTART;TZID=Australia/Perth:20260309T170000
DTEND;TZID=Australia/Perth:20260309T190000
DTSTAMP:20260422T080857
CREATED:20260210T141133Z
LAST-MODIFIED:20260306T033613Z
UID:10073554-1773075600-1773082800@buggybuddys.com.au
SUMMARY:International Women's Day – Make It! and Massage for Grown Ups
DESCRIPTION:Celebrate International Women’s Day with mindful craft activities\, mini-massages\, wine and cheese.  \nDon’t miss out on this unique event.  \nBookings are essential and open one month prior. \nRegister
URL:https://buggybuddys.com.au/perth-event/international-womens-day-make-it-and-massage-for-grown-ups/
LOCATION:Bayswater Library\, 25 King William Street\, Bayswater\, WA\, 6053\, Australia
CATEGORIES:Community Event,Free
ATTACH;FMTTYPE=image/webp:https://buggybuddys.com.au/wp-content/uploads/2026/02/International-Womens-Day-–-Make-It-and-Massage-for-Grown-Ups.webp
GEO:-31.9199849;115.9137549
X-APPLE-STRUCTURED-LOCATION;VALUE=URI;X-ADDRESS=Bayswater Library 25 King William Street Bayswater WA 6053 Australia;X-APPLE-RADIUS=500;X-TITLE=25 King William Street:geo:115.9137549,-31.9199849
END:VEVENT
END:VCALENDAR