BEGIN:VCALENDAR
VERSION:2.0
PRODID:-//Buggybuddys guide for families in Perth - ECPv6.15.11//NONSGML v1.0//EN
CALSCALE:GREGORIAN
METHOD:PUBLISH
X-ORIGINAL-URL:https://buggybuddys.com.au
X-WR-CALDESC:Events for Buggybuddys guide for families in Perth
REFRESH-INTERVAL;VALUE=DURATION:PT1H
X-Robots-Tag:noindex
X-PUBLISHED-TTL:PT1H
BEGIN:VTIMEZONE
TZID:Australia/Perth
BEGIN:STANDARD
TZOFFSETFROM:+0800
TZOFFSETTO:+0800
TZNAME:AWST
DTSTART:20250101T000000
END:STANDARD
END:VTIMEZONE
BEGIN:VEVENT
DTSTART;TZID=Australia/Perth:20260118T110000
DTEND;TZID=Australia/Perth:20260118T170000
DTSTAMP:20260424T130059
CREATED:20260104T064314Z
LAST-MODIFIED:20260104T064314Z
UID:10071031-1768734000-1768755600@buggybuddys.com.au
SUMMARY:SailGP 2026
DESCRIPTION:The most exciting racing on water\, making its debut right here in Fremantle.\nKick starting the 2026 Rolex SailGP Championship\, Bathers Beach will host the world’s best athletes\, battling it out in identical high-tech\, foiling catamarans and racing at speeds exceeding 100kmph just metres from shore. \nTickets now on sale. Hurry\, before you miss out. \n 
URL:https://buggybuddys.com.au/perth-event/sailgp-2026/2026-01-18/
LOCATION:Bathers Beach\, 47 Mews Road\, Fremantle\, WA\, 6160\, Australia
CATEGORIES:Community Event,Sport
ATTACH;FMTTYPE=image/png:https://buggybuddys.com.au/wp-content/uploads/2026/01/SailGP-2026.png
GEO:-32.0539328;115.7604781
X-APPLE-STRUCTURED-LOCATION;VALUE=URI;X-ADDRESS=Bathers Beach 47 Mews Road Fremantle WA 6160 Australia;X-APPLE-RADIUS=500;X-TITLE=47 Mews Road:geo:115.7604781,-32.0539328
END:VEVENT
BEGIN:VEVENT
DTSTART;TZID=Australia/Perth:20260117T110000
DTEND;TZID=Australia/Perth:20260117T170000
DTSTAMP:20260424T130059
CREATED:20260104T064314Z
LAST-MODIFIED:20260104T064314Z
UID:10071030-1768647600-1768669200@buggybuddys.com.au
SUMMARY:SailGP 2026
DESCRIPTION:The most exciting racing on water\, making its debut right here in Fremantle.\nKick starting the 2026 Rolex SailGP Championship\, Bathers Beach will host the world’s best athletes\, battling it out in identical high-tech\, foiling catamarans and racing at speeds exceeding 100kmph just metres from shore. \nTickets now on sale. Hurry\, before you miss out. \n 
URL:https://buggybuddys.com.au/perth-event/sailgp-2026/2026-01-17/
LOCATION:Bathers Beach\, 47 Mews Road\, Fremantle\, WA\, 6160\, Australia
CATEGORIES:Community Event,Sport
ATTACH;FMTTYPE=image/png:https://buggybuddys.com.au/wp-content/uploads/2026/01/SailGP-2026.png
GEO:-32.0539328;115.7604781
X-APPLE-STRUCTURED-LOCATION;VALUE=URI;X-ADDRESS=Bathers Beach 47 Mews Road Fremantle WA 6160 Australia;X-APPLE-RADIUS=500;X-TITLE=47 Mews Road:geo:115.7604781,-32.0539328
END:VEVENT
END:VCALENDAR