BEGIN:VCALENDAR
VERSION:2.0
PRODID:-//Buggybuddys guide for families in Perth - ECPv6.15.11//NONSGML v1.0//EN
CALSCALE:GREGORIAN
METHOD:PUBLISH
X-ORIGINAL-URL:https://buggybuddys.com.au
X-WR-CALDESC:Events for Buggybuddys guide for families in Perth
REFRESH-INTERVAL;VALUE=DURATION:PT1H
X-Robots-Tag:noindex
X-PUBLISHED-TTL:PT1H
BEGIN:VTIMEZONE
TZID:Australia/Perth
BEGIN:STANDARD
TZOFFSETFROM:+0800
TZOFFSETTO:+0800
TZNAME:AWST
DTSTART:20250101T000000
END:STANDARD
END:VTIMEZONE
BEGIN:VEVENT
DTSTART;TZID=Australia/Perth:20260429T090000
DTEND;TZID=Australia/Perth:20260429T120000
DTSTAMP:20260422T090033
CREATED:20260415T082618Z
LAST-MODIFIED:20260415T082618Z
UID:10077017-1777453200-1777464000@buggybuddys.com.au
SUMMARY:Nom! Children 5 Week Program
DESCRIPTION:Nom! Children is a FREE community healthy eating and cooking program designed to provide parents and carers with the tools to create a positive eating experience for the whole family. Run over five weeks each Wednesday\, starting 29th April\, each 2.5-hour session includes one hour of learning through fun\, interactive activities and discussion\, one hour of hands-on cooking using quick\, tasty and low-cost recipes\, and at the end a shared meal together with your children. \nThis program is suitable for parents and carers with children aged 0-5 years. Creche is available for your children during the session. \nPlaces are limited and bookings are essential. To book your spot please contact 0467 208 693 or by email at jmoss@armadale.wa.gov.au 
URL:https://buggybuddys.com.au/perth-event/nom-children-5-week-program/
LOCATION:Armadale Fitness and Aquatic Centre\, 76 Champion Drive\, Seville Grove\, WA\, 6112\, Australia
CATEGORIES:Free,Health,Parenting Workshop
ATTACH;FMTTYPE=image/jpeg:https://buggybuddys.com.au/wp-content/uploads/2026/04/Nom-Children-5-Week-Program.jpg
END:VEVENT
END:VCALENDAR