BEGIN:VCALENDAR
VERSION:2.0
PRODID:-//Buggybuddys guide for families in Perth - ECPv6.15.11//NONSGML v1.0//EN
CALSCALE:GREGORIAN
METHOD:PUBLISH
X-ORIGINAL-URL:https://buggybuddys.com.au
X-WR-CALDESC:Events for Buggybuddys guide for families in Perth
REFRESH-INTERVAL;VALUE=DURATION:PT1H
X-Robots-Tag:noindex
X-PUBLISHED-TTL:PT1H
BEGIN:VTIMEZONE
TZID:Australia/Perth
BEGIN:STANDARD
TZOFFSETFROM:+0800
TZOFFSETTO:+0800
TZNAME:AWST
DTSTART:20240101T000000
END:STANDARD
END:VTIMEZONE
BEGIN:VEVENT
DTSTART;TZID=Australia/Perth:20251218T140000
DTEND;TZID=Australia/Perth:20251218T160000
DTSTAMP:20260424T042616
CREATED:20251115T121401Z
LAST-MODIFIED:20251115T121401Z
UID:10068182-1766066400-1766073600@buggybuddys.com.au
SUMMARY:Cricut Christmas Gift Tags Workshop
DESCRIPTION:Celebrate the festive season in our series of free\, hands-on Christmas workshops for adults this December! \nJoin us for a 2-hour Cricut Christmas Gift Tags workshop with local Cricut expert\, Michele from ShellCraft! Attendees will learn how to use Cricut machines to create a layered shaker bauble (which can also be used as a tag) and a peek-a-boo tag that uses glitter heat transfer scraps. \nAll materials and equipment will be provided\, allowing each participant to make two peek-a-boo tags and one layered shaker bauble each that they can take home and add to their Christmas decorations collection. \nAdults only. \nBookings are essential\, and open to the public from the 4th of December\, 2025. Spaces are limited to 12 people\, so click here to book your spot!
URL:https://buggybuddys.com.au/perth-event/cricut-christmas-gift-tags-workshop/
LOCATION:Amherst Village Library\, 2 Holmes Street\, BLUE ROOM\, Southern River\, WA\, 6110\, Australia
CATEGORIES:Business and Workshops,Christmas
ATTACH;FMTTYPE=image/jpeg:https://buggybuddys.com.au/wp-content/uploads/2025/11/Cricut-Christmas-Gift-Tags-Workshop.jpeg
GEO:-32.0896448;115.9439357
X-APPLE-STRUCTURED-LOCATION;VALUE=URI;X-ADDRESS=Amherst Village Library 2 Holmes Street BLUE ROOM Southern River WA 6110 Australia;X-APPLE-RADIUS=500;X-TITLE=2 Holmes Street\, BLUE ROOM:geo:115.9439357,-32.0896448
END:VEVENT
END:VCALENDAR