BEGIN:VCALENDAR
VERSION:2.0
PRODID:-//Buggybuddys guide for families in Perth - ECPv6.15.11//NONSGML v1.0//EN
CALSCALE:GREGORIAN
METHOD:PUBLISH
X-WR-CALNAME:Buggybuddys guide for families in Perth
X-ORIGINAL-URL:https://buggybuddys.com.au
X-WR-CALDESC:Events for Buggybuddys guide for families in Perth
REFRESH-INTERVAL;VALUE=DURATION:PT1H
X-Robots-Tag:noindex
X-PUBLISHED-TTL:PT1H
BEGIN:VTIMEZONE
TZID:Australia/Perth
BEGIN:STANDARD
TZOFFSETFROM:+0800
TZOFFSETTO:+0800
TZNAME:AWST
DTSTART:20250101T000000
END:STANDARD
END:VTIMEZONE
BEGIN:VEVENT
DTSTART;TZID=Australia/Perth:20260430T163000
DTEND;TZID=Australia/Perth:20260430T183000
DTSTAMP:20260425T214531
CREATED:20250620T083000Z
LAST-MODIFIED:20250620T083000Z
UID:10064353-1777566600-1777573800@buggybuddys.com.au
SUMMARY:Games Night | for ages 14 to 25
DESCRIPTION:Bring your games (TCG\, handheld console\, board games – anything!) and your friends to our relaxed game night for young people. \nWe’re running a games night! Bring your games (TCG\, handheld console\, board games – anything!) and your friends to our relaxed game night. We’ll also bring some games\, snacks and our Nintendo Switch. \nThe intention for this event is to have a low-key chill space for folks to connect and hang out with likeminded people. \nThe details: \nWHO: You and a friend or three. \nWHAT: A chill games night for young people (of all kinds). Bring whatever games you would like to (if bringing video games\, please just bring handheld consoles). \nWHEN: Thursday\, 22 May & 5 June @ 4.45 pm to 6.45 pm (but stay tuned for more!) \nWHERE: AH Bracks Library and Creative Space\, 431 Canning Hwy (cnr of Stock Road)\, Melville. There is ample parking on site and it sits right next to the 910 Bus Route.  \nQuestions? Get in touch via @melvilleyouthcollective dms or email com.youth@melville.wa.gov.au
URL:https://buggybuddys.com.au/perth-event/games-night-for-ages-14-to-25-4/2026-04-30/
LOCATION:AH Bracks Library + Creative Space\, 431 Canning Highway (cnr of Stock Road)\, Melville\, WA\, 6156\, Australia
CATEGORIES:Free,Library Events,Teens
ATTACH;FMTTYPE=image/jpeg:https://buggybuddys.com.au/wp-content/uploads/2025/06/Games-Night-for-ages-14-to-25-scaled.jpg
GEO:-32.0342729;115.793618
X-APPLE-STRUCTURED-LOCATION;VALUE=URI;X-ADDRESS=AH Bracks Library + Creative Space 431 Canning Highway (cnr of Stock Road) Melville WA 6156 Australia;X-APPLE-RADIUS=500;X-TITLE=431 Canning Highway (cnr of Stock Road):geo:115.793618,-32.0342729
END:VEVENT
BEGIN:VEVENT
DTSTART;TZID=Australia/Perth:20260507T163000
DTEND;TZID=Australia/Perth:20260507T183000
DTSTAMP:20260425T214531
CREATED:20250620T083000Z
LAST-MODIFIED:20250620T083000Z
UID:10064354-1778171400-1778178600@buggybuddys.com.au
SUMMARY:Games Night | for ages 14 to 25
DESCRIPTION:Bring your games (TCG\, handheld console\, board games – anything!) and your friends to our relaxed game night for young people. \nWe’re running a games night! Bring your games (TCG\, handheld console\, board games – anything!) and your friends to our relaxed game night. We’ll also bring some games\, snacks and our Nintendo Switch. \nThe intention for this event is to have a low-key chill space for folks to connect and hang out with likeminded people. \nThe details: \nWHO: You and a friend or three. \nWHAT: A chill games night for young people (of all kinds). Bring whatever games you would like to (if bringing video games\, please just bring handheld consoles). \nWHEN: Thursday\, 22 May & 5 June @ 4.45 pm to 6.45 pm (but stay tuned for more!) \nWHERE: AH Bracks Library and Creative Space\, 431 Canning Hwy (cnr of Stock Road)\, Melville. There is ample parking on site and it sits right next to the 910 Bus Route.  \nQuestions? Get in touch via @melvilleyouthcollective dms or email com.youth@melville.wa.gov.au
URL:https://buggybuddys.com.au/perth-event/games-night-for-ages-14-to-25-4/2026-05-07/
LOCATION:AH Bracks Library + Creative Space\, 431 Canning Highway (cnr of Stock Road)\, Melville\, WA\, 6156\, Australia
CATEGORIES:Free,Library Events,Teens
ATTACH;FMTTYPE=image/jpeg:https://buggybuddys.com.au/wp-content/uploads/2025/06/Games-Night-for-ages-14-to-25-scaled.jpg
GEO:-32.0342729;115.793618
X-APPLE-STRUCTURED-LOCATION;VALUE=URI;X-ADDRESS=AH Bracks Library + Creative Space 431 Canning Highway (cnr of Stock Road) Melville WA 6156 Australia;X-APPLE-RADIUS=500;X-TITLE=431 Canning Highway (cnr of Stock Road):geo:115.793618,-32.0342729
END:VEVENT
BEGIN:VEVENT
DTSTART;TZID=Australia/Perth:20260514T163000
DTEND;TZID=Australia/Perth:20260514T183000
DTSTAMP:20260425T214531
CREATED:20250620T083000Z
LAST-MODIFIED:20250620T083000Z
UID:10064355-1778776200-1778783400@buggybuddys.com.au
SUMMARY:Games Night | for ages 14 to 25
DESCRIPTION:Bring your games (TCG\, handheld console\, board games – anything!) and your friends to our relaxed game night for young people. \nWe’re running a games night! Bring your games (TCG\, handheld console\, board games – anything!) and your friends to our relaxed game night. We’ll also bring some games\, snacks and our Nintendo Switch. \nThe intention for this event is to have a low-key chill space for folks to connect and hang out with likeminded people. \nThe details: \nWHO: You and a friend or three. \nWHAT: A chill games night for young people (of all kinds). Bring whatever games you would like to (if bringing video games\, please just bring handheld consoles). \nWHEN: Thursday\, 22 May & 5 June @ 4.45 pm to 6.45 pm (but stay tuned for more!) \nWHERE: AH Bracks Library and Creative Space\, 431 Canning Hwy (cnr of Stock Road)\, Melville. There is ample parking on site and it sits right next to the 910 Bus Route.  \nQuestions? Get in touch via @melvilleyouthcollective dms or email com.youth@melville.wa.gov.au
URL:https://buggybuddys.com.au/perth-event/games-night-for-ages-14-to-25-4/2026-05-14/
LOCATION:AH Bracks Library + Creative Space\, 431 Canning Highway (cnr of Stock Road)\, Melville\, WA\, 6156\, Australia
CATEGORIES:Free,Library Events,Teens
ATTACH;FMTTYPE=image/jpeg:https://buggybuddys.com.au/wp-content/uploads/2025/06/Games-Night-for-ages-14-to-25-scaled.jpg
GEO:-32.0342729;115.793618
X-APPLE-STRUCTURED-LOCATION;VALUE=URI;X-ADDRESS=AH Bracks Library + Creative Space 431 Canning Highway (cnr of Stock Road) Melville WA 6156 Australia;X-APPLE-RADIUS=500;X-TITLE=431 Canning Highway (cnr of Stock Road):geo:115.793618,-32.0342729
END:VEVENT
BEGIN:VEVENT
DTSTART;TZID=Australia/Perth:20260521T163000
DTEND;TZID=Australia/Perth:20260521T183000
DTSTAMP:20260425T214531
CREATED:20250620T083000Z
LAST-MODIFIED:20250620T083000Z
UID:10064356-1779381000-1779388200@buggybuddys.com.au
SUMMARY:Games Night | for ages 14 to 25
DESCRIPTION:Bring your games (TCG\, handheld console\, board games – anything!) and your friends to our relaxed game night for young people. \nWe’re running a games night! Bring your games (TCG\, handheld console\, board games – anything!) and your friends to our relaxed game night. We’ll also bring some games\, snacks and our Nintendo Switch. \nThe intention for this event is to have a low-key chill space for folks to connect and hang out with likeminded people. \nThe details: \nWHO: You and a friend or three. \nWHAT: A chill games night for young people (of all kinds). Bring whatever games you would like to (if bringing video games\, please just bring handheld consoles). \nWHEN: Thursday\, 22 May & 5 June @ 4.45 pm to 6.45 pm (but stay tuned for more!) \nWHERE: AH Bracks Library and Creative Space\, 431 Canning Hwy (cnr of Stock Road)\, Melville. There is ample parking on site and it sits right next to the 910 Bus Route.  \nQuestions? Get in touch via @melvilleyouthcollective dms or email com.youth@melville.wa.gov.au
URL:https://buggybuddys.com.au/perth-event/games-night-for-ages-14-to-25-4/2026-05-21/
LOCATION:AH Bracks Library + Creative Space\, 431 Canning Highway (cnr of Stock Road)\, Melville\, WA\, 6156\, Australia
CATEGORIES:Free,Library Events,Teens
ATTACH;FMTTYPE=image/jpeg:https://buggybuddys.com.au/wp-content/uploads/2025/06/Games-Night-for-ages-14-to-25-scaled.jpg
GEO:-32.0342729;115.793618
X-APPLE-STRUCTURED-LOCATION;VALUE=URI;X-ADDRESS=AH Bracks Library + Creative Space 431 Canning Highway (cnr of Stock Road) Melville WA 6156 Australia;X-APPLE-RADIUS=500;X-TITLE=431 Canning Highway (cnr of Stock Road):geo:115.793618,-32.0342729
END:VEVENT
BEGIN:VEVENT
DTSTART;TZID=Australia/Perth:20260528T163000
DTEND;TZID=Australia/Perth:20260528T183000
DTSTAMP:20260425T214531
CREATED:20250620T083000Z
LAST-MODIFIED:20250620T083000Z
UID:10064357-1779985800-1779993000@buggybuddys.com.au
SUMMARY:Games Night | for ages 14 to 25
DESCRIPTION:Bring your games (TCG\, handheld console\, board games – anything!) and your friends to our relaxed game night for young people. \nWe’re running a games night! Bring your games (TCG\, handheld console\, board games – anything!) and your friends to our relaxed game night. We’ll also bring some games\, snacks and our Nintendo Switch. \nThe intention for this event is to have a low-key chill space for folks to connect and hang out with likeminded people. \nThe details: \nWHO: You and a friend or three. \nWHAT: A chill games night for young people (of all kinds). Bring whatever games you would like to (if bringing video games\, please just bring handheld consoles). \nWHEN: Thursday\, 22 May & 5 June @ 4.45 pm to 6.45 pm (but stay tuned for more!) \nWHERE: AH Bracks Library and Creative Space\, 431 Canning Hwy (cnr of Stock Road)\, Melville. There is ample parking on site and it sits right next to the 910 Bus Route.  \nQuestions? Get in touch via @melvilleyouthcollective dms or email com.youth@melville.wa.gov.au
URL:https://buggybuddys.com.au/perth-event/games-night-for-ages-14-to-25-4/2026-05-28/
LOCATION:AH Bracks Library + Creative Space\, 431 Canning Highway (cnr of Stock Road)\, Melville\, WA\, 6156\, Australia
CATEGORIES:Free,Library Events,Teens
ATTACH;FMTTYPE=image/jpeg:https://buggybuddys.com.au/wp-content/uploads/2025/06/Games-Night-for-ages-14-to-25-scaled.jpg
GEO:-32.0342729;115.793618
X-APPLE-STRUCTURED-LOCATION;VALUE=URI;X-ADDRESS=AH Bracks Library + Creative Space 431 Canning Highway (cnr of Stock Road) Melville WA 6156 Australia;X-APPLE-RADIUS=500;X-TITLE=431 Canning Highway (cnr of Stock Road):geo:115.793618,-32.0342729
END:VEVENT
BEGIN:VEVENT
DTSTART;TZID=Australia/Perth:20260604T163000
DTEND;TZID=Australia/Perth:20260604T183000
DTSTAMP:20260425T214531
CREATED:20250620T083000Z
LAST-MODIFIED:20250620T083000Z
UID:10064358-1780590600-1780597800@buggybuddys.com.au
SUMMARY:Games Night | for ages 14 to 25
DESCRIPTION:Bring your games (TCG\, handheld console\, board games – anything!) and your friends to our relaxed game night for young people. \nWe’re running a games night! Bring your games (TCG\, handheld console\, board games – anything!) and your friends to our relaxed game night. We’ll also bring some games\, snacks and our Nintendo Switch. \nThe intention for this event is to have a low-key chill space for folks to connect and hang out with likeminded people. \nThe details: \nWHO: You and a friend or three. \nWHAT: A chill games night for young people (of all kinds). Bring whatever games you would like to (if bringing video games\, please just bring handheld consoles). \nWHEN: Thursday\, 22 May & 5 June @ 4.45 pm to 6.45 pm (but stay tuned for more!) \nWHERE: AH Bracks Library and Creative Space\, 431 Canning Hwy (cnr of Stock Road)\, Melville. There is ample parking on site and it sits right next to the 910 Bus Route.  \nQuestions? Get in touch via @melvilleyouthcollective dms or email com.youth@melville.wa.gov.au
URL:https://buggybuddys.com.au/perth-event/games-night-for-ages-14-to-25-4/2026-06-04/
LOCATION:AH Bracks Library + Creative Space\, 431 Canning Highway (cnr of Stock Road)\, Melville\, WA\, 6156\, Australia
CATEGORIES:Free,Library Events,Teens
ATTACH;FMTTYPE=image/jpeg:https://buggybuddys.com.au/wp-content/uploads/2025/06/Games-Night-for-ages-14-to-25-scaled.jpg
GEO:-32.0342729;115.793618
X-APPLE-STRUCTURED-LOCATION;VALUE=URI;X-ADDRESS=AH Bracks Library + Creative Space 431 Canning Highway (cnr of Stock Road) Melville WA 6156 Australia;X-APPLE-RADIUS=500;X-TITLE=431 Canning Highway (cnr of Stock Road):geo:115.793618,-32.0342729
END:VEVENT
BEGIN:VEVENT
DTSTART;TZID=Australia/Perth:20260611T163000
DTEND;TZID=Australia/Perth:20260611T183000
DTSTAMP:20260425T214531
CREATED:20250620T083000Z
LAST-MODIFIED:20250620T083000Z
UID:10064359-1781195400-1781202600@buggybuddys.com.au
SUMMARY:Games Night | for ages 14 to 25
DESCRIPTION:Bring your games (TCG\, handheld console\, board games – anything!) and your friends to our relaxed game night for young people. \nWe’re running a games night! Bring your games (TCG\, handheld console\, board games – anything!) and your friends to our relaxed game night. We’ll also bring some games\, snacks and our Nintendo Switch. \nThe intention for this event is to have a low-key chill space for folks to connect and hang out with likeminded people. \nThe details: \nWHO: You and a friend or three. \nWHAT: A chill games night for young people (of all kinds). Bring whatever games you would like to (if bringing video games\, please just bring handheld consoles). \nWHEN: Thursday\, 22 May & 5 June @ 4.45 pm to 6.45 pm (but stay tuned for more!) \nWHERE: AH Bracks Library and Creative Space\, 431 Canning Hwy (cnr of Stock Road)\, Melville. There is ample parking on site and it sits right next to the 910 Bus Route.  \nQuestions? Get in touch via @melvilleyouthcollective dms or email com.youth@melville.wa.gov.au
URL:https://buggybuddys.com.au/perth-event/games-night-for-ages-14-to-25-4/2026-06-11/
LOCATION:AH Bracks Library + Creative Space\, 431 Canning Highway (cnr of Stock Road)\, Melville\, WA\, 6156\, Australia
CATEGORIES:Free,Library Events,Teens
ATTACH;FMTTYPE=image/jpeg:https://buggybuddys.com.au/wp-content/uploads/2025/06/Games-Night-for-ages-14-to-25-scaled.jpg
GEO:-32.0342729;115.793618
X-APPLE-STRUCTURED-LOCATION;VALUE=URI;X-ADDRESS=AH Bracks Library + Creative Space 431 Canning Highway (cnr of Stock Road) Melville WA 6156 Australia;X-APPLE-RADIUS=500;X-TITLE=431 Canning Highway (cnr of Stock Road):geo:115.793618,-32.0342729
END:VEVENT
BEGIN:VEVENT
DTSTART;TZID=Australia/Perth:20260618T163000
DTEND;TZID=Australia/Perth:20260618T183000
DTSTAMP:20260425T214531
CREATED:20250620T083000Z
LAST-MODIFIED:20250620T083000Z
UID:10064360-1781800200-1781807400@buggybuddys.com.au
SUMMARY:Games Night | for ages 14 to 25
DESCRIPTION:Bring your games (TCG\, handheld console\, board games – anything!) and your friends to our relaxed game night for young people. \nWe’re running a games night! Bring your games (TCG\, handheld console\, board games – anything!) and your friends to our relaxed game night. We’ll also bring some games\, snacks and our Nintendo Switch. \nThe intention for this event is to have a low-key chill space for folks to connect and hang out with likeminded people. \nThe details: \nWHO: You and a friend or three. \nWHAT: A chill games night for young people (of all kinds). Bring whatever games you would like to (if bringing video games\, please just bring handheld consoles). \nWHEN: Thursday\, 22 May & 5 June @ 4.45 pm to 6.45 pm (but stay tuned for more!) \nWHERE: AH Bracks Library and Creative Space\, 431 Canning Hwy (cnr of Stock Road)\, Melville. There is ample parking on site and it sits right next to the 910 Bus Route.  \nQuestions? Get in touch via @melvilleyouthcollective dms or email com.youth@melville.wa.gov.au
URL:https://buggybuddys.com.au/perth-event/games-night-for-ages-14-to-25-4/2026-06-18/
LOCATION:AH Bracks Library + Creative Space\, 431 Canning Highway (cnr of Stock Road)\, Melville\, WA\, 6156\, Australia
CATEGORIES:Free,Library Events,Teens
ATTACH;FMTTYPE=image/jpeg:https://buggybuddys.com.au/wp-content/uploads/2025/06/Games-Night-for-ages-14-to-25-scaled.jpg
GEO:-32.0342729;115.793618
X-APPLE-STRUCTURED-LOCATION;VALUE=URI;X-ADDRESS=AH Bracks Library + Creative Space 431 Canning Highway (cnr of Stock Road) Melville WA 6156 Australia;X-APPLE-RADIUS=500;X-TITLE=431 Canning Highway (cnr of Stock Road):geo:115.793618,-32.0342729
END:VEVENT
BEGIN:VEVENT
DTSTART;TZID=Australia/Perth:20260625T163000
DTEND;TZID=Australia/Perth:20260625T183000
DTSTAMP:20260425T214531
CREATED:20250620T083000Z
LAST-MODIFIED:20250620T083000Z
UID:10064361-1782405000-1782412200@buggybuddys.com.au
SUMMARY:Games Night | for ages 14 to 25
DESCRIPTION:Bring your games (TCG\, handheld console\, board games – anything!) and your friends to our relaxed game night for young people. \nWe’re running a games night! Bring your games (TCG\, handheld console\, board games – anything!) and your friends to our relaxed game night. We’ll also bring some games\, snacks and our Nintendo Switch. \nThe intention for this event is to have a low-key chill space for folks to connect and hang out with likeminded people. \nThe details: \nWHO: You and a friend or three. \nWHAT: A chill games night for young people (of all kinds). Bring whatever games you would like to (if bringing video games\, please just bring handheld consoles). \nWHEN: Thursday\, 22 May & 5 June @ 4.45 pm to 6.45 pm (but stay tuned for more!) \nWHERE: AH Bracks Library and Creative Space\, 431 Canning Hwy (cnr of Stock Road)\, Melville. There is ample parking on site and it sits right next to the 910 Bus Route.  \nQuestions? Get in touch via @melvilleyouthcollective dms or email com.youth@melville.wa.gov.au
URL:https://buggybuddys.com.au/perth-event/games-night-for-ages-14-to-25-4/2026-06-25/
LOCATION:AH Bracks Library + Creative Space\, 431 Canning Highway (cnr of Stock Road)\, Melville\, WA\, 6156\, Australia
CATEGORIES:Free,Library Events,Teens
ATTACH;FMTTYPE=image/jpeg:https://buggybuddys.com.au/wp-content/uploads/2025/06/Games-Night-for-ages-14-to-25-scaled.jpg
GEO:-32.0342729;115.793618
X-APPLE-STRUCTURED-LOCATION;VALUE=URI;X-ADDRESS=AH Bracks Library + Creative Space 431 Canning Highway (cnr of Stock Road) Melville WA 6156 Australia;X-APPLE-RADIUS=500;X-TITLE=431 Canning Highway (cnr of Stock Road):geo:115.793618,-32.0342729
END:VEVENT
BEGIN:VEVENT
DTSTART;TZID=Australia/Perth:20260702T163000
DTEND;TZID=Australia/Perth:20260702T183000
DTSTAMP:20260425T214531
CREATED:20250620T083000Z
LAST-MODIFIED:20250620T083000Z
UID:10064362-1783009800-1783017000@buggybuddys.com.au
SUMMARY:Games Night | for ages 14 to 25
DESCRIPTION:Bring your games (TCG\, handheld console\, board games – anything!) and your friends to our relaxed game night for young people. \nWe’re running a games night! Bring your games (TCG\, handheld console\, board games – anything!) and your friends to our relaxed game night. We’ll also bring some games\, snacks and our Nintendo Switch. \nThe intention for this event is to have a low-key chill space for folks to connect and hang out with likeminded people. \nThe details: \nWHO: You and a friend or three. \nWHAT: A chill games night for young people (of all kinds). Bring whatever games you would like to (if bringing video games\, please just bring handheld consoles). \nWHEN: Thursday\, 22 May & 5 June @ 4.45 pm to 6.45 pm (but stay tuned for more!) \nWHERE: AH Bracks Library and Creative Space\, 431 Canning Hwy (cnr of Stock Road)\, Melville. There is ample parking on site and it sits right next to the 910 Bus Route.  \nQuestions? Get in touch via @melvilleyouthcollective dms or email com.youth@melville.wa.gov.au
URL:https://buggybuddys.com.au/perth-event/games-night-for-ages-14-to-25-4/2026-07-02/
LOCATION:AH Bracks Library + Creative Space\, 431 Canning Highway (cnr of Stock Road)\, Melville\, WA\, 6156\, Australia
CATEGORIES:Free,Library Events,Teens
ATTACH;FMTTYPE=image/jpeg:https://buggybuddys.com.au/wp-content/uploads/2025/06/Games-Night-for-ages-14-to-25-scaled.jpg
GEO:-32.0342729;115.793618
X-APPLE-STRUCTURED-LOCATION;VALUE=URI;X-ADDRESS=AH Bracks Library + Creative Space 431 Canning Highway (cnr of Stock Road) Melville WA 6156 Australia;X-APPLE-RADIUS=500;X-TITLE=431 Canning Highway (cnr of Stock Road):geo:115.793618,-32.0342729
END:VEVENT
BEGIN:VEVENT
DTSTART;TZID=Australia/Perth:20260709T163000
DTEND;TZID=Australia/Perth:20260709T183000
DTSTAMP:20260425T214531
CREATED:20250620T083000Z
LAST-MODIFIED:20250620T083000Z
UID:10064363-1783614600-1783621800@buggybuddys.com.au
SUMMARY:Games Night | for ages 14 to 25
DESCRIPTION:Bring your games (TCG\, handheld console\, board games – anything!) and your friends to our relaxed game night for young people. \nWe’re running a games night! Bring your games (TCG\, handheld console\, board games – anything!) and your friends to our relaxed game night. We’ll also bring some games\, snacks and our Nintendo Switch. \nThe intention for this event is to have a low-key chill space for folks to connect and hang out with likeminded people. \nThe details: \nWHO: You and a friend or three. \nWHAT: A chill games night for young people (of all kinds). Bring whatever games you would like to (if bringing video games\, please just bring handheld consoles). \nWHEN: Thursday\, 22 May & 5 June @ 4.45 pm to 6.45 pm (but stay tuned for more!) \nWHERE: AH Bracks Library and Creative Space\, 431 Canning Hwy (cnr of Stock Road)\, Melville. There is ample parking on site and it sits right next to the 910 Bus Route.  \nQuestions? Get in touch via @melvilleyouthcollective dms or email com.youth@melville.wa.gov.au
URL:https://buggybuddys.com.au/perth-event/games-night-for-ages-14-to-25-4/2026-07-09/
LOCATION:AH Bracks Library + Creative Space\, 431 Canning Highway (cnr of Stock Road)\, Melville\, WA\, 6156\, Australia
CATEGORIES:Free,Library Events,Teens
ATTACH;FMTTYPE=image/jpeg:https://buggybuddys.com.au/wp-content/uploads/2025/06/Games-Night-for-ages-14-to-25-scaled.jpg
GEO:-32.0342729;115.793618
X-APPLE-STRUCTURED-LOCATION;VALUE=URI;X-ADDRESS=AH Bracks Library + Creative Space 431 Canning Highway (cnr of Stock Road) Melville WA 6156 Australia;X-APPLE-RADIUS=500;X-TITLE=431 Canning Highway (cnr of Stock Road):geo:115.793618,-32.0342729
END:VEVENT
BEGIN:VEVENT
DTSTART;TZID=Australia/Perth:20260716T163000
DTEND;TZID=Australia/Perth:20260716T183000
DTSTAMP:20260425T214531
CREATED:20250620T083000Z
LAST-MODIFIED:20250620T083000Z
UID:10064364-1784219400-1784226600@buggybuddys.com.au
SUMMARY:Games Night | for ages 14 to 25
DESCRIPTION:Bring your games (TCG\, handheld console\, board games – anything!) and your friends to our relaxed game night for young people. \nWe’re running a games night! Bring your games (TCG\, handheld console\, board games – anything!) and your friends to our relaxed game night. We’ll also bring some games\, snacks and our Nintendo Switch. \nThe intention for this event is to have a low-key chill space for folks to connect and hang out with likeminded people. \nThe details: \nWHO: You and a friend or three. \nWHAT: A chill games night for young people (of all kinds). Bring whatever games you would like to (if bringing video games\, please just bring handheld consoles). \nWHEN: Thursday\, 22 May & 5 June @ 4.45 pm to 6.45 pm (but stay tuned for more!) \nWHERE: AH Bracks Library and Creative Space\, 431 Canning Hwy (cnr of Stock Road)\, Melville. There is ample parking on site and it sits right next to the 910 Bus Route.  \nQuestions? Get in touch via @melvilleyouthcollective dms or email com.youth@melville.wa.gov.au
URL:https://buggybuddys.com.au/perth-event/games-night-for-ages-14-to-25-4/2026-07-16/
LOCATION:AH Bracks Library + Creative Space\, 431 Canning Highway (cnr of Stock Road)\, Melville\, WA\, 6156\, Australia
CATEGORIES:Free,Library Events,Teens
ATTACH;FMTTYPE=image/jpeg:https://buggybuddys.com.au/wp-content/uploads/2025/06/Games-Night-for-ages-14-to-25-scaled.jpg
GEO:-32.0342729;115.793618
X-APPLE-STRUCTURED-LOCATION;VALUE=URI;X-ADDRESS=AH Bracks Library + Creative Space 431 Canning Highway (cnr of Stock Road) Melville WA 6156 Australia;X-APPLE-RADIUS=500;X-TITLE=431 Canning Highway (cnr of Stock Road):geo:115.793618,-32.0342729
END:VEVENT
END:VCALENDAR