BEGIN:VCALENDAR
VERSION:2.0
PRODID:-//Buggybuddys guide for families in Perth - ECPv6.15.11//NONSGML v1.0//EN
CALSCALE:GREGORIAN
METHOD:PUBLISH
X-WR-CALNAME:Buggybuddys guide for families in Perth
X-ORIGINAL-URL:https://buggybuddys.com.au
X-WR-CALDESC:Events for Buggybuddys guide for families in Perth
REFRESH-INTERVAL;VALUE=DURATION:PT1H
X-Robots-Tag:noindex
X-PUBLISHED-TTL:PT1H
BEGIN:VTIMEZONE
TZID:Australia/Perth
BEGIN:STANDARD
TZOFFSETFROM:+0800
TZOFFSETTO:+0800
TZNAME:AWST
DTSTART:20250101T000000
END:STANDARD
END:VTIMEZONE
BEGIN:VEVENT
DTSTART;TZID=Australia/Perth:20260401T153000
DTEND;TZID=Australia/Perth:20260401T173000
DTSTAMP:20260425T040033
CREATED:20260322T180355Z
LAST-MODIFIED:20260322T180355Z
UID:10075984-1775057400-1775064600@buggybuddys.com.au
SUMMARY:Gwynne Park Skatepark - Scooter\, Skateboard\, BMX\, Rollerskate Coaching
DESCRIPTION:Thanks to the City of Armadale. Freestyle Now will be conducting FREE skatepark coaching sessions at the Gwynne Skatepark.\n\n\nThanks to the City of Armadale. \nFreestyle now will be facilitating an informal\, fun and informative coaching session at Gwynne Skatepark for Rollerskate\, Scooter\, BMX and Skateboard participants. Our facilitators analyze the participants’ skill level and work from that base and assist with confidence building. It is important to not only just focus on skill building but confidence as well. By using their own skill base as a stepping stone we are able to help them advance. Our coaches speak the participant’s language and speak on their level. Our instructors relay the importance of safety\, the importance of helmets and how they can minimize injuries. Freestyle Now team members will be present to offer participants technical advice\, trick tips\, skill development and skatepark etiquette. \nParticipants are split up into groups based on their skill level and what they are interested in achieving. \nAll participants would need their own equipment\, helmet and closed in shoes. Participants with defective equipment may not be able to participate. Our coaches may be able to assist with some minor adjustments (Scooter/BMX Bar straightening\, skate/rollerskate truck/wheel tightening) before the session starts if required and time permitting. \nParticipants under the age of 6 will be taken on their ability to understand and follow instructions and to control their apparatus. \nKey points \n\nParticipants must be wearing a helmet\nPlease remember to bring some water and wear sunscreen\nParents must stay on site if their child is under 12\nLimited spare scooters and skateboard may be available\nPlease arrive 15 minutes early to register your attendance\nDisclaimer form will need to be signed on the day\nCoaching workshops are not suitable for 3 wheeled plastic scooters or plastic rollers skates\n\nFreestyle Now coaching workshops are fun\, informative and motivational. \nOur coaches let the participants ride at their own level and encourage progression. \nAll our coaches are very easy going and relate to the participants well. Our workshops cover all aspects of the sports\, as well as equipment maintenance and personal safety issues. \nFreestyle Now hosts many coaching workshop sessions throughout the year for various local governments\, community organizations and private companies. You can find the full list of our upcoming events here. \nwww.freestylenow.net
URL:https://buggybuddys.com.au/perth-event/gwynne-park-skatepark-scooter-skateboard-bmx-rollerskate-coaching-3/
LOCATION:4 Townley St\, 4 Townley Street\, Armadale\, WA\, 6112\, Australia
ATTACH;FMTTYPE=image/jpeg:https://buggybuddys.com.au/wp-content/uploads/2025/08/5205f3190957f0bb4666b41b87c3f823.jpg
END:VEVENT
BEGIN:VEVENT
DTSTART;TZID=Australia/Perth:20260401T153000
DTEND;TZID=Australia/Perth:20260401T173000
DTSTAMP:20260425T040033
CREATED:20260322T180354Z
LAST-MODIFIED:20260331T100334Z
UID:10075985-1775057400-1775064600@buggybuddys.com.au
SUMMARY:Gwynne Park Skatepark - Scooter\, Skateboard\, BMX\, Rollerskate Coaching
DESCRIPTION:Thanks to the City of Armadale. Freestyle Now will be conducting FREE skatepark coaching sessions at the Gwynne Skatepark.\n\n\nThanks to the City of Armadale. \nFreestyle now will be facilitating an informal\, fun and informative coaching session at Gwynne Skatepark for Rollerskate\, Scooter\, BMX and Skateboard participants. Our facilitators analyze the participants’ skill level and work from that base and assist with confidence building. It is important to not only just focus on skill building but confidence as well. By using their own skill base as a stepping stone we are able to help them advance. Our coaches speak the participant’s language and speak on their level. Our instructors relay the importance of safety\, the importance of helmets and how they can minimize injuries. Freestyle Now team members will be present to offer participants technical advice\, trick tips\, skill development and skatepark etiquette. \nParticipants are split up into groups based on their skill level and what they are interested in achieving. \nAll participants would need their own equipment\, helmet and closed in shoes. Participants with defective equipment may not be able to participate. Our coaches may be able to assist with some minor adjustments (Scooter/BMX Bar straightening\, skate/rollerskate truck/wheel tightening) before the session starts if required and time permitting. \nParticipants under the age of 6 will be taken on their ability to understand and follow instructions and to control their apparatus. \nKey points \n\nParticipants must be wearing a helmet\nPlease remember to bring some water and wear sunscreen\nParents must stay on site if their child is under 12\nLimited spare scooters and skateboard may be available\nPlease arrive 15 minutes early to register your attendance\nDisclaimer form will need to be signed on the day\nCoaching workshops are not suitable for 3 wheeled plastic scooters or plastic rollers skates\n\nFreestyle Now coaching workshops are fun\, informative and motivational. \nOur coaches let the participants ride at their own level and encourage progression. \nAll our coaches are very easy going and relate to the participants well. Our workshops cover all aspects of the sports\, as well as equipment maintenance and personal safety issues. \nFreestyle Now hosts many coaching workshop sessions throughout the year for various local governments\, community organizations and private companies. You can find the full list of our upcoming events here. \nwww.freestylenow.net
URL:https://buggybuddys.com.au/perth-event/gwynne-park-skatepark-scooter-skateboard-bmx-rollerskate-coaching-2/
LOCATION:4 Townley St\, 4 Townley Street\, Armadale\, WA\, 6112\, Australia
ATTACH;FMTTYPE=image/jpeg:https://buggybuddys.com.au/wp-content/uploads/2025/08/5205f3190957f0bb4666b41b87c3f823.jpg
END:VEVENT
END:VCALENDAR