BEGIN:VCALENDAR
VERSION:2.0
PRODID:-//Buggybuddys guide for families in Perth - ECPv6.15.11//NONSGML v1.0//EN
CALSCALE:GREGORIAN
METHOD:PUBLISH
X-WR-CALNAME:Buggybuddys guide for families in Perth
X-ORIGINAL-URL:https://buggybuddys.com.au
X-WR-CALDESC:Events for Buggybuddys guide for families in Perth
REFRESH-INTERVAL;VALUE=DURATION:PT1H
X-Robots-Tag:noindex
X-PUBLISHED-TTL:PT1H
BEGIN:VTIMEZONE
TZID:Australia/Perth
BEGIN:STANDARD
TZOFFSETFROM:+0800
TZOFFSETTO:+0800
TZNAME:AWST
DTSTART:20250101T000000
END:STANDARD
END:VTIMEZONE
BEGIN:VEVENT
DTSTART;TZID=Australia/Perth:20260325T160000
DTEND;TZID=Australia/Perth:20260325T180000
DTSTAMP:20260422T092533
CREATED:20260204T144222Z
LAST-MODIFIED:20260204T144222Z
UID:10073236-1774454400-1774461600@buggybuddys.com.au
SUMMARY:Art for the Mind | After School Progam | Midland
DESCRIPTION:A fun after-school program helping young people connect\, build skills\, grow confidence and support their wellbeing.
URL:https://buggybuddys.com.au/perth-event/art-for-the-mind-after-school-progam-midland-4/
LOCATION:1A Sayer St\, 1A Sayer Street\, Midland\, WA\, 6056\, Australia
CATEGORIES:Kids Term Activities
ATTACH;FMTTYPE=image/jpeg:https://buggybuddys.com.au/wp-content/uploads/2026/02/743f4a8caf58d82e762ff1b74555447e.jpg
END:VEVENT
BEGIN:VEVENT
DTSTART;TZID=Australia/Perth:20260311T160000
DTEND;TZID=Australia/Perth:20260311T180000
DTSTAMP:20260422T092533
CREATED:20260204T144221Z
LAST-MODIFIED:20260204T144221Z
UID:10073235-1773244800-1773252000@buggybuddys.com.au
SUMMARY:Art for the Mind | After School Progam | Midland
DESCRIPTION:A fun after-school program helping young people connect\, build skills\, grow confidence and support their wellbeing.
URL:https://buggybuddys.com.au/perth-event/art-for-the-mind-after-school-progam-midland-3/
LOCATION:1A Sayer St\, 1A Sayer Street\, Midland\, WA\, 6056\, Australia
CATEGORIES:Kids Term Activities
ATTACH;FMTTYPE=image/jpeg:https://buggybuddys.com.au/wp-content/uploads/2026/02/743f4a8caf58d82e762ff1b74555447e.jpg
END:VEVENT
BEGIN:VEVENT
DTSTART;TZID=Australia/Perth:20260225T160000
DTEND;TZID=Australia/Perth:20260225T180000
DTSTAMP:20260422T092533
CREATED:20260204T144220Z
LAST-MODIFIED:20260204T144220Z
UID:10073234-1772035200-1772042400@buggybuddys.com.au
SUMMARY:Art for the Mind | After School Progam | Midland
DESCRIPTION:A fun after-school program helping young people connect\, build skills\, grow confidence and support their wellbeing.
URL:https://buggybuddys.com.au/perth-event/art-for-the-mind-after-school-progam-midland-2/
LOCATION:1A Sayer St\, 1A Sayer Street\, Midland\, WA\, 6056\, Australia
CATEGORIES:Kids Term Activities
ATTACH;FMTTYPE=image/jpeg:https://buggybuddys.com.au/wp-content/uploads/2026/02/743f4a8caf58d82e762ff1b74555447e.jpg
END:VEVENT
BEGIN:VEVENT
DTSTART;TZID=Australia/Perth:20260211T160000
DTEND;TZID=Australia/Perth:20260211T180000
DTSTAMP:20260422T092533
CREATED:20260204T144216Z
LAST-MODIFIED:20260204T144216Z
UID:10073233-1770825600-1770832800@buggybuddys.com.au
SUMMARY:Art for the Mind | After School Progam | Midland
DESCRIPTION:A fun after-school program helping young people connect\, build skills\, grow confidence and support their wellbeing.
URL:https://buggybuddys.com.au/perth-event/art-for-the-mind-after-school-progam-midland/
LOCATION:1A Sayer St\, 1A Sayer Street\, Midland\, WA\, 6056\, Australia
CATEGORIES:Kids Term Activities
ATTACH;FMTTYPE=image/jpeg:https://buggybuddys.com.au/wp-content/uploads/2026/02/743f4a8caf58d82e762ff1b74555447e.jpg
END:VEVENT
BEGIN:VEVENT
DTSTART;TZID=Australia/Perth:20260108T090000
DTEND;TZID=Australia/Perth:20260109T160000
DTSTAMP:20260422T092533
CREATED:20251209T140019Z
LAST-MODIFIED:20251209T140019Z
UID:10068673-1767862800-1767974400@buggybuddys.com.au
SUMMARY:Inspire Hope | School Holiday Program | Midland
DESCRIPTION:Free two-day\, school holiday program for young people aged 7 to 12\, focused on building resilience to thrive in challenging relationships.\n\n\nInspire Hope is a two day School Holiday Program designed for young people aged 7-12 who are at risk of developing a mental health challenge. This program offers a safe environment for children to play and be social\, focusing on building resilience and confidence\, developing social skills\, language and communication\, healthy self-expression and caring for others. It also includes an excursion to Hoyts Midland. \nWhen \n8 Jan | 9:00am – 4:00pm \n9 Jan | 9:00am – 4:00pm (excursion to Hoyts Midland) \nWho \nYouth aged 7 to 12 who are at risk of developing a mental health challenge.  \nWhere \n1A Sayer St HelpingMinds MidlandDay 2 Excursion: Hoyts Midland \nBring \nHat\, sun cream\, water bottle\, enclosed shoes. \nRefreshments \nLunch and snacks will be provided \nCost \nFree \nPlease note that this booking is an ‘Expression of Interest’ and not confirmation of attendance. \nA member of our team will contact you to complete the HelpingMinds registration and eligibility process. Please add Parent/Guardian details in the CONTACT INFORMATION section and young person’s details in the TICKET – EXPRESSION OF INTEREST section. If booking multiple tickets\, please fill in one young person’s details per ticket. \nWant to know more or have some questions or having trouble registering?You can either: \n• email shp@helpingminds.org.au \n• call 9427 7100 and ask for SHP Administration \n……………………………………………………………………………….. \nSchool Holiday Program important info \n\nIf your child has not received support from HelpingMinds before (or within the last 6 months) a phone interview will need to take place with the parent/guardian\nA consent form will need to be signed by both parents.\nIf children require medication throughout the day\, they will be required to self-administer this.\nExternal support workers are not allowed at the workshop.\nChildren require adequate independent coping skills to be able to deal with group situations.\nAll our workshops have a maximum capacity to ensure our counsellors can provide adequate professional support for all children attending.\nTo give everyone in the community a fair chance\, each child can enrol in a maximum of two workshops.This program is funded by the Mental Health Commission to provide support to young people caring for someone or with a loved one with a mental health concern. This program is provided at no cost to participants.\n\nFor Office Use Only: MarBrief170
URL:https://buggybuddys.com.au/perth-event/inspire-hope-school-holiday-program-midland-2/
LOCATION:1A Sayer St\, 1A Sayer Street\, Midland\, WA\, 6056\, Australia
CATEGORIES:School Holiday Events
ATTACH;FMTTYPE=image/jpeg:https://buggybuddys.com.au/wp-content/uploads/2025/12/dcad78d926c7a17db28a734be20255e1.jpg
END:VEVENT
END:VCALENDAR