BEGIN:VCALENDAR
VERSION:2.0
PRODID:-//Buggybuddys guide for families in Perth - ECPv6.15.11//NONSGML v1.0//EN
CALSCALE:GREGORIAN
METHOD:PUBLISH
X-WR-CALNAME:Buggybuddys guide for families in Perth
X-ORIGINAL-URL:https://buggybuddys.com.au
X-WR-CALDESC:Events for Buggybuddys guide for families in Perth
REFRESH-INTERVAL;VALUE=DURATION:PT1H
X-Robots-Tag:noindex
X-PUBLISHED-TTL:PT1H
BEGIN:VTIMEZONE
TZID:Australia/Perth
BEGIN:STANDARD
TZOFFSETFROM:+0800
TZOFFSETTO:+0800
TZNAME:AWST
DTSTART:20250101T000000
END:STANDARD
END:VTIMEZONE
BEGIN:VEVENT
DTSTART;TZID=Australia/Perth:20260105T170000
DTEND;TZID=Australia/Perth:20260105T220000
DTSTAMP:20260420T044902
CREATED:20251105T055340Z
LAST-MODIFIED:20251105T055341Z
UID:10067386-1767632400-1767650400@buggybuddys.com.au
SUMMARY:The Magic of Christmas at Wanneroo Botanic Gardens 
DESCRIPTION:Whether you’re young or young at heart\, the magic of the holiday season awaits you at Wanneroo Botanic Gardens.\nFrom late November to early January\, our stunning 5-acre garden transforms into a shimmering wonderland\, just 5 minutes from Joondalup. Twinkling trees light up the night\, creating the perfect backdrop for family memories that will last a lifetime.\n \n Glow Golf – A Festive Twist Join in the fun with our one-of-a-kind Glow-in-the-Dark Golf course!\n \n Event Dates:From Wednesday\, November 26 to Sunday\, January 11 (excluding closure days)\n \n Important: All tickets must be purchased online in advance. This year\, we’re offering a seamless booking experience. Reserve your tickets now by clicking the link https://www.wanneroobotanicgardens.com.au/magic-of-christmas
URL:https://buggybuddys.com.au/perth-event/the-magic-of-christmas-at-wanneroo-botanic-gardens/2026-01-05/
LOCATION:Wanneroo Botanic Gardens\, 25 Drovers Place\, Carramar\, WA\, Australia
CATEGORIES:Christmas,School Holiday Events
ATTACH;FMTTYPE=image/jpeg:https://buggybuddys.com.au/wp-content/uploads/2025/11/464104140_1021929199944169_8856868616104940661_n-1536x804-1.jpg
GEO:-31.7171778;115.7786431
X-APPLE-STRUCTURED-LOCATION;VALUE=URI;X-ADDRESS=Wanneroo Botanic Gardens 25 Drovers Place Carramar WA Australia;X-APPLE-RADIUS=500;X-TITLE=25 Drovers Place:geo:115.7786431,-31.7171778
END:VEVENT
BEGIN:VEVENT
DTSTART;TZID=Australia/Perth:20260106T170000
DTEND;TZID=Australia/Perth:20260106T220000
DTSTAMP:20260420T044903
CREATED:20251105T055340Z
LAST-MODIFIED:20251105T055341Z
UID:10067387-1767718800-1767736800@buggybuddys.com.au
SUMMARY:The Magic of Christmas at Wanneroo Botanic Gardens 
DESCRIPTION:Whether you’re young or young at heart\, the magic of the holiday season awaits you at Wanneroo Botanic Gardens.\nFrom late November to early January\, our stunning 5-acre garden transforms into a shimmering wonderland\, just 5 minutes from Joondalup. Twinkling trees light up the night\, creating the perfect backdrop for family memories that will last a lifetime.\n \n Glow Golf – A Festive Twist Join in the fun with our one-of-a-kind Glow-in-the-Dark Golf course!\n \n Event Dates:From Wednesday\, November 26 to Sunday\, January 11 (excluding closure days)\n \n Important: All tickets must be purchased online in advance. This year\, we’re offering a seamless booking experience. Reserve your tickets now by clicking the link https://www.wanneroobotanicgardens.com.au/magic-of-christmas
URL:https://buggybuddys.com.au/perth-event/the-magic-of-christmas-at-wanneroo-botanic-gardens/2026-01-06/
LOCATION:Wanneroo Botanic Gardens\, 25 Drovers Place\, Carramar\, WA\, Australia
CATEGORIES:Christmas,School Holiday Events
ATTACH;FMTTYPE=image/jpeg:https://buggybuddys.com.au/wp-content/uploads/2025/11/464104140_1021929199944169_8856868616104940661_n-1536x804-1.jpg
GEO:-31.7171778;115.7786431
X-APPLE-STRUCTURED-LOCATION;VALUE=URI;X-ADDRESS=Wanneroo Botanic Gardens 25 Drovers Place Carramar WA Australia;X-APPLE-RADIUS=500;X-TITLE=25 Drovers Place:geo:115.7786431,-31.7171778
END:VEVENT
BEGIN:VEVENT
DTSTART;TZID=Australia/Perth:20260107T170000
DTEND;TZID=Australia/Perth:20260107T220000
DTSTAMP:20260420T044903
CREATED:20251105T055340Z
LAST-MODIFIED:20251105T055341Z
UID:10067388-1767805200-1767823200@buggybuddys.com.au
SUMMARY:The Magic of Christmas at Wanneroo Botanic Gardens 
DESCRIPTION:Whether you’re young or young at heart\, the magic of the holiday season awaits you at Wanneroo Botanic Gardens.\nFrom late November to early January\, our stunning 5-acre garden transforms into a shimmering wonderland\, just 5 minutes from Joondalup. Twinkling trees light up the night\, creating the perfect backdrop for family memories that will last a lifetime.\n \n Glow Golf – A Festive Twist Join in the fun with our one-of-a-kind Glow-in-the-Dark Golf course!\n \n Event Dates:From Wednesday\, November 26 to Sunday\, January 11 (excluding closure days)\n \n Important: All tickets must be purchased online in advance. This year\, we’re offering a seamless booking experience. Reserve your tickets now by clicking the link https://www.wanneroobotanicgardens.com.au/magic-of-christmas
URL:https://buggybuddys.com.au/perth-event/the-magic-of-christmas-at-wanneroo-botanic-gardens/2026-01-07/
LOCATION:Wanneroo Botanic Gardens\, 25 Drovers Place\, Carramar\, WA\, Australia
CATEGORIES:Christmas,School Holiday Events
ATTACH;FMTTYPE=image/jpeg:https://buggybuddys.com.au/wp-content/uploads/2025/11/464104140_1021929199944169_8856868616104940661_n-1536x804-1.jpg
GEO:-31.7171778;115.7786431
X-APPLE-STRUCTURED-LOCATION;VALUE=URI;X-ADDRESS=Wanneroo Botanic Gardens 25 Drovers Place Carramar WA Australia;X-APPLE-RADIUS=500;X-TITLE=25 Drovers Place:geo:115.7786431,-31.7171778
END:VEVENT
BEGIN:VEVENT
DTSTART;TZID=Australia/Perth:20260108T170000
DTEND;TZID=Australia/Perth:20260108T220000
DTSTAMP:20260420T044903
CREATED:20251105T055340Z
LAST-MODIFIED:20251105T055341Z
UID:10067389-1767891600-1767909600@buggybuddys.com.au
SUMMARY:The Magic of Christmas at Wanneroo Botanic Gardens 
DESCRIPTION:Whether you’re young or young at heart\, the magic of the holiday season awaits you at Wanneroo Botanic Gardens.\nFrom late November to early January\, our stunning 5-acre garden transforms into a shimmering wonderland\, just 5 minutes from Joondalup. Twinkling trees light up the night\, creating the perfect backdrop for family memories that will last a lifetime.\n \n Glow Golf – A Festive Twist Join in the fun with our one-of-a-kind Glow-in-the-Dark Golf course!\n \n Event Dates:From Wednesday\, November 26 to Sunday\, January 11 (excluding closure days)\n \n Important: All tickets must be purchased online in advance. This year\, we’re offering a seamless booking experience. Reserve your tickets now by clicking the link https://www.wanneroobotanicgardens.com.au/magic-of-christmas
URL:https://buggybuddys.com.au/perth-event/the-magic-of-christmas-at-wanneroo-botanic-gardens/2026-01-08/
LOCATION:Wanneroo Botanic Gardens\, 25 Drovers Place\, Carramar\, WA\, Australia
CATEGORIES:Christmas,School Holiday Events
ATTACH;FMTTYPE=image/jpeg:https://buggybuddys.com.au/wp-content/uploads/2025/11/464104140_1021929199944169_8856868616104940661_n-1536x804-1.jpg
GEO:-31.7171778;115.7786431
X-APPLE-STRUCTURED-LOCATION;VALUE=URI;X-ADDRESS=Wanneroo Botanic Gardens 25 Drovers Place Carramar WA Australia;X-APPLE-RADIUS=500;X-TITLE=25 Drovers Place:geo:115.7786431,-31.7171778
END:VEVENT
BEGIN:VEVENT
DTSTART;TZID=Australia/Perth:20260109T170000
DTEND;TZID=Australia/Perth:20260109T220000
DTSTAMP:20260420T044903
CREATED:20251105T055340Z
LAST-MODIFIED:20251105T055341Z
UID:10067390-1767978000-1767996000@buggybuddys.com.au
SUMMARY:The Magic of Christmas at Wanneroo Botanic Gardens 
DESCRIPTION:Whether you’re young or young at heart\, the magic of the holiday season awaits you at Wanneroo Botanic Gardens.\nFrom late November to early January\, our stunning 5-acre garden transforms into a shimmering wonderland\, just 5 minutes from Joondalup. Twinkling trees light up the night\, creating the perfect backdrop for family memories that will last a lifetime.\n \n Glow Golf – A Festive Twist Join in the fun with our one-of-a-kind Glow-in-the-Dark Golf course!\n \n Event Dates:From Wednesday\, November 26 to Sunday\, January 11 (excluding closure days)\n \n Important: All tickets must be purchased online in advance. This year\, we’re offering a seamless booking experience. Reserve your tickets now by clicking the link https://www.wanneroobotanicgardens.com.au/magic-of-christmas
URL:https://buggybuddys.com.au/perth-event/the-magic-of-christmas-at-wanneroo-botanic-gardens/2026-01-09/
LOCATION:Wanneroo Botanic Gardens\, 25 Drovers Place\, Carramar\, WA\, Australia
CATEGORIES:Christmas,School Holiday Events
ATTACH;FMTTYPE=image/jpeg:https://buggybuddys.com.au/wp-content/uploads/2025/11/464104140_1021929199944169_8856868616104940661_n-1536x804-1.jpg
GEO:-31.7171778;115.7786431
X-APPLE-STRUCTURED-LOCATION;VALUE=URI;X-ADDRESS=Wanneroo Botanic Gardens 25 Drovers Place Carramar WA Australia;X-APPLE-RADIUS=500;X-TITLE=25 Drovers Place:geo:115.7786431,-31.7171778
END:VEVENT
BEGIN:VEVENT
DTSTART;TZID=Australia/Perth:20260110T170000
DTEND;TZID=Australia/Perth:20260110T220000
DTSTAMP:20260420T044903
CREATED:20251105T055340Z
LAST-MODIFIED:20251105T055341Z
UID:10067391-1768064400-1768082400@buggybuddys.com.au
SUMMARY:The Magic of Christmas at Wanneroo Botanic Gardens 
DESCRIPTION:Whether you’re young or young at heart\, the magic of the holiday season awaits you at Wanneroo Botanic Gardens.\nFrom late November to early January\, our stunning 5-acre garden transforms into a shimmering wonderland\, just 5 minutes from Joondalup. Twinkling trees light up the night\, creating the perfect backdrop for family memories that will last a lifetime.\n \n Glow Golf – A Festive Twist Join in the fun with our one-of-a-kind Glow-in-the-Dark Golf course!\n \n Event Dates:From Wednesday\, November 26 to Sunday\, January 11 (excluding closure days)\n \n Important: All tickets must be purchased online in advance. This year\, we’re offering a seamless booking experience. Reserve your tickets now by clicking the link https://www.wanneroobotanicgardens.com.au/magic-of-christmas
URL:https://buggybuddys.com.au/perth-event/the-magic-of-christmas-at-wanneroo-botanic-gardens/2026-01-10/
LOCATION:Wanneroo Botanic Gardens\, 25 Drovers Place\, Carramar\, WA\, Australia
CATEGORIES:Christmas,School Holiday Events
ATTACH;FMTTYPE=image/jpeg:https://buggybuddys.com.au/wp-content/uploads/2025/11/464104140_1021929199944169_8856868616104940661_n-1536x804-1.jpg
GEO:-31.7171778;115.7786431
X-APPLE-STRUCTURED-LOCATION;VALUE=URI;X-ADDRESS=Wanneroo Botanic Gardens 25 Drovers Place Carramar WA Australia;X-APPLE-RADIUS=500;X-TITLE=25 Drovers Place:geo:115.7786431,-31.7171778
END:VEVENT
BEGIN:VEVENT
DTSTART;TZID=Australia/Perth:20260111T170000
DTEND;TZID=Australia/Perth:20260111T220000
DTSTAMP:20260420T044903
CREATED:20251105T055340Z
LAST-MODIFIED:20251105T055341Z
UID:10067392-1768150800-1768168800@buggybuddys.com.au
SUMMARY:The Magic of Christmas at Wanneroo Botanic Gardens 
DESCRIPTION:Whether you’re young or young at heart\, the magic of the holiday season awaits you at Wanneroo Botanic Gardens.\nFrom late November to early January\, our stunning 5-acre garden transforms into a shimmering wonderland\, just 5 minutes from Joondalup. Twinkling trees light up the night\, creating the perfect backdrop for family memories that will last a lifetime.\n \n Glow Golf – A Festive Twist Join in the fun with our one-of-a-kind Glow-in-the-Dark Golf course!\n \n Event Dates:From Wednesday\, November 26 to Sunday\, January 11 (excluding closure days)\n \n Important: All tickets must be purchased online in advance. This year\, we’re offering a seamless booking experience. Reserve your tickets now by clicking the link https://www.wanneroobotanicgardens.com.au/magic-of-christmas
URL:https://buggybuddys.com.au/perth-event/the-magic-of-christmas-at-wanneroo-botanic-gardens/2026-01-11/
LOCATION:Wanneroo Botanic Gardens\, 25 Drovers Place\, Carramar\, WA\, Australia
CATEGORIES:Christmas,School Holiday Events
ATTACH;FMTTYPE=image/jpeg:https://buggybuddys.com.au/wp-content/uploads/2025/11/464104140_1021929199944169_8856868616104940661_n-1536x804-1.jpg
GEO:-31.7171778;115.7786431
X-APPLE-STRUCTURED-LOCATION;VALUE=URI;X-ADDRESS=Wanneroo Botanic Gardens 25 Drovers Place Carramar WA Australia;X-APPLE-RADIUS=500;X-TITLE=25 Drovers Place:geo:115.7786431,-31.7171778
END:VEVENT
END:VCALENDAR