BEGIN:VCALENDAR
VERSION:2.0
PRODID:-//Buggybuddys guide for families in Perth - ECPv6.15.11//NONSGML v1.0//EN
CALSCALE:GREGORIAN
METHOD:PUBLISH
X-ORIGINAL-URL:https://buggybuddys.com.au
X-WR-CALDESC:Events for Buggybuddys guide for families in Perth
REFRESH-INTERVAL;VALUE=DURATION:PT1H
X-Robots-Tag:noindex
X-PUBLISHED-TTL:PT1H
BEGIN:VTIMEZONE
TZID:Australia/Perth
BEGIN:STANDARD
TZOFFSETFROM:+0800
TZOFFSETTO:+0800
TZNAME:AWST
DTSTART:20250101T000000
END:STANDARD
END:VTIMEZONE
BEGIN:VEVENT
DTSTART;TZID=Australia/Perth:20260917T140000
DTEND;TZID=Australia/Perth:20260917T160000
DTSTAMP:20260426T075823
CREATED:20260303T141157Z
LAST-MODIFIED:20260303T141157Z
UID:10075089-1789653600-1789660800@buggybuddys.com.au
SUMMARY:Board Games Group
DESCRIPTION:Board Games – Fun for everyone \nFor anyone who loves to play board games or wants to learn to play. Bring a friend or neighbour. Games like bingo\, Mexican train and scrabble are played regularly.
URL:https://buggybuddys.com.au/perth-event/board-games-group/2026-09-17/
LOCATION:Blue Gum Community Centre\, 33 Moolyeen Road\, Brentwood\, WA\, 6153\, Australia
CATEGORIES:Social,Teens
ATTACH;FMTTYPE=image/jpeg:https://buggybuddys.com.au/wp-content/uploads/2026/03/Board-Games-Group.jpg
END:VEVENT
BEGIN:VEVENT
DTSTART;TZID=Australia/Perth:20260924T140000
DTEND;TZID=Australia/Perth:20260924T160000
DTSTAMP:20260426T075823
CREATED:20260303T141157Z
LAST-MODIFIED:20260303T141157Z
UID:10075090-1790258400-1790265600@buggybuddys.com.au
SUMMARY:Board Games Group
DESCRIPTION:Board Games – Fun for everyone \nFor anyone who loves to play board games or wants to learn to play. Bring a friend or neighbour. Games like bingo\, Mexican train and scrabble are played regularly.
URL:https://buggybuddys.com.au/perth-event/board-games-group/2026-09-24/
LOCATION:Blue Gum Community Centre\, 33 Moolyeen Road\, Brentwood\, WA\, 6153\, Australia
CATEGORIES:Social,Teens
ATTACH;FMTTYPE=image/jpeg:https://buggybuddys.com.au/wp-content/uploads/2026/03/Board-Games-Group.jpg
END:VEVENT
BEGIN:VEVENT
DTSTART;TZID=Australia/Perth:20261001T140000
DTEND;TZID=Australia/Perth:20261001T160000
DTSTAMP:20260426T075823
CREATED:20260303T141157Z
LAST-MODIFIED:20260303T141157Z
UID:10075091-1790863200-1790870400@buggybuddys.com.au
SUMMARY:Board Games Group
DESCRIPTION:Board Games – Fun for everyone \nFor anyone who loves to play board games or wants to learn to play. Bring a friend or neighbour. Games like bingo\, Mexican train and scrabble are played regularly.
URL:https://buggybuddys.com.au/perth-event/board-games-group/2026-10-01/
LOCATION:Blue Gum Community Centre\, 33 Moolyeen Road\, Brentwood\, WA\, 6153\, Australia
CATEGORIES:Social,Teens
ATTACH;FMTTYPE=image/jpeg:https://buggybuddys.com.au/wp-content/uploads/2026/03/Board-Games-Group.jpg
END:VEVENT
BEGIN:VEVENT
DTSTART;TZID=Australia/Perth:20261008T140000
DTEND;TZID=Australia/Perth:20261008T160000
DTSTAMP:20260426T075823
CREATED:20260303T141157Z
LAST-MODIFIED:20260303T141157Z
UID:10075092-1791468000-1791475200@buggybuddys.com.au
SUMMARY:Board Games Group
DESCRIPTION:Board Games – Fun for everyone \nFor anyone who loves to play board games or wants to learn to play. Bring a friend or neighbour. Games like bingo\, Mexican train and scrabble are played regularly.
URL:https://buggybuddys.com.au/perth-event/board-games-group/2026-10-08/
LOCATION:Blue Gum Community Centre\, 33 Moolyeen Road\, Brentwood\, WA\, 6153\, Australia
CATEGORIES:Social,Teens
ATTACH;FMTTYPE=image/jpeg:https://buggybuddys.com.au/wp-content/uploads/2026/03/Board-Games-Group.jpg
END:VEVENT
BEGIN:VEVENT
DTSTART;TZID=Australia/Perth:20261015T140000
DTEND;TZID=Australia/Perth:20261015T160000
DTSTAMP:20260426T075823
CREATED:20260303T141157Z
LAST-MODIFIED:20260303T141157Z
UID:10075093-1792072800-1792080000@buggybuddys.com.au
SUMMARY:Board Games Group
DESCRIPTION:Board Games – Fun for everyone \nFor anyone who loves to play board games or wants to learn to play. Bring a friend or neighbour. Games like bingo\, Mexican train and scrabble are played regularly.
URL:https://buggybuddys.com.au/perth-event/board-games-group/2026-10-15/
LOCATION:Blue Gum Community Centre\, 33 Moolyeen Road\, Brentwood\, WA\, 6153\, Australia
CATEGORIES:Social,Teens
ATTACH;FMTTYPE=image/jpeg:https://buggybuddys.com.au/wp-content/uploads/2026/03/Board-Games-Group.jpg
END:VEVENT
BEGIN:VEVENT
DTSTART;TZID=Australia/Perth:20261022T140000
DTEND;TZID=Australia/Perth:20261022T160000
DTSTAMP:20260426T075823
CREATED:20260303T141157Z
LAST-MODIFIED:20260303T141157Z
UID:10075094-1792677600-1792684800@buggybuddys.com.au
SUMMARY:Board Games Group
DESCRIPTION:Board Games – Fun for everyone \nFor anyone who loves to play board games or wants to learn to play. Bring a friend or neighbour. Games like bingo\, Mexican train and scrabble are played regularly.
URL:https://buggybuddys.com.au/perth-event/board-games-group/2026-10-22/
LOCATION:Blue Gum Community Centre\, 33 Moolyeen Road\, Brentwood\, WA\, 6153\, Australia
CATEGORIES:Social,Teens
ATTACH;FMTTYPE=image/jpeg:https://buggybuddys.com.au/wp-content/uploads/2026/03/Board-Games-Group.jpg
END:VEVENT
BEGIN:VEVENT
DTSTART;TZID=Australia/Perth:20261029T140000
DTEND;TZID=Australia/Perth:20261029T160000
DTSTAMP:20260426T075823
CREATED:20260303T141157Z
LAST-MODIFIED:20260303T141157Z
UID:10075095-1793282400-1793289600@buggybuddys.com.au
SUMMARY:Board Games Group
DESCRIPTION:Board Games – Fun for everyone \nFor anyone who loves to play board games or wants to learn to play. Bring a friend or neighbour. Games like bingo\, Mexican train and scrabble are played regularly.
URL:https://buggybuddys.com.au/perth-event/board-games-group/2026-10-29/
LOCATION:Blue Gum Community Centre\, 33 Moolyeen Road\, Brentwood\, WA\, 6153\, Australia
CATEGORIES:Social,Teens
ATTACH;FMTTYPE=image/jpeg:https://buggybuddys.com.au/wp-content/uploads/2026/03/Board-Games-Group.jpg
END:VEVENT
BEGIN:VEVENT
DTSTART;TZID=Australia/Perth:20261105T140000
DTEND;TZID=Australia/Perth:20261105T160000
DTSTAMP:20260426T075823
CREATED:20260303T141157Z
LAST-MODIFIED:20260303T141157Z
UID:10075096-1793887200-1793894400@buggybuddys.com.au
SUMMARY:Board Games Group
DESCRIPTION:Board Games – Fun for everyone \nFor anyone who loves to play board games or wants to learn to play. Bring a friend or neighbour. Games like bingo\, Mexican train and scrabble are played regularly.
URL:https://buggybuddys.com.au/perth-event/board-games-group/2026-11-05/
LOCATION:Blue Gum Community Centre\, 33 Moolyeen Road\, Brentwood\, WA\, 6153\, Australia
CATEGORIES:Social,Teens
ATTACH;FMTTYPE=image/jpeg:https://buggybuddys.com.au/wp-content/uploads/2026/03/Board-Games-Group.jpg
END:VEVENT
BEGIN:VEVENT
DTSTART;TZID=Australia/Perth:20261112T140000
DTEND;TZID=Australia/Perth:20261112T160000
DTSTAMP:20260426T075823
CREATED:20260303T141157Z
LAST-MODIFIED:20260303T141157Z
UID:10075097-1794492000-1794499200@buggybuddys.com.au
SUMMARY:Board Games Group
DESCRIPTION:Board Games – Fun for everyone \nFor anyone who loves to play board games or wants to learn to play. Bring a friend or neighbour. Games like bingo\, Mexican train and scrabble are played regularly.
URL:https://buggybuddys.com.au/perth-event/board-games-group/2026-11-12/
LOCATION:Blue Gum Community Centre\, 33 Moolyeen Road\, Brentwood\, WA\, 6153\, Australia
CATEGORIES:Social,Teens
ATTACH;FMTTYPE=image/jpeg:https://buggybuddys.com.au/wp-content/uploads/2026/03/Board-Games-Group.jpg
END:VEVENT
BEGIN:VEVENT
DTSTART;TZID=Australia/Perth:20261119T140000
DTEND;TZID=Australia/Perth:20261119T160000
DTSTAMP:20260426T075823
CREATED:20260303T141157Z
LAST-MODIFIED:20260303T141157Z
UID:10075098-1795096800-1795104000@buggybuddys.com.au
SUMMARY:Board Games Group
DESCRIPTION:Board Games – Fun for everyone \nFor anyone who loves to play board games or wants to learn to play. Bring a friend or neighbour. Games like bingo\, Mexican train and scrabble are played regularly.
URL:https://buggybuddys.com.au/perth-event/board-games-group/2026-11-19/
LOCATION:Blue Gum Community Centre\, 33 Moolyeen Road\, Brentwood\, WA\, 6153\, Australia
CATEGORIES:Social,Teens
ATTACH;FMTTYPE=image/jpeg:https://buggybuddys.com.au/wp-content/uploads/2026/03/Board-Games-Group.jpg
END:VEVENT
BEGIN:VEVENT
DTSTART;TZID=Australia/Perth:20261126T140000
DTEND;TZID=Australia/Perth:20261126T160000
DTSTAMP:20260426T075823
CREATED:20260303T141157Z
LAST-MODIFIED:20260303T141157Z
UID:10075099-1795701600-1795708800@buggybuddys.com.au
SUMMARY:Board Games Group
DESCRIPTION:Board Games – Fun for everyone \nFor anyone who loves to play board games or wants to learn to play. Bring a friend or neighbour. Games like bingo\, Mexican train and scrabble are played regularly.
URL:https://buggybuddys.com.au/perth-event/board-games-group/2026-11-26/
LOCATION:Blue Gum Community Centre\, 33 Moolyeen Road\, Brentwood\, WA\, 6153\, Australia
CATEGORIES:Social,Teens
ATTACH;FMTTYPE=image/jpeg:https://buggybuddys.com.au/wp-content/uploads/2026/03/Board-Games-Group.jpg
END:VEVENT
BEGIN:VEVENT
DTSTART;TZID=Australia/Perth:20261203T140000
DTEND;TZID=Australia/Perth:20261203T160000
DTSTAMP:20260426T075823
CREATED:20260303T141157Z
LAST-MODIFIED:20260303T141157Z
UID:10075100-1796306400-1796313600@buggybuddys.com.au
SUMMARY:Board Games Group
DESCRIPTION:Board Games – Fun for everyone \nFor anyone who loves to play board games or wants to learn to play. Bring a friend or neighbour. Games like bingo\, Mexican train and scrabble are played regularly.
URL:https://buggybuddys.com.au/perth-event/board-games-group/2026-12-03/
LOCATION:Blue Gum Community Centre\, 33 Moolyeen Road\, Brentwood\, WA\, 6153\, Australia
CATEGORIES:Social,Teens
ATTACH;FMTTYPE=image/jpeg:https://buggybuddys.com.au/wp-content/uploads/2026/03/Board-Games-Group.jpg
END:VEVENT
BEGIN:VEVENT
DTSTART;TZID=Australia/Perth:20261210T140000
DTEND;TZID=Australia/Perth:20261210T160000
DTSTAMP:20260426T075823
CREATED:20260303T141157Z
LAST-MODIFIED:20260303T141157Z
UID:10075101-1796911200-1796918400@buggybuddys.com.au
SUMMARY:Board Games Group
DESCRIPTION:Board Games – Fun for everyone \nFor anyone who loves to play board games or wants to learn to play. Bring a friend or neighbour. Games like bingo\, Mexican train and scrabble are played regularly.
URL:https://buggybuddys.com.au/perth-event/board-games-group/2026-12-10/
LOCATION:Blue Gum Community Centre\, 33 Moolyeen Road\, Brentwood\, WA\, 6153\, Australia
CATEGORIES:Social,Teens
ATTACH;FMTTYPE=image/jpeg:https://buggybuddys.com.au/wp-content/uploads/2026/03/Board-Games-Group.jpg
END:VEVENT
BEGIN:VEVENT
DTSTART;TZID=Australia/Perth:20261217T140000
DTEND;TZID=Australia/Perth:20261217T160000
DTSTAMP:20260426T075823
CREATED:20260303T141157Z
LAST-MODIFIED:20260303T141157Z
UID:10075102-1797516000-1797523200@buggybuddys.com.au
SUMMARY:Board Games Group
DESCRIPTION:Board Games – Fun for everyone \nFor anyone who loves to play board games or wants to learn to play. Bring a friend or neighbour. Games like bingo\, Mexican train and scrabble are played regularly.
URL:https://buggybuddys.com.au/perth-event/board-games-group/2026-12-17/
LOCATION:Blue Gum Community Centre\, 33 Moolyeen Road\, Brentwood\, WA\, 6153\, Australia
CATEGORIES:Social,Teens
ATTACH;FMTTYPE=image/jpeg:https://buggybuddys.com.au/wp-content/uploads/2026/03/Board-Games-Group.jpg
END:VEVENT
BEGIN:VEVENT
DTSTART;TZID=Australia/Perth:20261224T140000
DTEND;TZID=Australia/Perth:20261224T160000
DTSTAMP:20260426T075823
CREATED:20260303T141157Z
LAST-MODIFIED:20260303T141157Z
UID:10075103-1798120800-1798128000@buggybuddys.com.au
SUMMARY:Board Games Group
DESCRIPTION:Board Games – Fun for everyone \nFor anyone who loves to play board games or wants to learn to play. Bring a friend or neighbour. Games like bingo\, Mexican train and scrabble are played regularly.
URL:https://buggybuddys.com.au/perth-event/board-games-group/2026-12-24/
LOCATION:Blue Gum Community Centre\, 33 Moolyeen Road\, Brentwood\, WA\, 6153\, Australia
CATEGORIES:Social,Teens
ATTACH;FMTTYPE=image/jpeg:https://buggybuddys.com.au/wp-content/uploads/2026/03/Board-Games-Group.jpg
END:VEVENT
BEGIN:VEVENT
DTSTART;TZID=Australia/Perth:20261231T140000
DTEND;TZID=Australia/Perth:20261231T160000
DTSTAMP:20260426T075823
CREATED:20260303T141157Z
LAST-MODIFIED:20260303T141157Z
UID:10075104-1798725600-1798732800@buggybuddys.com.au
SUMMARY:Board Games Group
DESCRIPTION:Board Games – Fun for everyone \nFor anyone who loves to play board games or wants to learn to play. Bring a friend or neighbour. Games like bingo\, Mexican train and scrabble are played regularly.
URL:https://buggybuddys.com.au/perth-event/board-games-group/2026-12-31/
LOCATION:Blue Gum Community Centre\, 33 Moolyeen Road\, Brentwood\, WA\, 6153\, Australia
CATEGORIES:Social,Teens
ATTACH;FMTTYPE=image/jpeg:https://buggybuddys.com.au/wp-content/uploads/2026/03/Board-Games-Group.jpg
END:VEVENT
END:VCALENDAR