BEGIN:VCALENDAR
VERSION:2.0
PRODID:-//Buggybuddys guide for families in Perth - ECPv6.15.11//NONSGML v1.0//EN
CALSCALE:GREGORIAN
METHOD:PUBLISH
X-WR-CALNAME:Buggybuddys guide for families in Perth
X-ORIGINAL-URL:https://buggybuddys.com.au
X-WR-CALDESC:Events for Buggybuddys guide for families in Perth
REFRESH-INTERVAL;VALUE=DURATION:PT1H
X-Robots-Tag:noindex
X-PUBLISHED-TTL:PT1H
BEGIN:VTIMEZONE
TZID:Australia/Perth
BEGIN:STANDARD
TZOFFSETFROM:+0800
TZOFFSETTO:+0800
TZNAME:AWST
DTSTART:20250101T000000
END:STANDARD
END:VTIMEZONE
BEGIN:VEVENT
DTSTART;TZID=Australia/Perth:20260915T100000
DTEND;TZID=Australia/Perth:20260915T110000
DTSTAMP:20260426T113050
CREATED:20260110T074228Z
LAST-MODIFIED:20260110T074228Z
UID:10071927-1789466400-1789470000@buggybuddys.com.au
SUMMARY:Toddler Time
DESCRIPTION:These sessions are full of fun with stories\, songs\, finger plays and movement rhymes. \nAimed at ages 1 – 3 years. Free event. Bookings are not required. \nFor more information\, please contact Rockingham Library on 9528 8683 or email rockinghamlibraries@rockingham.wa.gov.au. \nIf you have any specific needs or require accommodations in order to comfortably attend this event\, such as visual aids\, a quiet space\, or accessible seating\, please let us know.
URL:https://buggybuddys.com.au/perth-event/toddler-time-2/2026-09-15/
LOCATION:Rockingham Library\, Dixon Road\, Rockingham\, WA\, 6168\, Australia
CATEGORIES:Free,Kids Term Activities,Library Events
ATTACH;FMTTYPE=image/jpeg:https://buggybuddys.com.au/wp-content/uploads/2026/01/Toddler-Time-Rockingham.jpg
END:VEVENT
BEGIN:VEVENT
DTSTART;TZID=Australia/Perth:20260922T100000
DTEND;TZID=Australia/Perth:20260922T110000
DTSTAMP:20260426T113050
CREATED:20260110T074228Z
LAST-MODIFIED:20260110T074228Z
UID:10071928-1790071200-1790074800@buggybuddys.com.au
SUMMARY:Toddler Time
DESCRIPTION:These sessions are full of fun with stories\, songs\, finger plays and movement rhymes. \nAimed at ages 1 – 3 years. Free event. Bookings are not required. \nFor more information\, please contact Rockingham Library on 9528 8683 or email rockinghamlibraries@rockingham.wa.gov.au. \nIf you have any specific needs or require accommodations in order to comfortably attend this event\, such as visual aids\, a quiet space\, or accessible seating\, please let us know.
URL:https://buggybuddys.com.au/perth-event/toddler-time-2/2026-09-22/
LOCATION:Rockingham Library\, Dixon Road\, Rockingham\, WA\, 6168\, Australia
CATEGORIES:Free,Kids Term Activities,Library Events
ATTACH;FMTTYPE=image/jpeg:https://buggybuddys.com.au/wp-content/uploads/2026/01/Toddler-Time-Rockingham.jpg
END:VEVENT
BEGIN:VEVENT
DTSTART;TZID=Australia/Perth:20260929T100000
DTEND;TZID=Australia/Perth:20260929T110000
DTSTAMP:20260426T113050
CREATED:20260110T074228Z
LAST-MODIFIED:20260110T074228Z
UID:10071929-1790676000-1790679600@buggybuddys.com.au
SUMMARY:Toddler Time
DESCRIPTION:These sessions are full of fun with stories\, songs\, finger plays and movement rhymes. \nAimed at ages 1 – 3 years. Free event. Bookings are not required. \nFor more information\, please contact Rockingham Library on 9528 8683 or email rockinghamlibraries@rockingham.wa.gov.au. \nIf you have any specific needs or require accommodations in order to comfortably attend this event\, such as visual aids\, a quiet space\, or accessible seating\, please let us know.
URL:https://buggybuddys.com.au/perth-event/toddler-time-2/2026-09-29/
LOCATION:Rockingham Library\, Dixon Road\, Rockingham\, WA\, 6168\, Australia
CATEGORIES:Free,Kids Term Activities,Library Events
ATTACH;FMTTYPE=image/jpeg:https://buggybuddys.com.au/wp-content/uploads/2026/01/Toddler-Time-Rockingham.jpg
END:VEVENT
BEGIN:VEVENT
DTSTART;TZID=Australia/Perth:20261006T100000
DTEND;TZID=Australia/Perth:20261006T110000
DTSTAMP:20260426T113050
CREATED:20260110T074228Z
LAST-MODIFIED:20260110T074228Z
UID:10071930-1791280800-1791284400@buggybuddys.com.au
SUMMARY:Toddler Time
DESCRIPTION:These sessions are full of fun with stories\, songs\, finger plays and movement rhymes. \nAimed at ages 1 – 3 years. Free event. Bookings are not required. \nFor more information\, please contact Rockingham Library on 9528 8683 or email rockinghamlibraries@rockingham.wa.gov.au. \nIf you have any specific needs or require accommodations in order to comfortably attend this event\, such as visual aids\, a quiet space\, or accessible seating\, please let us know.
URL:https://buggybuddys.com.au/perth-event/toddler-time-2/2026-10-06/
LOCATION:Rockingham Library\, Dixon Road\, Rockingham\, WA\, 6168\, Australia
CATEGORIES:Free,Kids Term Activities,Library Events
ATTACH;FMTTYPE=image/jpeg:https://buggybuddys.com.au/wp-content/uploads/2026/01/Toddler-Time-Rockingham.jpg
END:VEVENT
BEGIN:VEVENT
DTSTART;TZID=Australia/Perth:20261013T100000
DTEND;TZID=Australia/Perth:20261013T110000
DTSTAMP:20260426T113050
CREATED:20260110T074228Z
LAST-MODIFIED:20260110T074228Z
UID:10071931-1791885600-1791889200@buggybuddys.com.au
SUMMARY:Toddler Time
DESCRIPTION:These sessions are full of fun with stories\, songs\, finger plays and movement rhymes. \nAimed at ages 1 – 3 years. Free event. Bookings are not required. \nFor more information\, please contact Rockingham Library on 9528 8683 or email rockinghamlibraries@rockingham.wa.gov.au. \nIf you have any specific needs or require accommodations in order to comfortably attend this event\, such as visual aids\, a quiet space\, or accessible seating\, please let us know.
URL:https://buggybuddys.com.au/perth-event/toddler-time-2/2026-10-13/
LOCATION:Rockingham Library\, Dixon Road\, Rockingham\, WA\, 6168\, Australia
CATEGORIES:Free,Kids Term Activities,Library Events
ATTACH;FMTTYPE=image/jpeg:https://buggybuddys.com.au/wp-content/uploads/2026/01/Toddler-Time-Rockingham.jpg
END:VEVENT
BEGIN:VEVENT
DTSTART;TZID=Australia/Perth:20261020T100000
DTEND;TZID=Australia/Perth:20261020T110000
DTSTAMP:20260426T113050
CREATED:20260110T074228Z
LAST-MODIFIED:20260110T074228Z
UID:10071932-1792490400-1792494000@buggybuddys.com.au
SUMMARY:Toddler Time
DESCRIPTION:These sessions are full of fun with stories\, songs\, finger plays and movement rhymes. \nAimed at ages 1 – 3 years. Free event. Bookings are not required. \nFor more information\, please contact Rockingham Library on 9528 8683 or email rockinghamlibraries@rockingham.wa.gov.au. \nIf you have any specific needs or require accommodations in order to comfortably attend this event\, such as visual aids\, a quiet space\, or accessible seating\, please let us know.
URL:https://buggybuddys.com.au/perth-event/toddler-time-2/2026-10-20/
LOCATION:Rockingham Library\, Dixon Road\, Rockingham\, WA\, 6168\, Australia
CATEGORIES:Free,Kids Term Activities,Library Events
ATTACH;FMTTYPE=image/jpeg:https://buggybuddys.com.au/wp-content/uploads/2026/01/Toddler-Time-Rockingham.jpg
END:VEVENT
BEGIN:VEVENT
DTSTART;TZID=Australia/Perth:20261027T100000
DTEND;TZID=Australia/Perth:20261027T110000
DTSTAMP:20260426T113050
CREATED:20260110T074228Z
LAST-MODIFIED:20260110T074228Z
UID:10071933-1793095200-1793098800@buggybuddys.com.au
SUMMARY:Toddler Time
DESCRIPTION:These sessions are full of fun with stories\, songs\, finger plays and movement rhymes. \nAimed at ages 1 – 3 years. Free event. Bookings are not required. \nFor more information\, please contact Rockingham Library on 9528 8683 or email rockinghamlibraries@rockingham.wa.gov.au. \nIf you have any specific needs or require accommodations in order to comfortably attend this event\, such as visual aids\, a quiet space\, or accessible seating\, please let us know.
URL:https://buggybuddys.com.au/perth-event/toddler-time-2/2026-10-27/
LOCATION:Rockingham Library\, Dixon Road\, Rockingham\, WA\, 6168\, Australia
CATEGORIES:Free,Kids Term Activities,Library Events
ATTACH;FMTTYPE=image/jpeg:https://buggybuddys.com.au/wp-content/uploads/2026/01/Toddler-Time-Rockingham.jpg
END:VEVENT
BEGIN:VEVENT
DTSTART;TZID=Australia/Perth:20261103T100000
DTEND;TZID=Australia/Perth:20261103T110000
DTSTAMP:20260426T113050
CREATED:20260110T074228Z
LAST-MODIFIED:20260110T074228Z
UID:10071934-1793700000-1793703600@buggybuddys.com.au
SUMMARY:Toddler Time
DESCRIPTION:These sessions are full of fun with stories\, songs\, finger plays and movement rhymes. \nAimed at ages 1 – 3 years. Free event. Bookings are not required. \nFor more information\, please contact Rockingham Library on 9528 8683 or email rockinghamlibraries@rockingham.wa.gov.au. \nIf you have any specific needs or require accommodations in order to comfortably attend this event\, such as visual aids\, a quiet space\, or accessible seating\, please let us know.
URL:https://buggybuddys.com.au/perth-event/toddler-time-2/2026-11-03/
LOCATION:Rockingham Library\, Dixon Road\, Rockingham\, WA\, 6168\, Australia
CATEGORIES:Free,Kids Term Activities,Library Events
ATTACH;FMTTYPE=image/jpeg:https://buggybuddys.com.au/wp-content/uploads/2026/01/Toddler-Time-Rockingham.jpg
END:VEVENT
BEGIN:VEVENT
DTSTART;TZID=Australia/Perth:20261110T100000
DTEND;TZID=Australia/Perth:20261110T110000
DTSTAMP:20260426T113050
CREATED:20260110T074228Z
LAST-MODIFIED:20260110T074228Z
UID:10071935-1794304800-1794308400@buggybuddys.com.au
SUMMARY:Toddler Time
DESCRIPTION:These sessions are full of fun with stories\, songs\, finger plays and movement rhymes. \nAimed at ages 1 – 3 years. Free event. Bookings are not required. \nFor more information\, please contact Rockingham Library on 9528 8683 or email rockinghamlibraries@rockingham.wa.gov.au. \nIf you have any specific needs or require accommodations in order to comfortably attend this event\, such as visual aids\, a quiet space\, or accessible seating\, please let us know.
URL:https://buggybuddys.com.au/perth-event/toddler-time-2/2026-11-10/
LOCATION:Rockingham Library\, Dixon Road\, Rockingham\, WA\, 6168\, Australia
CATEGORIES:Free,Kids Term Activities,Library Events
ATTACH;FMTTYPE=image/jpeg:https://buggybuddys.com.au/wp-content/uploads/2026/01/Toddler-Time-Rockingham.jpg
END:VEVENT
BEGIN:VEVENT
DTSTART;TZID=Australia/Perth:20261117T100000
DTEND;TZID=Australia/Perth:20261117T110000
DTSTAMP:20260426T113050
CREATED:20260110T074228Z
LAST-MODIFIED:20260110T074228Z
UID:10071936-1794909600-1794913200@buggybuddys.com.au
SUMMARY:Toddler Time
DESCRIPTION:These sessions are full of fun with stories\, songs\, finger plays and movement rhymes. \nAimed at ages 1 – 3 years. Free event. Bookings are not required. \nFor more information\, please contact Rockingham Library on 9528 8683 or email rockinghamlibraries@rockingham.wa.gov.au. \nIf you have any specific needs or require accommodations in order to comfortably attend this event\, such as visual aids\, a quiet space\, or accessible seating\, please let us know.
URL:https://buggybuddys.com.au/perth-event/toddler-time-2/2026-11-17/
LOCATION:Rockingham Library\, Dixon Road\, Rockingham\, WA\, 6168\, Australia
CATEGORIES:Free,Kids Term Activities,Library Events
ATTACH;FMTTYPE=image/jpeg:https://buggybuddys.com.au/wp-content/uploads/2026/01/Toddler-Time-Rockingham.jpg
END:VEVENT
BEGIN:VEVENT
DTSTART;TZID=Australia/Perth:20261124T100000
DTEND;TZID=Australia/Perth:20261124T110000
DTSTAMP:20260426T113050
CREATED:20260110T074228Z
LAST-MODIFIED:20260110T074228Z
UID:10071937-1795514400-1795518000@buggybuddys.com.au
SUMMARY:Toddler Time
DESCRIPTION:These sessions are full of fun with stories\, songs\, finger plays and movement rhymes. \nAimed at ages 1 – 3 years. Free event. Bookings are not required. \nFor more information\, please contact Rockingham Library on 9528 8683 or email rockinghamlibraries@rockingham.wa.gov.au. \nIf you have any specific needs or require accommodations in order to comfortably attend this event\, such as visual aids\, a quiet space\, or accessible seating\, please let us know.
URL:https://buggybuddys.com.au/perth-event/toddler-time-2/2026-11-24/
LOCATION:Rockingham Library\, Dixon Road\, Rockingham\, WA\, 6168\, Australia
CATEGORIES:Free,Kids Term Activities,Library Events
ATTACH;FMTTYPE=image/jpeg:https://buggybuddys.com.au/wp-content/uploads/2026/01/Toddler-Time-Rockingham.jpg
END:VEVENT
BEGIN:VEVENT
DTSTART;TZID=Australia/Perth:20261201T100000
DTEND;TZID=Australia/Perth:20261201T110000
DTSTAMP:20260426T113050
CREATED:20260110T074228Z
LAST-MODIFIED:20260110T074228Z
UID:10071938-1796119200-1796122800@buggybuddys.com.au
SUMMARY:Toddler Time
DESCRIPTION:These sessions are full of fun with stories\, songs\, finger plays and movement rhymes. \nAimed at ages 1 – 3 years. Free event. Bookings are not required. \nFor more information\, please contact Rockingham Library on 9528 8683 or email rockinghamlibraries@rockingham.wa.gov.au. \nIf you have any specific needs or require accommodations in order to comfortably attend this event\, such as visual aids\, a quiet space\, or accessible seating\, please let us know.
URL:https://buggybuddys.com.au/perth-event/toddler-time-2/2026-12-01/
LOCATION:Rockingham Library\, Dixon Road\, Rockingham\, WA\, 6168\, Australia
CATEGORIES:Free,Kids Term Activities,Library Events
ATTACH;FMTTYPE=image/jpeg:https://buggybuddys.com.au/wp-content/uploads/2026/01/Toddler-Time-Rockingham.jpg
END:VEVENT
BEGIN:VEVENT
DTSTART;TZID=Australia/Perth:20261208T100000
DTEND;TZID=Australia/Perth:20261208T110000
DTSTAMP:20260426T113050
CREATED:20260110T074228Z
LAST-MODIFIED:20260110T074228Z
UID:10071939-1796724000-1796727600@buggybuddys.com.au
SUMMARY:Toddler Time
DESCRIPTION:These sessions are full of fun with stories\, songs\, finger plays and movement rhymes. \nAimed at ages 1 – 3 years. Free event. Bookings are not required. \nFor more information\, please contact Rockingham Library on 9528 8683 or email rockinghamlibraries@rockingham.wa.gov.au. \nIf you have any specific needs or require accommodations in order to comfortably attend this event\, such as visual aids\, a quiet space\, or accessible seating\, please let us know.
URL:https://buggybuddys.com.au/perth-event/toddler-time-2/2026-12-08/
LOCATION:Rockingham Library\, Dixon Road\, Rockingham\, WA\, 6168\, Australia
CATEGORIES:Free,Kids Term Activities,Library Events
ATTACH;FMTTYPE=image/jpeg:https://buggybuddys.com.au/wp-content/uploads/2026/01/Toddler-Time-Rockingham.jpg
END:VEVENT
END:VCALENDAR