BEGIN:VCALENDAR
VERSION:2.0
PRODID:-//Buggybuddys guide for families in Perth - ECPv6.15.11//NONSGML v1.0//EN
CALSCALE:GREGORIAN
METHOD:PUBLISH
X-ORIGINAL-URL:https://buggybuddys.com.au
X-WR-CALDESC:Events for Buggybuddys guide for families in Perth
REFRESH-INTERVAL;VALUE=DURATION:PT1H
X-Robots-Tag:noindex
X-PUBLISHED-TTL:PT1H
BEGIN:VTIMEZONE
TZID:Australia/Perth
BEGIN:STANDARD
TZOFFSETFROM:+0800
TZOFFSETTO:+0800
TZNAME:AWST
DTSTART:20250101T000000
END:STANDARD
END:VTIMEZONE
BEGIN:VEVENT
DTSTART;TZID=Australia/Perth:20260502T090000
DTEND;TZID=Australia/Perth:20260502T113000
DTSTAMP:20260424T162145
CREATED:20260423T135904Z
LAST-MODIFIED:20260423T135904Z
UID:10077781-1777712400-1777721400@buggybuddys.com.au
SUMMARY:Baby Makes 3 Workshop
DESCRIPTION:Support for new parents – together \nBecoming parents changes more than routines and sleep – it changes how you communicate\, share the load and support each other day to day.\nBaby Makes 3 is a relaxed\, supportive program for first-time parents\, designed to help you navigate this transition together – without judgement\, pressure or expectations.\nDelivered over two friendly evening sessions\, Baby Makes 3 gives you time and space to: \n\nFeel more like a team as you adjust to life with a baby\nHave clearer\, calmer conversations about sharing care and household responsibilities\nBuild habits that support a respectful\, supportive partnership.\n\nSessions are interactive but easy-going\, with babies welcome\, so both parents can attend. Pizza and snacks are provided – just come as you are. \nWorkshops are facilitated by trained male and female co-leaders\, creating a balanced and welcoming environment for both parents. \nWhen and where \nTwo sessions: Saturday 2 May and Saturday 9 May 9-11.30am.\nCoolbellup Hub\, 90 Cordelia Ave\, Coolbellup WA 6163 \nReady to join? \nTo join\, simply complete the short registration form. \n\nSave your spot
URL:https://buggybuddys.com.au/perth-event/baby-makes-3-workshop/2026-05-02/
LOCATION:Coolbellup Hub\, 90 Cordelia Avenue\, Coolbellup\, WA\, 6163\, Australia
CATEGORIES:Free,Parenting Group
ATTACH;FMTTYPE=image/png:https://buggybuddys.com.au/wp-content/uploads/2026/04/Baby-Makes-3-Workshop.png
END:VEVENT
BEGIN:VEVENT
DTSTART;TZID=Australia/Perth:20260509T090000
DTEND;TZID=Australia/Perth:20260509T113000
DTSTAMP:20260424T162145
CREATED:20260423T135904Z
LAST-MODIFIED:20260423T135904Z
UID:10077782-1778317200-1778326200@buggybuddys.com.au
SUMMARY:Baby Makes 3 Workshop
DESCRIPTION:Support for new parents – together \nBecoming parents changes more than routines and sleep – it changes how you communicate\, share the load and support each other day to day.\nBaby Makes 3 is a relaxed\, supportive program for first-time parents\, designed to help you navigate this transition together – without judgement\, pressure or expectations.\nDelivered over two friendly evening sessions\, Baby Makes 3 gives you time and space to: \n\nFeel more like a team as you adjust to life with a baby\nHave clearer\, calmer conversations about sharing care and household responsibilities\nBuild habits that support a respectful\, supportive partnership.\n\nSessions are interactive but easy-going\, with babies welcome\, so both parents can attend. Pizza and snacks are provided – just come as you are. \nWorkshops are facilitated by trained male and female co-leaders\, creating a balanced and welcoming environment for both parents. \nWhen and where \nTwo sessions: Saturday 2 May and Saturday 9 May 9-11.30am.\nCoolbellup Hub\, 90 Cordelia Ave\, Coolbellup WA 6163 \nReady to join? \nTo join\, simply complete the short registration form. \n\nSave your spot
URL:https://buggybuddys.com.au/perth-event/baby-makes-3-workshop/2026-05-09/
LOCATION:Coolbellup Hub\, 90 Cordelia Avenue\, Coolbellup\, WA\, 6163\, Australia
CATEGORIES:Free,Parenting Group
ATTACH;FMTTYPE=image/png:https://buggybuddys.com.au/wp-content/uploads/2026/04/Baby-Makes-3-Workshop.png
END:VEVENT
END:VCALENDAR