BEGIN:VCALENDAR
VERSION:2.0
PRODID:-//Buggybuddys guide for families in Perth - ECPv6.15.11//NONSGML v1.0//EN
CALSCALE:GREGORIAN
METHOD:PUBLISH
X-ORIGINAL-URL:https://buggybuddys.com.au
X-WR-CALDESC:Events for Buggybuddys guide for families in Perth
REFRESH-INTERVAL;VALUE=DURATION:PT1H
X-Robots-Tag:noindex
X-PUBLISHED-TTL:PT1H
BEGIN:VTIMEZONE
TZID:Australia/Perth
BEGIN:STANDARD
TZOFFSETFROM:+0800
TZOFFSETTO:+0800
TZNAME:AWST
DTSTART:20250101T000000
END:STANDARD
END:VTIMEZONE
BEGIN:VEVENT
DTSTART;TZID=Australia/Perth:20260430T140000
DTEND;TZID=Australia/Perth:20260430T160000
DTSTAMP:20260425T063533
CREATED:20260303T141157Z
LAST-MODIFIED:20260303T141157Z
UID:10075069-1777557600-1777564800@buggybuddys.com.au
SUMMARY:Board Games Group
DESCRIPTION:Board Games – Fun for everyone \nFor anyone who loves to play board games or wants to learn to play. Bring a friend or neighbour. Games like bingo\, Mexican train and scrabble are played regularly.
URL:https://buggybuddys.com.au/perth-event/board-games-group/2026-04-30/
LOCATION:Blue Gum Community Centre\, 33 Moolyeen Road\, Brentwood\, WA\, 6153\, Australia
CATEGORIES:Social,Teens
ATTACH;FMTTYPE=image/jpeg:https://buggybuddys.com.au/wp-content/uploads/2026/03/Board-Games-Group.jpg
END:VEVENT
BEGIN:VEVENT
DTSTART;TZID=Australia/Perth:20260507T140000
DTEND;TZID=Australia/Perth:20260507T160000
DTSTAMP:20260425T063533
CREATED:20260303T141157Z
LAST-MODIFIED:20260303T141157Z
UID:10075070-1778162400-1778169600@buggybuddys.com.au
SUMMARY:Board Games Group
DESCRIPTION:Board Games – Fun for everyone \nFor anyone who loves to play board games or wants to learn to play. Bring a friend or neighbour. Games like bingo\, Mexican train and scrabble are played regularly.
URL:https://buggybuddys.com.au/perth-event/board-games-group/2026-05-07/
LOCATION:Blue Gum Community Centre\, 33 Moolyeen Road\, Brentwood\, WA\, 6153\, Australia
CATEGORIES:Social,Teens
ATTACH;FMTTYPE=image/jpeg:https://buggybuddys.com.au/wp-content/uploads/2026/03/Board-Games-Group.jpg
END:VEVENT
BEGIN:VEVENT
DTSTART;TZID=Australia/Perth:20260514T140000
DTEND;TZID=Australia/Perth:20260514T160000
DTSTAMP:20260425T063533
CREATED:20260303T141157Z
LAST-MODIFIED:20260303T141157Z
UID:10075071-1778767200-1778774400@buggybuddys.com.au
SUMMARY:Board Games Group
DESCRIPTION:Board Games – Fun for everyone \nFor anyone who loves to play board games or wants to learn to play. Bring a friend or neighbour. Games like bingo\, Mexican train and scrabble are played regularly.
URL:https://buggybuddys.com.au/perth-event/board-games-group/2026-05-14/
LOCATION:Blue Gum Community Centre\, 33 Moolyeen Road\, Brentwood\, WA\, 6153\, Australia
CATEGORIES:Social,Teens
ATTACH;FMTTYPE=image/jpeg:https://buggybuddys.com.au/wp-content/uploads/2026/03/Board-Games-Group.jpg
END:VEVENT
BEGIN:VEVENT
DTSTART;TZID=Australia/Perth:20260521T140000
DTEND;TZID=Australia/Perth:20260521T160000
DTSTAMP:20260425T063533
CREATED:20260303T141157Z
LAST-MODIFIED:20260303T141157Z
UID:10075072-1779372000-1779379200@buggybuddys.com.au
SUMMARY:Board Games Group
DESCRIPTION:Board Games – Fun for everyone \nFor anyone who loves to play board games or wants to learn to play. Bring a friend or neighbour. Games like bingo\, Mexican train and scrabble are played regularly.
URL:https://buggybuddys.com.au/perth-event/board-games-group/2026-05-21/
LOCATION:Blue Gum Community Centre\, 33 Moolyeen Road\, Brentwood\, WA\, 6153\, Australia
CATEGORIES:Social,Teens
ATTACH;FMTTYPE=image/jpeg:https://buggybuddys.com.au/wp-content/uploads/2026/03/Board-Games-Group.jpg
END:VEVENT
BEGIN:VEVENT
DTSTART;TZID=Australia/Perth:20260528T140000
DTEND;TZID=Australia/Perth:20260528T160000
DTSTAMP:20260425T063533
CREATED:20260303T141157Z
LAST-MODIFIED:20260303T141157Z
UID:10075073-1779976800-1779984000@buggybuddys.com.au
SUMMARY:Board Games Group
DESCRIPTION:Board Games – Fun for everyone \nFor anyone who loves to play board games or wants to learn to play. Bring a friend or neighbour. Games like bingo\, Mexican train and scrabble are played regularly.
URL:https://buggybuddys.com.au/perth-event/board-games-group/2026-05-28/
LOCATION:Blue Gum Community Centre\, 33 Moolyeen Road\, Brentwood\, WA\, 6153\, Australia
CATEGORIES:Social,Teens
ATTACH;FMTTYPE=image/jpeg:https://buggybuddys.com.au/wp-content/uploads/2026/03/Board-Games-Group.jpg
END:VEVENT
BEGIN:VEVENT
DTSTART;TZID=Australia/Perth:20260604T140000
DTEND;TZID=Australia/Perth:20260604T160000
DTSTAMP:20260425T063533
CREATED:20260303T141157Z
LAST-MODIFIED:20260303T141157Z
UID:10075074-1780581600-1780588800@buggybuddys.com.au
SUMMARY:Board Games Group
DESCRIPTION:Board Games – Fun for everyone \nFor anyone who loves to play board games or wants to learn to play. Bring a friend or neighbour. Games like bingo\, Mexican train and scrabble are played regularly.
URL:https://buggybuddys.com.au/perth-event/board-games-group/2026-06-04/
LOCATION:Blue Gum Community Centre\, 33 Moolyeen Road\, Brentwood\, WA\, 6153\, Australia
CATEGORIES:Social,Teens
ATTACH;FMTTYPE=image/jpeg:https://buggybuddys.com.au/wp-content/uploads/2026/03/Board-Games-Group.jpg
END:VEVENT
BEGIN:VEVENT
DTSTART;TZID=Australia/Perth:20260611T140000
DTEND;TZID=Australia/Perth:20260611T160000
DTSTAMP:20260425T063533
CREATED:20260303T141157Z
LAST-MODIFIED:20260303T141157Z
UID:10075075-1781186400-1781193600@buggybuddys.com.au
SUMMARY:Board Games Group
DESCRIPTION:Board Games – Fun for everyone \nFor anyone who loves to play board games or wants to learn to play. Bring a friend or neighbour. Games like bingo\, Mexican train and scrabble are played regularly.
URL:https://buggybuddys.com.au/perth-event/board-games-group/2026-06-11/
LOCATION:Blue Gum Community Centre\, 33 Moolyeen Road\, Brentwood\, WA\, 6153\, Australia
CATEGORIES:Social,Teens
ATTACH;FMTTYPE=image/jpeg:https://buggybuddys.com.au/wp-content/uploads/2026/03/Board-Games-Group.jpg
END:VEVENT
BEGIN:VEVENT
DTSTART;TZID=Australia/Perth:20260618T140000
DTEND;TZID=Australia/Perth:20260618T160000
DTSTAMP:20260425T063533
CREATED:20260303T141157Z
LAST-MODIFIED:20260303T141157Z
UID:10075076-1781791200-1781798400@buggybuddys.com.au
SUMMARY:Board Games Group
DESCRIPTION:Board Games – Fun for everyone \nFor anyone who loves to play board games or wants to learn to play. Bring a friend or neighbour. Games like bingo\, Mexican train and scrabble are played regularly.
URL:https://buggybuddys.com.au/perth-event/board-games-group/2026-06-18/
LOCATION:Blue Gum Community Centre\, 33 Moolyeen Road\, Brentwood\, WA\, 6153\, Australia
CATEGORIES:Social,Teens
ATTACH;FMTTYPE=image/jpeg:https://buggybuddys.com.au/wp-content/uploads/2026/03/Board-Games-Group.jpg
END:VEVENT
BEGIN:VEVENT
DTSTART;TZID=Australia/Perth:20260625T140000
DTEND;TZID=Australia/Perth:20260625T160000
DTSTAMP:20260425T063533
CREATED:20260303T141157Z
LAST-MODIFIED:20260303T141157Z
UID:10075077-1782396000-1782403200@buggybuddys.com.au
SUMMARY:Board Games Group
DESCRIPTION:Board Games – Fun for everyone \nFor anyone who loves to play board games or wants to learn to play. Bring a friend or neighbour. Games like bingo\, Mexican train and scrabble are played regularly.
URL:https://buggybuddys.com.au/perth-event/board-games-group/2026-06-25/
LOCATION:Blue Gum Community Centre\, 33 Moolyeen Road\, Brentwood\, WA\, 6153\, Australia
CATEGORIES:Social,Teens
ATTACH;FMTTYPE=image/jpeg:https://buggybuddys.com.au/wp-content/uploads/2026/03/Board-Games-Group.jpg
END:VEVENT
BEGIN:VEVENT
DTSTART;TZID=Australia/Perth:20260702T140000
DTEND;TZID=Australia/Perth:20260702T160000
DTSTAMP:20260425T063533
CREATED:20260303T141157Z
LAST-MODIFIED:20260303T141157Z
UID:10075078-1783000800-1783008000@buggybuddys.com.au
SUMMARY:Board Games Group
DESCRIPTION:Board Games – Fun for everyone \nFor anyone who loves to play board games or wants to learn to play. Bring a friend or neighbour. Games like bingo\, Mexican train and scrabble are played regularly.
URL:https://buggybuddys.com.au/perth-event/board-games-group/2026-07-02/
LOCATION:Blue Gum Community Centre\, 33 Moolyeen Road\, Brentwood\, WA\, 6153\, Australia
CATEGORIES:Social,Teens
ATTACH;FMTTYPE=image/jpeg:https://buggybuddys.com.au/wp-content/uploads/2026/03/Board-Games-Group.jpg
END:VEVENT
BEGIN:VEVENT
DTSTART;TZID=Australia/Perth:20260709T140000
DTEND;TZID=Australia/Perth:20260709T160000
DTSTAMP:20260425T063533
CREATED:20260303T141157Z
LAST-MODIFIED:20260303T141157Z
UID:10075079-1783605600-1783612800@buggybuddys.com.au
SUMMARY:Board Games Group
DESCRIPTION:Board Games – Fun for everyone \nFor anyone who loves to play board games or wants to learn to play. Bring a friend or neighbour. Games like bingo\, Mexican train and scrabble are played regularly.
URL:https://buggybuddys.com.au/perth-event/board-games-group/2026-07-09/
LOCATION:Blue Gum Community Centre\, 33 Moolyeen Road\, Brentwood\, WA\, 6153\, Australia
CATEGORIES:Social,Teens
ATTACH;FMTTYPE=image/jpeg:https://buggybuddys.com.au/wp-content/uploads/2026/03/Board-Games-Group.jpg
END:VEVENT
BEGIN:VEVENT
DTSTART;TZID=Australia/Perth:20260716T140000
DTEND;TZID=Australia/Perth:20260716T160000
DTSTAMP:20260425T063533
CREATED:20260303T141157Z
LAST-MODIFIED:20260303T141157Z
UID:10075080-1784210400-1784217600@buggybuddys.com.au
SUMMARY:Board Games Group
DESCRIPTION:Board Games – Fun for everyone \nFor anyone who loves to play board games or wants to learn to play. Bring a friend or neighbour. Games like bingo\, Mexican train and scrabble are played regularly.
URL:https://buggybuddys.com.au/perth-event/board-games-group/2026-07-16/
LOCATION:Blue Gum Community Centre\, 33 Moolyeen Road\, Brentwood\, WA\, 6153\, Australia
CATEGORIES:Social,Teens
ATTACH;FMTTYPE=image/jpeg:https://buggybuddys.com.au/wp-content/uploads/2026/03/Board-Games-Group.jpg
END:VEVENT
BEGIN:VEVENT
DTSTART;TZID=Australia/Perth:20260723T140000
DTEND;TZID=Australia/Perth:20260723T160000
DTSTAMP:20260425T063533
CREATED:20260303T141157Z
LAST-MODIFIED:20260303T141157Z
UID:10075081-1784815200-1784822400@buggybuddys.com.au
SUMMARY:Board Games Group
DESCRIPTION:Board Games – Fun for everyone \nFor anyone who loves to play board games or wants to learn to play. Bring a friend or neighbour. Games like bingo\, Mexican train and scrabble are played regularly.
URL:https://buggybuddys.com.au/perth-event/board-games-group/2026-07-23/
LOCATION:Blue Gum Community Centre\, 33 Moolyeen Road\, Brentwood\, WA\, 6153\, Australia
CATEGORIES:Social,Teens
ATTACH;FMTTYPE=image/jpeg:https://buggybuddys.com.au/wp-content/uploads/2026/03/Board-Games-Group.jpg
END:VEVENT
BEGIN:VEVENT
DTSTART;TZID=Australia/Perth:20260730T140000
DTEND;TZID=Australia/Perth:20260730T160000
DTSTAMP:20260425T063533
CREATED:20260303T141157Z
LAST-MODIFIED:20260303T141157Z
UID:10075082-1785420000-1785427200@buggybuddys.com.au
SUMMARY:Board Games Group
DESCRIPTION:Board Games – Fun for everyone \nFor anyone who loves to play board games or wants to learn to play. Bring a friend or neighbour. Games like bingo\, Mexican train and scrabble are played regularly.
URL:https://buggybuddys.com.au/perth-event/board-games-group/2026-07-30/
LOCATION:Blue Gum Community Centre\, 33 Moolyeen Road\, Brentwood\, WA\, 6153\, Australia
CATEGORIES:Social,Teens
ATTACH;FMTTYPE=image/jpeg:https://buggybuddys.com.au/wp-content/uploads/2026/03/Board-Games-Group.jpg
END:VEVENT
BEGIN:VEVENT
DTSTART;TZID=Australia/Perth:20260806T140000
DTEND;TZID=Australia/Perth:20260806T160000
DTSTAMP:20260425T063533
CREATED:20260303T141157Z
LAST-MODIFIED:20260303T141157Z
UID:10075083-1786024800-1786032000@buggybuddys.com.au
SUMMARY:Board Games Group
DESCRIPTION:Board Games – Fun for everyone \nFor anyone who loves to play board games or wants to learn to play. Bring a friend or neighbour. Games like bingo\, Mexican train and scrabble are played regularly.
URL:https://buggybuddys.com.au/perth-event/board-games-group/2026-08-06/
LOCATION:Blue Gum Community Centre\, 33 Moolyeen Road\, Brentwood\, WA\, 6153\, Australia
CATEGORIES:Social,Teens
ATTACH;FMTTYPE=image/jpeg:https://buggybuddys.com.au/wp-content/uploads/2026/03/Board-Games-Group.jpg
END:VEVENT
BEGIN:VEVENT
DTSTART;TZID=Australia/Perth:20260813T140000
DTEND;TZID=Australia/Perth:20260813T160000
DTSTAMP:20260425T063533
CREATED:20260303T141157Z
LAST-MODIFIED:20260303T141157Z
UID:10075084-1786629600-1786636800@buggybuddys.com.au
SUMMARY:Board Games Group
DESCRIPTION:Board Games – Fun for everyone \nFor anyone who loves to play board games or wants to learn to play. Bring a friend or neighbour. Games like bingo\, Mexican train and scrabble are played regularly.
URL:https://buggybuddys.com.au/perth-event/board-games-group/2026-08-13/
LOCATION:Blue Gum Community Centre\, 33 Moolyeen Road\, Brentwood\, WA\, 6153\, Australia
CATEGORIES:Social,Teens
ATTACH;FMTTYPE=image/jpeg:https://buggybuddys.com.au/wp-content/uploads/2026/03/Board-Games-Group.jpg
END:VEVENT
BEGIN:VEVENT
DTSTART;TZID=Australia/Perth:20260820T140000
DTEND;TZID=Australia/Perth:20260820T160000
DTSTAMP:20260425T063533
CREATED:20260303T141157Z
LAST-MODIFIED:20260303T141157Z
UID:10075085-1787234400-1787241600@buggybuddys.com.au
SUMMARY:Board Games Group
DESCRIPTION:Board Games – Fun for everyone \nFor anyone who loves to play board games or wants to learn to play. Bring a friend or neighbour. Games like bingo\, Mexican train and scrabble are played regularly.
URL:https://buggybuddys.com.au/perth-event/board-games-group/2026-08-20/
LOCATION:Blue Gum Community Centre\, 33 Moolyeen Road\, Brentwood\, WA\, 6153\, Australia
CATEGORIES:Social,Teens
ATTACH;FMTTYPE=image/jpeg:https://buggybuddys.com.au/wp-content/uploads/2026/03/Board-Games-Group.jpg
END:VEVENT
BEGIN:VEVENT
DTSTART;TZID=Australia/Perth:20260827T140000
DTEND;TZID=Australia/Perth:20260827T160000
DTSTAMP:20260425T063533
CREATED:20260303T141157Z
LAST-MODIFIED:20260303T141157Z
UID:10075086-1787839200-1787846400@buggybuddys.com.au
SUMMARY:Board Games Group
DESCRIPTION:Board Games – Fun for everyone \nFor anyone who loves to play board games or wants to learn to play. Bring a friend or neighbour. Games like bingo\, Mexican train and scrabble are played regularly.
URL:https://buggybuddys.com.au/perth-event/board-games-group/2026-08-27/
LOCATION:Blue Gum Community Centre\, 33 Moolyeen Road\, Brentwood\, WA\, 6153\, Australia
CATEGORIES:Social,Teens
ATTACH;FMTTYPE=image/jpeg:https://buggybuddys.com.au/wp-content/uploads/2026/03/Board-Games-Group.jpg
END:VEVENT
BEGIN:VEVENT
DTSTART;TZID=Australia/Perth:20260903T140000
DTEND;TZID=Australia/Perth:20260903T160000
DTSTAMP:20260425T063533
CREATED:20260303T141157Z
LAST-MODIFIED:20260303T141157Z
UID:10075087-1788444000-1788451200@buggybuddys.com.au
SUMMARY:Board Games Group
DESCRIPTION:Board Games – Fun for everyone \nFor anyone who loves to play board games or wants to learn to play. Bring a friend or neighbour. Games like bingo\, Mexican train and scrabble are played regularly.
URL:https://buggybuddys.com.au/perth-event/board-games-group/2026-09-03/
LOCATION:Blue Gum Community Centre\, 33 Moolyeen Road\, Brentwood\, WA\, 6153\, Australia
CATEGORIES:Social,Teens
ATTACH;FMTTYPE=image/jpeg:https://buggybuddys.com.au/wp-content/uploads/2026/03/Board-Games-Group.jpg
END:VEVENT
BEGIN:VEVENT
DTSTART;TZID=Australia/Perth:20260910T140000
DTEND;TZID=Australia/Perth:20260910T160000
DTSTAMP:20260425T063533
CREATED:20260303T141157Z
LAST-MODIFIED:20260303T141157Z
UID:10075088-1789048800-1789056000@buggybuddys.com.au
SUMMARY:Board Games Group
DESCRIPTION:Board Games – Fun for everyone \nFor anyone who loves to play board games or wants to learn to play. Bring a friend or neighbour. Games like bingo\, Mexican train and scrabble are played regularly.
URL:https://buggybuddys.com.au/perth-event/board-games-group/2026-09-10/
LOCATION:Blue Gum Community Centre\, 33 Moolyeen Road\, Brentwood\, WA\, 6153\, Australia
CATEGORIES:Social,Teens
ATTACH;FMTTYPE=image/jpeg:https://buggybuddys.com.au/wp-content/uploads/2026/03/Board-Games-Group.jpg
END:VEVENT
BEGIN:VEVENT
DTSTART;TZID=Australia/Perth:20260917T140000
DTEND;TZID=Australia/Perth:20260917T160000
DTSTAMP:20260425T063533
CREATED:20260303T141157Z
LAST-MODIFIED:20260303T141157Z
UID:10075089-1789653600-1789660800@buggybuddys.com.au
SUMMARY:Board Games Group
DESCRIPTION:Board Games – Fun for everyone \nFor anyone who loves to play board games or wants to learn to play. Bring a friend or neighbour. Games like bingo\, Mexican train and scrabble are played regularly.
URL:https://buggybuddys.com.au/perth-event/board-games-group/2026-09-17/
LOCATION:Blue Gum Community Centre\, 33 Moolyeen Road\, Brentwood\, WA\, 6153\, Australia
CATEGORIES:Social,Teens
ATTACH;FMTTYPE=image/jpeg:https://buggybuddys.com.au/wp-content/uploads/2026/03/Board-Games-Group.jpg
END:VEVENT
BEGIN:VEVENT
DTSTART;TZID=Australia/Perth:20260924T140000
DTEND;TZID=Australia/Perth:20260924T160000
DTSTAMP:20260425T063533
CREATED:20260303T141157Z
LAST-MODIFIED:20260303T141157Z
UID:10075090-1790258400-1790265600@buggybuddys.com.au
SUMMARY:Board Games Group
DESCRIPTION:Board Games – Fun for everyone \nFor anyone who loves to play board games or wants to learn to play. Bring a friend or neighbour. Games like bingo\, Mexican train and scrabble are played regularly.
URL:https://buggybuddys.com.au/perth-event/board-games-group/2026-09-24/
LOCATION:Blue Gum Community Centre\, 33 Moolyeen Road\, Brentwood\, WA\, 6153\, Australia
CATEGORIES:Social,Teens
ATTACH;FMTTYPE=image/jpeg:https://buggybuddys.com.au/wp-content/uploads/2026/03/Board-Games-Group.jpg
END:VEVENT
BEGIN:VEVENT
DTSTART;TZID=Australia/Perth:20261001T140000
DTEND;TZID=Australia/Perth:20261001T160000
DTSTAMP:20260425T063533
CREATED:20260303T141157Z
LAST-MODIFIED:20260303T141157Z
UID:10075091-1790863200-1790870400@buggybuddys.com.au
SUMMARY:Board Games Group
DESCRIPTION:Board Games – Fun for everyone \nFor anyone who loves to play board games or wants to learn to play. Bring a friend or neighbour. Games like bingo\, Mexican train and scrabble are played regularly.
URL:https://buggybuddys.com.au/perth-event/board-games-group/2026-10-01/
LOCATION:Blue Gum Community Centre\, 33 Moolyeen Road\, Brentwood\, WA\, 6153\, Australia
CATEGORIES:Social,Teens
ATTACH;FMTTYPE=image/jpeg:https://buggybuddys.com.au/wp-content/uploads/2026/03/Board-Games-Group.jpg
END:VEVENT
BEGIN:VEVENT
DTSTART;TZID=Australia/Perth:20261008T140000
DTEND;TZID=Australia/Perth:20261008T160000
DTSTAMP:20260425T063533
CREATED:20260303T141157Z
LAST-MODIFIED:20260303T141157Z
UID:10075092-1791468000-1791475200@buggybuddys.com.au
SUMMARY:Board Games Group
DESCRIPTION:Board Games – Fun for everyone \nFor anyone who loves to play board games or wants to learn to play. Bring a friend or neighbour. Games like bingo\, Mexican train and scrabble are played regularly.
URL:https://buggybuddys.com.au/perth-event/board-games-group/2026-10-08/
LOCATION:Blue Gum Community Centre\, 33 Moolyeen Road\, Brentwood\, WA\, 6153\, Australia
CATEGORIES:Social,Teens
ATTACH;FMTTYPE=image/jpeg:https://buggybuddys.com.au/wp-content/uploads/2026/03/Board-Games-Group.jpg
END:VEVENT
BEGIN:VEVENT
DTSTART;TZID=Australia/Perth:20261015T140000
DTEND;TZID=Australia/Perth:20261015T160000
DTSTAMP:20260425T063533
CREATED:20260303T141157Z
LAST-MODIFIED:20260303T141157Z
UID:10075093-1792072800-1792080000@buggybuddys.com.au
SUMMARY:Board Games Group
DESCRIPTION:Board Games – Fun for everyone \nFor anyone who loves to play board games or wants to learn to play. Bring a friend or neighbour. Games like bingo\, Mexican train and scrabble are played regularly.
URL:https://buggybuddys.com.au/perth-event/board-games-group/2026-10-15/
LOCATION:Blue Gum Community Centre\, 33 Moolyeen Road\, Brentwood\, WA\, 6153\, Australia
CATEGORIES:Social,Teens
ATTACH;FMTTYPE=image/jpeg:https://buggybuddys.com.au/wp-content/uploads/2026/03/Board-Games-Group.jpg
END:VEVENT
BEGIN:VEVENT
DTSTART;TZID=Australia/Perth:20261022T140000
DTEND;TZID=Australia/Perth:20261022T160000
DTSTAMP:20260425T063533
CREATED:20260303T141157Z
LAST-MODIFIED:20260303T141157Z
UID:10075094-1792677600-1792684800@buggybuddys.com.au
SUMMARY:Board Games Group
DESCRIPTION:Board Games – Fun for everyone \nFor anyone who loves to play board games or wants to learn to play. Bring a friend or neighbour. Games like bingo\, Mexican train and scrabble are played regularly.
URL:https://buggybuddys.com.au/perth-event/board-games-group/2026-10-22/
LOCATION:Blue Gum Community Centre\, 33 Moolyeen Road\, Brentwood\, WA\, 6153\, Australia
CATEGORIES:Social,Teens
ATTACH;FMTTYPE=image/jpeg:https://buggybuddys.com.au/wp-content/uploads/2026/03/Board-Games-Group.jpg
END:VEVENT
BEGIN:VEVENT
DTSTART;TZID=Australia/Perth:20261029T140000
DTEND;TZID=Australia/Perth:20261029T160000
DTSTAMP:20260425T063533
CREATED:20260303T141157Z
LAST-MODIFIED:20260303T141157Z
UID:10075095-1793282400-1793289600@buggybuddys.com.au
SUMMARY:Board Games Group
DESCRIPTION:Board Games – Fun for everyone \nFor anyone who loves to play board games or wants to learn to play. Bring a friend or neighbour. Games like bingo\, Mexican train and scrabble are played regularly.
URL:https://buggybuddys.com.au/perth-event/board-games-group/2026-10-29/
LOCATION:Blue Gum Community Centre\, 33 Moolyeen Road\, Brentwood\, WA\, 6153\, Australia
CATEGORIES:Social,Teens
ATTACH;FMTTYPE=image/jpeg:https://buggybuddys.com.au/wp-content/uploads/2026/03/Board-Games-Group.jpg
END:VEVENT
BEGIN:VEVENT
DTSTART;TZID=Australia/Perth:20261105T140000
DTEND;TZID=Australia/Perth:20261105T160000
DTSTAMP:20260425T063533
CREATED:20260303T141157Z
LAST-MODIFIED:20260303T141157Z
UID:10075096-1793887200-1793894400@buggybuddys.com.au
SUMMARY:Board Games Group
DESCRIPTION:Board Games – Fun for everyone \nFor anyone who loves to play board games or wants to learn to play. Bring a friend or neighbour. Games like bingo\, Mexican train and scrabble are played regularly.
URL:https://buggybuddys.com.au/perth-event/board-games-group/2026-11-05/
LOCATION:Blue Gum Community Centre\, 33 Moolyeen Road\, Brentwood\, WA\, 6153\, Australia
CATEGORIES:Social,Teens
ATTACH;FMTTYPE=image/jpeg:https://buggybuddys.com.au/wp-content/uploads/2026/03/Board-Games-Group.jpg
END:VEVENT
BEGIN:VEVENT
DTSTART;TZID=Australia/Perth:20261112T140000
DTEND;TZID=Australia/Perth:20261112T160000
DTSTAMP:20260425T063533
CREATED:20260303T141157Z
LAST-MODIFIED:20260303T141157Z
UID:10075097-1794492000-1794499200@buggybuddys.com.au
SUMMARY:Board Games Group
DESCRIPTION:Board Games – Fun for everyone \nFor anyone who loves to play board games or wants to learn to play. Bring a friend or neighbour. Games like bingo\, Mexican train and scrabble are played regularly.
URL:https://buggybuddys.com.au/perth-event/board-games-group/2026-11-12/
LOCATION:Blue Gum Community Centre\, 33 Moolyeen Road\, Brentwood\, WA\, 6153\, Australia
CATEGORIES:Social,Teens
ATTACH;FMTTYPE=image/jpeg:https://buggybuddys.com.au/wp-content/uploads/2026/03/Board-Games-Group.jpg
END:VEVENT
BEGIN:VEVENT
DTSTART;TZID=Australia/Perth:20261119T140000
DTEND;TZID=Australia/Perth:20261119T160000
DTSTAMP:20260425T063533
CREATED:20260303T141157Z
LAST-MODIFIED:20260303T141157Z
UID:10075098-1795096800-1795104000@buggybuddys.com.au
SUMMARY:Board Games Group
DESCRIPTION:Board Games – Fun for everyone \nFor anyone who loves to play board games or wants to learn to play. Bring a friend or neighbour. Games like bingo\, Mexican train and scrabble are played regularly.
URL:https://buggybuddys.com.au/perth-event/board-games-group/2026-11-19/
LOCATION:Blue Gum Community Centre\, 33 Moolyeen Road\, Brentwood\, WA\, 6153\, Australia
CATEGORIES:Social,Teens
ATTACH;FMTTYPE=image/jpeg:https://buggybuddys.com.au/wp-content/uploads/2026/03/Board-Games-Group.jpg
END:VEVENT
END:VCALENDAR