BEGIN:VCALENDAR
VERSION:2.0
PRODID:-//Buggybuddys guide for families in Perth - ECPv6.15.11//NONSGML v1.0//EN
CALSCALE:GREGORIAN
METHOD:PUBLISH
X-ORIGINAL-URL:https://buggybuddys.com.au
X-WR-CALDESC:Events for Buggybuddys guide for families in Perth
REFRESH-INTERVAL;VALUE=DURATION:PT1H
X-Robots-Tag:noindex
X-PUBLISHED-TTL:PT1H
BEGIN:VTIMEZONE
TZID:Australia/Perth
BEGIN:STANDARD
TZOFFSETFROM:+0800
TZOFFSETTO:+0800
TZNAME:AWST
DTSTART:20250101T000000
END:STANDARD
END:VTIMEZONE
BEGIN:VEVENT
DTSTART;TZID=Australia/Perth:20260422T090000
DTEND;TZID=Australia/Perth:20260422T110000
DTSTAMP:20260422T051133
CREATED:20260222T063128Z
LAST-MODIFIED:20260222T063128Z
UID:10074660-1776848400-1776855600@buggybuddys.com.au
SUMMARY:Park Play
DESCRIPTION:Join us for a Park Play session and let the fun begin! It’s the perfect opportunity to bring your kids and connect with other local families. Our sessions are packed with exciting activities like sensory play\, big games\, sports equipment\, and much more. Designed for families with children up to 10 years old\, Park Play ensures there’s something for everyone to enjoy. Don’t forget to dress for the weather and bring along some drinks and snacks. We can’t wait to see you there for a time filled with laughter and play! \nAs a drop-in style program\, no registration is required to attend a Park Play session. While the Families team make every effort to support community safety\, Park Play sessions are not supervised\, and parents and carers are responsible for supervising their children at all times.  \n  \nPark Play Days\, Times and Locations\nPark Play is held at various City of Gosnells parks throughout the year. Please note Park Play does not operate on Western Australian public holidays listed on the Government of Western Australia’s website. Click on the green button to view where Park Play is being held during the school term.  \nSchool Terms\nPark Play locations\n  \nSchool Holidays\nCheck out the Park Play (School Holidays) event page to find out when this program will be running during the school holidays. 
URL:https://buggybuddys.com.au/perth-event/park-play/2026-04-22/
CATEGORIES:Family Event,Free,Kids Term Activities,Play,Play in the Park
ATTACH;FMTTYPE=image/png:https://buggybuddys.com.au/wp-content/uploads/2026/02/Park-Play.png
END:VEVENT
BEGIN:VEVENT
DTSTART;TZID=Australia/Perth:20260429T090000
DTEND;TZID=Australia/Perth:20260429T110000
DTSTAMP:20260422T051133
CREATED:20260222T063128Z
LAST-MODIFIED:20260222T063128Z
UID:10074661-1777453200-1777460400@buggybuddys.com.au
SUMMARY:Park Play
DESCRIPTION:Join us for a Park Play session and let the fun begin! It’s the perfect opportunity to bring your kids and connect with other local families. Our sessions are packed with exciting activities like sensory play\, big games\, sports equipment\, and much more. Designed for families with children up to 10 years old\, Park Play ensures there’s something for everyone to enjoy. Don’t forget to dress for the weather and bring along some drinks and snacks. We can’t wait to see you there for a time filled with laughter and play! \nAs a drop-in style program\, no registration is required to attend a Park Play session. While the Families team make every effort to support community safety\, Park Play sessions are not supervised\, and parents and carers are responsible for supervising their children at all times.  \n  \nPark Play Days\, Times and Locations\nPark Play is held at various City of Gosnells parks throughout the year. Please note Park Play does not operate on Western Australian public holidays listed on the Government of Western Australia’s website. Click on the green button to view where Park Play is being held during the school term.  \nSchool Terms\nPark Play locations\n  \nSchool Holidays\nCheck out the Park Play (School Holidays) event page to find out when this program will be running during the school holidays. 
URL:https://buggybuddys.com.au/perth-event/park-play/2026-04-29/
CATEGORIES:Family Event,Free,Kids Term Activities,Play,Play in the Park
ATTACH;FMTTYPE=image/png:https://buggybuddys.com.au/wp-content/uploads/2026/02/Park-Play.png
END:VEVENT
BEGIN:VEVENT
DTSTART;TZID=Australia/Perth:20260506T090000
DTEND;TZID=Australia/Perth:20260506T110000
DTSTAMP:20260422T051133
CREATED:20260222T063128Z
LAST-MODIFIED:20260222T063128Z
UID:10074662-1778058000-1778065200@buggybuddys.com.au
SUMMARY:Park Play
DESCRIPTION:Join us for a Park Play session and let the fun begin! It’s the perfect opportunity to bring your kids and connect with other local families. Our sessions are packed with exciting activities like sensory play\, big games\, sports equipment\, and much more. Designed for families with children up to 10 years old\, Park Play ensures there’s something for everyone to enjoy. Don’t forget to dress for the weather and bring along some drinks and snacks. We can’t wait to see you there for a time filled with laughter and play! \nAs a drop-in style program\, no registration is required to attend a Park Play session. While the Families team make every effort to support community safety\, Park Play sessions are not supervised\, and parents and carers are responsible for supervising their children at all times.  \n  \nPark Play Days\, Times and Locations\nPark Play is held at various City of Gosnells parks throughout the year. Please note Park Play does not operate on Western Australian public holidays listed on the Government of Western Australia’s website. Click on the green button to view where Park Play is being held during the school term.  \nSchool Terms\nPark Play locations\n  \nSchool Holidays\nCheck out the Park Play (School Holidays) event page to find out when this program will be running during the school holidays. 
URL:https://buggybuddys.com.au/perth-event/park-play/2026-05-06/
CATEGORIES:Family Event,Free,Kids Term Activities,Play,Play in the Park
ATTACH;FMTTYPE=image/png:https://buggybuddys.com.au/wp-content/uploads/2026/02/Park-Play.png
END:VEVENT
BEGIN:VEVENT
DTSTART;TZID=Australia/Perth:20260513T090000
DTEND;TZID=Australia/Perth:20260513T110000
DTSTAMP:20260422T051133
CREATED:20260222T063128Z
LAST-MODIFIED:20260222T063128Z
UID:10074663-1778662800-1778670000@buggybuddys.com.au
SUMMARY:Park Play
DESCRIPTION:Join us for a Park Play session and let the fun begin! It’s the perfect opportunity to bring your kids and connect with other local families. Our sessions are packed with exciting activities like sensory play\, big games\, sports equipment\, and much more. Designed for families with children up to 10 years old\, Park Play ensures there’s something for everyone to enjoy. Don’t forget to dress for the weather and bring along some drinks and snacks. We can’t wait to see you there for a time filled with laughter and play! \nAs a drop-in style program\, no registration is required to attend a Park Play session. While the Families team make every effort to support community safety\, Park Play sessions are not supervised\, and parents and carers are responsible for supervising their children at all times.  \n  \nPark Play Days\, Times and Locations\nPark Play is held at various City of Gosnells parks throughout the year. Please note Park Play does not operate on Western Australian public holidays listed on the Government of Western Australia’s website. Click on the green button to view where Park Play is being held during the school term.  \nSchool Terms\nPark Play locations\n  \nSchool Holidays\nCheck out the Park Play (School Holidays) event page to find out when this program will be running during the school holidays. 
URL:https://buggybuddys.com.au/perth-event/park-play/2026-05-13/
CATEGORIES:Family Event,Free,Kids Term Activities,Play,Play in the Park
ATTACH;FMTTYPE=image/png:https://buggybuddys.com.au/wp-content/uploads/2026/02/Park-Play.png
END:VEVENT
BEGIN:VEVENT
DTSTART;TZID=Australia/Perth:20260520T090000
DTEND;TZID=Australia/Perth:20260520T110000
DTSTAMP:20260422T051133
CREATED:20260222T063128Z
LAST-MODIFIED:20260222T063128Z
UID:10074664-1779267600-1779274800@buggybuddys.com.au
SUMMARY:Park Play
DESCRIPTION:Join us for a Park Play session and let the fun begin! It’s the perfect opportunity to bring your kids and connect with other local families. Our sessions are packed with exciting activities like sensory play\, big games\, sports equipment\, and much more. Designed for families with children up to 10 years old\, Park Play ensures there’s something for everyone to enjoy. Don’t forget to dress for the weather and bring along some drinks and snacks. We can’t wait to see you there for a time filled with laughter and play! \nAs a drop-in style program\, no registration is required to attend a Park Play session. While the Families team make every effort to support community safety\, Park Play sessions are not supervised\, and parents and carers are responsible for supervising their children at all times.  \n  \nPark Play Days\, Times and Locations\nPark Play is held at various City of Gosnells parks throughout the year. Please note Park Play does not operate on Western Australian public holidays listed on the Government of Western Australia’s website. Click on the green button to view where Park Play is being held during the school term.  \nSchool Terms\nPark Play locations\n  \nSchool Holidays\nCheck out the Park Play (School Holidays) event page to find out when this program will be running during the school holidays. 
URL:https://buggybuddys.com.au/perth-event/park-play/2026-05-20/
CATEGORIES:Family Event,Free,Kids Term Activities,Play,Play in the Park
ATTACH;FMTTYPE=image/png:https://buggybuddys.com.au/wp-content/uploads/2026/02/Park-Play.png
END:VEVENT
BEGIN:VEVENT
DTSTART;TZID=Australia/Perth:20260527T090000
DTEND;TZID=Australia/Perth:20260527T110000
DTSTAMP:20260422T051133
CREATED:20260222T063128Z
LAST-MODIFIED:20260222T063128Z
UID:10074665-1779872400-1779879600@buggybuddys.com.au
SUMMARY:Park Play
DESCRIPTION:Join us for a Park Play session and let the fun begin! It’s the perfect opportunity to bring your kids and connect with other local families. Our sessions are packed with exciting activities like sensory play\, big games\, sports equipment\, and much more. Designed for families with children up to 10 years old\, Park Play ensures there’s something for everyone to enjoy. Don’t forget to dress for the weather and bring along some drinks and snacks. We can’t wait to see you there for a time filled with laughter and play! \nAs a drop-in style program\, no registration is required to attend a Park Play session. While the Families team make every effort to support community safety\, Park Play sessions are not supervised\, and parents and carers are responsible for supervising their children at all times.  \n  \nPark Play Days\, Times and Locations\nPark Play is held at various City of Gosnells parks throughout the year. Please note Park Play does not operate on Western Australian public holidays listed on the Government of Western Australia’s website. Click on the green button to view where Park Play is being held during the school term.  \nSchool Terms\nPark Play locations\n  \nSchool Holidays\nCheck out the Park Play (School Holidays) event page to find out when this program will be running during the school holidays. 
URL:https://buggybuddys.com.au/perth-event/park-play/2026-05-27/
CATEGORIES:Family Event,Free,Kids Term Activities,Play,Play in the Park
ATTACH;FMTTYPE=image/png:https://buggybuddys.com.au/wp-content/uploads/2026/02/Park-Play.png
END:VEVENT
BEGIN:VEVENT
DTSTART;TZID=Australia/Perth:20260603T090000
DTEND;TZID=Australia/Perth:20260603T110000
DTSTAMP:20260422T051133
CREATED:20260222T063128Z
LAST-MODIFIED:20260222T063128Z
UID:10074666-1780477200-1780484400@buggybuddys.com.au
SUMMARY:Park Play
DESCRIPTION:Join us for a Park Play session and let the fun begin! It’s the perfect opportunity to bring your kids and connect with other local families. Our sessions are packed with exciting activities like sensory play\, big games\, sports equipment\, and much more. Designed for families with children up to 10 years old\, Park Play ensures there’s something for everyone to enjoy. Don’t forget to dress for the weather and bring along some drinks and snacks. We can’t wait to see you there for a time filled with laughter and play! \nAs a drop-in style program\, no registration is required to attend a Park Play session. While the Families team make every effort to support community safety\, Park Play sessions are not supervised\, and parents and carers are responsible for supervising their children at all times.  \n  \nPark Play Days\, Times and Locations\nPark Play is held at various City of Gosnells parks throughout the year. Please note Park Play does not operate on Western Australian public holidays listed on the Government of Western Australia’s website. Click on the green button to view where Park Play is being held during the school term.  \nSchool Terms\nPark Play locations\n  \nSchool Holidays\nCheck out the Park Play (School Holidays) event page to find out when this program will be running during the school holidays. 
URL:https://buggybuddys.com.au/perth-event/park-play/2026-06-03/
CATEGORIES:Family Event,Free,Kids Term Activities,Play,Play in the Park
ATTACH;FMTTYPE=image/png:https://buggybuddys.com.au/wp-content/uploads/2026/02/Park-Play.png
END:VEVENT
BEGIN:VEVENT
DTSTART;TZID=Australia/Perth:20260610T090000
DTEND;TZID=Australia/Perth:20260610T110000
DTSTAMP:20260422T051133
CREATED:20260222T063128Z
LAST-MODIFIED:20260222T063128Z
UID:10074667-1781082000-1781089200@buggybuddys.com.au
SUMMARY:Park Play
DESCRIPTION:Join us for a Park Play session and let the fun begin! It’s the perfect opportunity to bring your kids and connect with other local families. Our sessions are packed with exciting activities like sensory play\, big games\, sports equipment\, and much more. Designed for families with children up to 10 years old\, Park Play ensures there’s something for everyone to enjoy. Don’t forget to dress for the weather and bring along some drinks and snacks. We can’t wait to see you there for a time filled with laughter and play! \nAs a drop-in style program\, no registration is required to attend a Park Play session. While the Families team make every effort to support community safety\, Park Play sessions are not supervised\, and parents and carers are responsible for supervising their children at all times.  \n  \nPark Play Days\, Times and Locations\nPark Play is held at various City of Gosnells parks throughout the year. Please note Park Play does not operate on Western Australian public holidays listed on the Government of Western Australia’s website. Click on the green button to view where Park Play is being held during the school term.  \nSchool Terms\nPark Play locations\n  \nSchool Holidays\nCheck out the Park Play (School Holidays) event page to find out when this program will be running during the school holidays. 
URL:https://buggybuddys.com.au/perth-event/park-play/2026-06-10/
CATEGORIES:Family Event,Free,Kids Term Activities,Play,Play in the Park
ATTACH;FMTTYPE=image/png:https://buggybuddys.com.au/wp-content/uploads/2026/02/Park-Play.png
END:VEVENT
BEGIN:VEVENT
DTSTART;TZID=Australia/Perth:20260617T090000
DTEND;TZID=Australia/Perth:20260617T110000
DTSTAMP:20260422T051133
CREATED:20260222T063128Z
LAST-MODIFIED:20260222T063128Z
UID:10074668-1781686800-1781694000@buggybuddys.com.au
SUMMARY:Park Play
DESCRIPTION:Join us for a Park Play session and let the fun begin! It’s the perfect opportunity to bring your kids and connect with other local families. Our sessions are packed with exciting activities like sensory play\, big games\, sports equipment\, and much more. Designed for families with children up to 10 years old\, Park Play ensures there’s something for everyone to enjoy. Don’t forget to dress for the weather and bring along some drinks and snacks. We can’t wait to see you there for a time filled with laughter and play! \nAs a drop-in style program\, no registration is required to attend a Park Play session. While the Families team make every effort to support community safety\, Park Play sessions are not supervised\, and parents and carers are responsible for supervising their children at all times.  \n  \nPark Play Days\, Times and Locations\nPark Play is held at various City of Gosnells parks throughout the year. Please note Park Play does not operate on Western Australian public holidays listed on the Government of Western Australia’s website. Click on the green button to view where Park Play is being held during the school term.  \nSchool Terms\nPark Play locations\n  \nSchool Holidays\nCheck out the Park Play (School Holidays) event page to find out when this program will be running during the school holidays. 
URL:https://buggybuddys.com.au/perth-event/park-play/2026-06-17/
CATEGORIES:Family Event,Free,Kids Term Activities,Play,Play in the Park
ATTACH;FMTTYPE=image/png:https://buggybuddys.com.au/wp-content/uploads/2026/02/Park-Play.png
END:VEVENT
BEGIN:VEVENT
DTSTART;TZID=Australia/Perth:20260624T090000
DTEND;TZID=Australia/Perth:20260624T110000
DTSTAMP:20260422T051133
CREATED:20260222T063128Z
LAST-MODIFIED:20260222T063128Z
UID:10074669-1782291600-1782298800@buggybuddys.com.au
SUMMARY:Park Play
DESCRIPTION:Join us for a Park Play session and let the fun begin! It’s the perfect opportunity to bring your kids and connect with other local families. Our sessions are packed with exciting activities like sensory play\, big games\, sports equipment\, and much more. Designed for families with children up to 10 years old\, Park Play ensures there’s something for everyone to enjoy. Don’t forget to dress for the weather and bring along some drinks and snacks. We can’t wait to see you there for a time filled with laughter and play! \nAs a drop-in style program\, no registration is required to attend a Park Play session. While the Families team make every effort to support community safety\, Park Play sessions are not supervised\, and parents and carers are responsible for supervising their children at all times.  \n  \nPark Play Days\, Times and Locations\nPark Play is held at various City of Gosnells parks throughout the year. Please note Park Play does not operate on Western Australian public holidays listed on the Government of Western Australia’s website. Click on the green button to view where Park Play is being held during the school term.  \nSchool Terms\nPark Play locations\n  \nSchool Holidays\nCheck out the Park Play (School Holidays) event page to find out when this program will be running during the school holidays. 
URL:https://buggybuddys.com.au/perth-event/park-play/2026-06-24/
CATEGORIES:Family Event,Free,Kids Term Activities,Play,Play in the Park
ATTACH;FMTTYPE=image/png:https://buggybuddys.com.au/wp-content/uploads/2026/02/Park-Play.png
END:VEVENT
BEGIN:VEVENT
DTSTART;TZID=Australia/Perth:20260701T090000
DTEND;TZID=Australia/Perth:20260701T110000
DTSTAMP:20260422T051133
CREATED:20260222T063128Z
LAST-MODIFIED:20260222T063128Z
UID:10074670-1782896400-1782903600@buggybuddys.com.au
SUMMARY:Park Play
DESCRIPTION:Join us for a Park Play session and let the fun begin! It’s the perfect opportunity to bring your kids and connect with other local families. Our sessions are packed with exciting activities like sensory play\, big games\, sports equipment\, and much more. Designed for families with children up to 10 years old\, Park Play ensures there’s something for everyone to enjoy. Don’t forget to dress for the weather and bring along some drinks and snacks. We can’t wait to see you there for a time filled with laughter and play! \nAs a drop-in style program\, no registration is required to attend a Park Play session. While the Families team make every effort to support community safety\, Park Play sessions are not supervised\, and parents and carers are responsible for supervising their children at all times.  \n  \nPark Play Days\, Times and Locations\nPark Play is held at various City of Gosnells parks throughout the year. Please note Park Play does not operate on Western Australian public holidays listed on the Government of Western Australia’s website. Click on the green button to view where Park Play is being held during the school term.  \nSchool Terms\nPark Play locations\n  \nSchool Holidays\nCheck out the Park Play (School Holidays) event page to find out when this program will be running during the school holidays. 
URL:https://buggybuddys.com.au/perth-event/park-play/2026-07-01/
CATEGORIES:Family Event,Free,Kids Term Activities,Play,Play in the Park
ATTACH;FMTTYPE=image/png:https://buggybuddys.com.au/wp-content/uploads/2026/02/Park-Play.png
END:VEVENT
END:VCALENDAR